Workbook

Sheet Canto 35
A1: P. Forjado | B1: Aligeramiento | C1: h0 | D1: h | E1: b | F1: b0 | G1: h1 | H1: b1 | I1: h2 | J1: b2 | K1: Area | L1: Nº de Orden | M1: Valores | N1: Media | O1: Desv. | P1: Des2 | Q1: Valores
A2: kN/m2 | B2: kN/m2 | C2: cm | D2: cm | E2: cm | F2: cm | G2: cm | H2: cm | I2: cm | J2: cm | K2: cm2 | L2: - | M2: kN/m2 | N2: kN/m2 | O2: kN/m2 | P2: - | Q2: kN/m2
A3: =(K3/10000*2500)/(E3/100)*10/1000+B3 -> 3.4214286 | B3: =I145 -> 0.91428571 | C3: =C4-0.5 -> 4 | D3: =C144 -> 35 | E3: =D144 -> 70 | F3: =E144 -> 12 | G3: 5 | H3: 10 | I3: =D3-C3-G3 -> 26 | J3: =(E3-2*H3-F3)/2 -> 19 | K3: =E3*C3+(D3-C3)*F3+G3*H3 -> 702 | L3: =1 -> 1 | M3: =A3 -> 3.4214286 | N3: =M129 -> 3.6291695 | O3: =M3-N3 -> -0.20774094 | P3: =O3*O3 -> 0.043156298 | Q3: 3.2962302
A4: =(K4/10000*2500)/(E4/100)*10/1000+B4 -> 3.525 | B4: =B3 -> 0.91428571 | C4: =C5-0.5 -> 4.5 | D4: =D3 -> 35 | E4: =E3 -> 70 | F4: =F3 -> 12 | G4: 5 | H4: 10 | I4: =D4-C4-G4 -> 25.5 | J4: =(E4-2*H4-F4)/2 -> 19 | K4: =E4*C4+(D4-C4)*F4+G4*H4 -> 731 | L4: =L3+1 -> 2 | M4: =A4 -> 3.525 | N4: =N3 -> 3.6291695 | O4: =M4-N4 -> -0.10416951 | P4: =O4*O4 -> 0.010851287 | Q4: 3.3156942
A5: =(K5/10000*2500)/(E5/100)*10/1000+B5 -> 3.6285714 | B5: =B4 -> 0.91428571 | C5: =B144 -> 5 | D5: =D4 -> 35 | E5: =E4 -> 70 | F5: =F4 -> 12 | G5: 5 | H5: 10 | I5: =D5-C5-G5 -> 25 | J5: =(E5-2*H5-F5)/2 -> 19 | K5: =E5*C5+(D5-C5)*F5+G5*H5 -> 760 | L5: =L4+1 -> 3 | M5: =A5 -> 3.6285714 | N5: =N4 -> 3.6291695 | O5: =M5-N5 -> -0.00059808267 | P5: =O5*O5 -> 3.5770288e-07 | Q5: 3.3357143
A6: =(K6/10000*2500)/(E6/100)*10/1000+B6 -> 3.7321429 | B6: =B5 -> 0.91428571 | C6: =C5+0.5 -> 5.5 | D6: =D5 -> 35 | E6: =E5 -> 70 | F6: =F5 -> 12 | G6: 5 | H6: 10 | I6: =D6-C6-G6 -> 24.5 | J6: =(E6-2*H6-F6)/2 -> 19 | K6: =E6*C6+(D6-C6)*F6+G6*H6 -> 789 | L6: =L5+1 -> 4 | M6: =A6 -> 3.7321429 | N6: =N5 -> 3.6291695 | O6: =M6-N6 -> 0.10297335 | P6: =O6*O6 -> 0.01060351 | Q6: 3.3378968
A7: =(K7/10000*2500)/(E7/100)*10/1000+B7 -> 3.8357143 | B7: =B6 -> 0.91428571 | C7: =C6+0.5 -> 6 | D7: =D6 -> 35 | E7: =E6 -> 70 | F7: =F6 -> 12 | G7: 5 | H7: 10 | I7: =D7-C7-G7 -> 24 | J7: =(E7-2*H7-F7)/2 -> 19 | K7: =E7*C7+(D7-C7)*F7+G7*H7 -> 818 | L7: =L6+1 -> 5 | M7: =A7 -> 3.8357143 | N7: =N6 -> 3.6291695 | O7: =M7-N7 -> 0.20654477 | P7: =O7*O7 -> 0.042660744 | Q7: 3.3563147
A8: =(K8/10000*2500)/(E8/100)*10/1000+B8 -> 3.4642857 | B8: =B7 -> 0.91428571 | C8: =C3 -> 4 | D8: =D3+1 -> 36 | E8: =E7 -> 70 | F8: =F7 -> 12 | G8: 5 | H8: 10 | I8: =D8-C8-G8 -> 27 | J8: =(E8-2*H8-F8)/2 -> 19 | K8: =E8*C8+(D8-C8)*F8+G8*H8 -> 714 | L8: =L7+1 -> 6 | M8: =A8 -> 3.4642857 | N8: =N7 -> 3.6291695 | O8: =M8-N8 -> -0.1648838 | P8: =O8*O8 -> 0.027186666 | Q8: 3.3579477
A9: =(K9/10000*2500)/(E9/100)*10/1000+B9 -> 3.5678571 | B9: =B8 -> 0.91428571 | C9: =C4 -> 4.5 | D9: =D4+1 -> 36 | E9: =E8 -> 70 | F9: =F8 -> 12 | G9: 5 | H9: 10 | I9: =D9-C9-G9 -> 26.5 | J9: =(E9-2*H9-F9)/2 -> 19 | K9: =E9*C9+(D9-C9)*F9+G9*H9 -> 743 | L9: =L8+1 -> 7 | M9: =A9 -> 3.5678571 | N9: =N8 -> 3.6291695 | O9: =M9-N9 -> -0.061312368 | P9: =O9*O9 -> 0.0037592065 | Q9: 3.377521
A10: =(K10/10000*2500)/(E10/100)*10/1000+B10 -> 3.6714286 | B10: =B9 -> 0.91428571 | C10: =C5 -> 5 | D10: =D5+1 -> 36 | E10: =E9 -> 70 | F10: =F9 -> 12 | G10: 5 | H10: 10 | I10: =D10-C10-G10 -> 26 | J10: =(E10-2*H10-F10)/2 -> 19 | K10: =E10*C10+(D10-C10)*F10+G10*H10 -> 772 | L10: =L9+1 -> 8 | M10: =A10 -> 3.6714286 | N10: =N9 -> 3.6291695 | O10: =M10-N10 -> 0.04225906 | P10: =O10*O10 -> 0.0017858282 | Q10: 3.3785714
A11: =(K11/10000*2500)/(E11/100)*10/1000+B11 -> 3.775 | B11: =B10 -> 0.91428571 | C11: =C6 -> 5.5 | D11: =D6+1 -> 36 | E11: =E10 -> 70 | F11: =F10 -> 12 | G11: 5 | H11: 10 | I11: =D11-C11-G11 -> 25.5 | J11: =(E11-2*H11-F11)/2 -> 19 | K11: =E11*C11+(D11-C11)*F11+G11*H11 -> 801 | L11: =L10+1 -> 9 | M11: =A11 -> 3.775 | N11: =N10 -> 3.6291695 | O11: =M11-N11 -> 0.14583049 | P11: =O11*O11 -> 0.021266531 | Q11: 3.3795635
A12: =(K12/10000*2500)/(E12/100)*10/1000+B12 -> 3.8785714 | B12: =B11 -> 0.91428571 | C12: =C7 -> 6 | D12: =D7+1 -> 36 | E12: =E11 -> 70 | F12: =F11 -> 12 | G12: 5 | H12: 10 | I12: =D12-C12-G12 -> 25 | J12: =(E12-2*H12-F12)/2 -> 19 | K12: =E12*C12+(D12-C12)*F12+G12*H12 -> 830 | L12: =L11+1 -> 10 | M12: =A12 -> 3.8785714 | N12: =N11 -> 3.6291695 | O12: =M12-N12 -> 0.24940192 | P12: =O12*O12 -> 0.062201316 | Q12: 3.399793
A13: =(K13/10000*2500)/(E13/100)*10/1000+B13 -> 3.5071429 | B13: =B12 -> 0.91428571 | C13: =C3 -> 4 | D13: =D3+2 -> 37 | E13: =E12 -> 70 | F13: =F12 -> 12 | G13: 5 | H13: 10 | I13: =D13-C13-G13 -> 28 | J13: =(E13-2*H13-F13)/2 -> 19 | K13: =E13*C13+(D13-C13)*F13+G13*H13 -> 726 | L13: =L12+1 -> 11 | M13: =A13 -> 3.5071429 | N13: =N12 -> 3.6291695 | O13: =M13-N13 -> -0.12202665 | P13: =O13*O13 -> 0.014890504 | Q13: 3.4002012
A14: =(K14/10000*2500)/(E14/100)*10/1000+B14 -> 3.6107143 | B14: =B13 -> 0.91428571 | C14: =C4 -> 4.5 | D14: =D4+2 -> 37 | E14: =E13 -> 70 | F14: =F13 -> 12 | G14: 5 | H14: 10 | I14: =D14-C14-G14 -> 27.5 | J14: =(E14-2*H14-F14)/2 -> 19 | K14: =E14*C14+(D14-C14)*F14+G14*H14 -> 755 | L14: =L13+1 -> 12 | M14: =A14 -> 3.6107143 | N14: =N13 -> 3.6291695 | O14: =M14-N14 -> -0.018455226 | P14: =O14*O14 -> 0.00034059535 | Q14: 3.4003968
A15: =(K15/10000*2500)/(E15/100)*10/1000+B15 -> 3.7142857 | B15: =B14 -> 0.91428571 | C15: =C5 -> 5 | D15: =D5+2 -> 37 | E15: =E14 -> 70 | F15: =F14 -> 12 | G15: 5 | H15: 10 | I15: =D15-C15-G15 -> 27 | J15: =(E15-2*H15-F15)/2 -> 19 | K15: =E15*C15+(D15-C15)*F15+G15*H15 -> 784 | L15: =L14+1 -> 13 | M15: =A15 -> 3.7142857 | N15: =N14 -> 3.6291695 | O15: =M15-N15 -> 0.085116203 | P15: =O15*O15 -> 0.007244768 | Q15: 3.4195674
A16: =(K16/10000*2500)/(E16/100)*10/1000+B16 -> 3.8178571 | B16: =B15 -> 0.91428571 | C16: =C6 -> 5.5 | D16: =D6+2 -> 37 | E16: =E15 -> 70 | F16: =F15 -> 12 | G16: 5 | H16: 10 | I16: =D16-C16-G16 -> 26.5 | J16: =(E16-2*H16-F16)/2 -> 19 | K16: =E16*C16+(D16-C16)*F16+G16*H16 -> 813 | L16: =L15+1 -> 14 | M16: =A16 -> 3.8178571 | N16: =N15 -> 3.6291695 | O16: =M16-N16 -> 0.18868763 | P16: =O16*O16 -> 0.035603022 | Q16: 3.4212302
A17: =(K17/10000*2500)/(E17/100)*10/1000+B17 -> 3.9214286 | B17: =B16 -> 0.91428571 | C17: =C7 -> 6 | D17: =D7+2 -> 37 | E17: =E16 -> 70 | F17: =F16 -> 12 | G17: 5 | H17: 10 | I17: =D17-C17-G17 -> 26 | J17: =(E17-2*H17-F17)/2 -> 19 | K17: =E17*C17+(D17-C17)*F17+G17*H17 -> 842 | L17: =L16+1 -> 15 | M17: =A17 -> 3.9214286 | N17: =N16 -> 3.6291695 | O17: =M17-N17 -> 0.29225906 | P17: =O17*O17 -> 0.085415358 | Q17: 3.4214286
A18: =(K18/10000*2500)/(E18/100)*10/1000+B18 -> 3.3785714 | B18: =B17 -> 0.91428571 | C18: =C3 -> 4 | D18: =D3-1 -> 34 | E18: =E17 -> 70 | F18: =F17 -> 12 | G18: 5 | H18: 10 | I18: =D18-C18-G18 -> 25 | J18: =(E18-2*H18-F18)/2 -> 19 | K18: =E18*C18+(D18-C18)*F18+G18*H18 -> 690 | L18: =L17+1 -> 16 | M18: =A18 -> 3.3785714 | N18: =N17 -> 3.6291695 | O18: =M18-N18 -> -0.25059808 | P18: =O18*O18 -> 0.062799399 | Q18: 3.4216387
A19: =(K19/10000*2500)/(E19/100)*10/1000+B19 -> 3.4821429 | B19: =B18 -> 0.91428571 | C19: =C4 -> 4.5 | D19: =D4-1 -> 34 | E19: =E18 -> 70 | F19: =F18 -> 12 | G19: 5 | H19: 10 | I19: =D19-C19-G19 -> 24.5 | J19: =(E19-2*H19-F19)/2 -> 19 | K19: =E19*C19+(D19-C19)*F19+G19*H19 -> 719 | L19: =L18+1 -> 17 | M19: =A19 -> 3.4821429 | N19: =N18 -> 3.6291695 | O19: =M19-N19 -> -0.14702665 | P19: =O19*O19 -> 0.021616837 | Q19: 3.4392857
A20: =(K20/10000*2500)/(E20/100)*10/1000+B20 -> 3.5857143 | B20: =B19 -> 0.91428571 | C20: =C5 -> 5 | D20: =D5-1 -> 34 | E20: =E19 -> 70 | F20: =F19 -> 12 | G20: 5 | H20: 10 | I20: =D20-C20-G20 -> 24 | J20: =(E20-2*H20-F20)/2 -> 19 | K20: =E20*C20+(D20-C20)*F20+G20*H20 -> 748 | L20: =L19+1 -> 18 | M20: =A20 -> 3.5857143 | N20: =N19 -> 3.6291695 | O20: =M20-N20 -> -0.043455226 | P20: =O20*O20 -> 0.0018883566 | Q20: 3.4420635
A21: =(K21/10000*2500)/(E21/100)*10/1000+B21 -> 3.6892857 | B21: =B20 -> 0.91428571 | C21: =C6 -> 5.5 | D21: =D6-1 -> 34 | E21: =E20 -> 70 | F21: =F20 -> 12 | G21: 5 | H21: 10 | I21: =D21-C21-G21 -> 23.5 | J21: =(E21-2*H21-F21)/2 -> 19 | K21: =E21*C21+(D21-C21)*F21+G21*H21 -> 777 | L21: =L20+1 -> 19 | M21: =A21 -> 3.6892857 | N21: =N20 -> 3.6291695 | O21: =M21-N21 -> 0.060116203 | P21: =O21*O21 -> 0.0036139579 | Q21: 3.4424547
A22: =(K22/10000*2500)/(E22/100)*10/1000+B22 -> 3.7928571 | B22: =B21 -> 0.91428571 | C22: =C7 -> 6 | D22: =D7-1 -> 34 | E22: =E21 -> 70 | F22: =F21 -> 12 | G22: 5 | H22: 10 | I22: =D22-C22-G22 -> 23 | J22: =(E22-2*H22-F22)/2 -> 19 | K22: =E22*C22+(D22-C22)*F22+G22*H22 -> 806 | L22: =L21+1 -> 20 | M22: =A22 -> 3.7928571 | N22: =N21 -> 3.6291695 | O22: =M22-N22 -> 0.16368763 | P22: =O22*O22 -> 0.026793641 | Q22: 3.4432712
A23: =(K23/10000*2500)/(E23/100)*10/1000+B23 -> 3.3357143 | B23: =B22 -> 0.91428571 | C23: =C3 -> 4 | D23: =D3-2 -> 33 | E23: =E22 -> 70 | F23: =F22 -> 12 | G23: 5 | H23: 10 | I23: =D23-C23-G23 -> 24 | J23: =(E23-2*H23-F23)/2 -> 19 | K23: =E23*C23+(D23-C23)*F23+G23*H23 -> 678 | L23: =L22+1 -> 21 | M23: =A23 -> 3.3357143 | N23: =N22 -> 3.6291695 | O23: =M23-N23 -> -0.29345523 | P23: =O23*O23 -> 0.086115969 | Q23: 3.4595756
A24: =(K24/10000*2500)/(E24/100)*10/1000+B24 -> 3.4392857 | B24: =B23 -> 0.91428571 | C24: =C4 -> 4.5 | D24: =D4-2 -> 33 | E24: =E23 -> 70 | F24: =F23 -> 12 | G24: 5 | H24: 10 | I24: =D24-C24-G24 -> 23.5 | J24: =(E24-2*H24-F24)/2 -> 19 | K24: =E24*C24+(D24-C24)*F24+G24*H24 -> 707 | L24: =L23+1 -> 22 | M24: =A24 -> 3.4392857 | N24: =N23 -> 3.6291695 | O24: =M24-N24 -> -0.1898838 | P24: =O24*O24 -> 0.036055856 | Q24: 3.4618209
A25: =(K25/10000*2500)/(E25/100)*10/1000+B25 -> 3.5428571 | B25: =B24 -> 0.91428571 | C25: =C5 -> 5 | D25: =D5-2 -> 33 | E25: =E24 -> 70 | F25: =F24 -> 12 | G25: 5 | H25: 10 | I25: =D25-C25-G25 -> 23 | J25: =(E25-2*H25-F25)/2 -> 19 | K25: =E25*C25+(D25-C25)*F25+G25*H25 -> 736 | L25: =L24+1 -> 23 | M25: =A25 -> 3.5428571 | N25: =N24 -> 3.6291695 | O25: =M25-N25 -> -0.086312368 | P25: =O25*O25 -> 0.0074498249 | Q25: 3.4628968
A26: =(K26/10000*2500)/(E26/100)*10/1000+B26 -> 3.6464286 | B26: =B25 -> 0.91428571 | C26: =C6 -> 5.5 | D26: =D6-2 -> 33 | E26: =E25 -> 70 | F26: =F25 -> 12 | G26: 5 | H26: 10 | I26: =D26-C26-G26 -> 22.5 | J26: =(E26-2*H26-F26)/2 -> 19 | K26: =E26*C26+(D26-C26)*F26+G26*H26 -> 765 | L26: =L25+1 -> 24 | M26: =A26 -> 3.6464286 | N26: =N25 -> 3.6291695 | O26: =M26-N26 -> 0.01725906 | P26: =O26*O26 -> 0.00029787516 | Q26: 3.4642857
A27: =(K27/10000*2500)/(E27/100)*10/1000+B27 -> 3.75 | B27: =B26 -> 0.91428571 | C27: =C7 -> 6 | D27: =D7-2 -> 33 | E27: =E26 -> 70 | F27: =F26 -> 12 | G27: 5 | H27: 10 | I27: =D27-C27-G27 -> 22 | J27: =(E27-2*H27-F27)/2 -> 19 | K27: =E27*C27+(D27-C27)*F27+G27*H27 -> 794 | L27: =L26+1 -> 25 | M27: =A27 -> 3.75 | N27: =N26 -> 3.6291695 | O27: =M27-N27 -> 0.12083049 | P27: =O27*O27 -> 0.014600007 | Q27: 3.4657563
L28: =L27+1 -> 26 | M28: =A31 -> 3.4002012 | N28: =N27 -> 3.6291695 | O28: =M28-N28 -> -0.2289683 | P28: =O28*O28 -> 0.052426484 | Q28: 3.4804622
A29: P. Forjado | B29: Aligeramiento | C29: h0 | D29: h | E29: b | F29: b0 | G29: h1 | H29: b1 | I29: h2 | J29: b2 | K29: Area | L29: =L28+1 -> 27 | M29: =A32 -> 3.5040744 | N29: =N28 -> 3.6291695 | O29: =M29-N29 -> -0.12509506 | P29: =O29*O29 -> 0.015648775 | Q29: 3.4821429
A30: kN/m2 | B30: kN/m2 | C30: cm | D30: cm | E30: cm | F30: cm | G30: cm | H30: cm | I30: cm | J30: cm | K30: cm2 | L30: =L29+1 -> 28 | M30: =A33 -> 3.6079477 | N30: =N29 -> 3.6291695 | O30: =M30-N30 -> -0.021221825 | P30: =O30*O30 -> 0.00045036586 | Q30: 3.4837302
A31: =(K31/10000*2500)/(E31/100)*10/1000+B31 -> 3.4002012 | B31: =I145 -> 0.91428571 | C31: =C3 -> 4 | D31: =D3 -> 35 | E31: =E3+1 -> 71 | F31: =F3 -> 12 | G31: 5 | H31: 10 | I31: =D31-C31-G31 -> 26 | J31: =(E31-2*H31-F31)/2 -> 19.5 | K31: =E31*C31+(D31-C31)*F31+G31*H31 -> 706 | L31: =L30+1 -> 29 | M31: =A34 -> 3.7118209 | N31: =N30 -> 3.6291695 | O31: =M31-N31 -> 0.082651414 | P31: =O31*O31 -> 0.0068312563 | Q31: 3.4847082
A32: =(K32/10000*2500)/(E32/100)*10/1000+B32 -> 3.5040744 | B32: =B31 -> 0.91428571 | C32: =C4 -> 4.5 | D32: =D4 -> 35 | E32: =E31 -> 71 | F32: =F4 -> 12 | G32: 5 | H32: 10 | I32: =D32-C32-G32 -> 25.5 | J32: =(E32-2*H32-F32)/2 -> 19.5 | K32: =E32*C32+(D32-C32)*F32+G32*H32 -> 735.5 | L32: =L31+1 -> 30 | M32: =A35 -> 3.8156942 | N32: =N31 -> 3.6291695 | O32: =M32-N32 -> 0.18652465 | P32: =O32*O32 -> 0.034791446 | Q32: 3.4867495
A33: =(K33/10000*2500)/(E33/100)*10/1000+B33 -> 3.6079477 | B33: =B32 -> 0.91428571 | C33: =C5 -> 5 | D33: =D5 -> 35 | E33: =E32 -> 71 | F33: =F5 -> 12 | G33: 5 | H33: 10 | I33: =D33-C33-G33 -> 25 | J33: =(E33-2*H33-F33)/2 -> 19.5 | K33: =E33*C33+(D33-C33)*F33+G33*H33 -> 765 | L33: =L32+1 -> 31 | M33: =A36 -> 3.4424547 | N33: =N32 -> 3.6291695 | O33: =M33-N33 -> -0.18671478 | P33: =O33*O33 -> 0.03486241 | Q33: 3.5030538
A34: =(K34/10000*2500)/(E34/100)*10/1000+B34 -> 3.7118209 | B34: =B33 -> 0.91428571 | C34: =C6 -> 5.5 | D34: =D6 -> 35 | E34: =E33 -> 71 | F34: =F6 -> 12 | G34: 5 | H34: 10 | I34: =D34-C34-G34 -> 24.5 | J34: =(E34-2*H34-F34)/2 -> 19.5 | K34: =E34*C34+(D34-C34)*F34+G34*H34 -> 794.5 | L34: =L33+1 -> 32 | M34: =A37 -> 3.546328 | N34: =N33 -> 3.6291695 | O34: =M34-N34 -> -0.082841543 | P34: =O34*O34 -> 0.0068627213 | Q34: 3.5040744
A35: =(K35/10000*2500)/(E35/100)*10/1000+B35 -> 3.8156942 | B35: =B34 -> 0.91428571 | C35: =C7 -> 6 | D35: =D7 -> 35 | E35: =E34 -> 71 | F35: =F7 -> 12 | G35: 5 | H35: 10 | I35: =D35-C35-G35 -> 24 | J35: =(E35-2*H35-F35)/2 -> 19.5 | K35: =E35*C35+(D35-C35)*F35+G35*H35 -> 824 | L35: =L34+1 -> 33 | M35: =A38 -> 3.6502012 | N35: =N34 -> 3.6291695 | O35: =M35-N35 -> 0.021031696 | P35: =O35*O35 -> 0.00044233224 | Q35: 3.5045635
A36: =(K36/10000*2500)/(E36/100)*10/1000+B36 -> 3.4424547 | B36: =B35 -> 0.91428571 | C36: =C8 -> 4 | D36: =D8 -> 36 | E36: =E35 -> 71 | F36: =F8 -> 12 | G36: 5 | H36: 10 | I36: =D36-C36-G36 -> 27 | J36: =(E36-2*H36-F36)/2 -> 19.5 | K36: =E36*C36+(D36-C36)*F36+G36*H36 -> 718 | L36: =L35+1 -> 34 | M36: =A39 -> 3.7540744 | N36: =N35 -> 3.6291695 | O36: =M36-N36 -> 0.12490494 | P36: =O36*O36 -> 0.015601243 | Q36: 3.5071429
A37: =(K37/10000*2500)/(E37/100)*10/1000+B37 -> 3.546328 | B37: =B36 -> 0.91428571 | C37: =C9 -> 4.5 | D37: =D9 -> 36 | E37: =E36 -> 71 | F37: =F9 -> 12 | G37: 5 | H37: 10 | I37: =D37-C37-G37 -> 26.5 | J37: =(E37-2*H37-F37)/2 -> 19.5 | K37: =E37*C37+(D37-C37)*F37+G37*H37 -> 747.5 | L37: =L36+1 -> 35 | M37: =A40 -> 3.8579477 | N37: =N36 -> 3.6291695 | O37: =M37-N37 -> 0.22877817 | P37: =O37*O37 -> 0.052339453 | Q37: 3.5098739
A38: =(K38/10000*2500)/(E38/100)*10/1000+B38 -> 3.6502012 | B38: =B37 -> 0.91428571 | C38: =C10 -> 5 | D38: =D10 -> 36 | E38: =E37 -> 71 | F38: =F10 -> 12 | G38: 5 | H38: 10 | I38: =D38-C38-G38 -> 26 | J38: =(E38-2*H38-F38)/2 -> 19.5 | K38: =E38*C38+(D38-C38)*F38+G38*H38 -> 777 | L38: =L37+1 -> 36 | M38: =A41 -> 3.4847082 | N38: =N37 -> 3.6291695 | O38: =M38-N38 -> -0.14446126 | P38: =O38*O38 -> 0.020869056 | Q38: 3.5234406
A39: =(K39/10000*2500)/(E39/100)*10/1000+B39 -> 3.7540744 | B39: =B38 -> 0.91428571 | C39: =C11 -> 5.5 | D39: =D11 -> 36 | E39: =E38 -> 71 | F39: =F11 -> 12 | G39: 5 | H39: 10 | I39: =D39-C39-G39 -> 25.5 | J39: =(E39-2*H39-F39)/2 -> 19.5 | K39: =E39*C39+(D39-C39)*F39+G39*H39 -> 806.5 | L39: =L38+1 -> 37 | M39: =A42 -> 3.5885815 | N39: =N38 -> 3.6291695 | O39: =M39-N39 -> -0.040588022 | P39: =O39*O39 -> 0.0016473876 | Q39: 3.5245798
A40: =(K40/10000*2500)/(E40/100)*10/1000+B40 -> 3.8579477 | B40: =B39 -> 0.91428571 | C40: =C12 -> 6 | D40: =D12 -> 36 | E40: =E39 -> 71 | F40: =F12 -> 12 | G40: 5 | H40: 10 | I40: =D40-C40-G40 -> 25 | J40: =(E40-2*H40-F40)/2 -> 19.5 | K40: =E40*C40+(D40-C40)*F40+G40*H40 -> 836 | L40: =L39+1 -> 38 | M40: =A43 -> 3.6924547 | N40: =N39 -> 3.6291695 | O40: =M40-N40 -> 0.063285217 | P40: =O40*O40 -> 0.0040050187 | Q40: 3.525
A41: =(K41/10000*2500)/(E41/100)*10/1000+B41 -> 3.4847082 | B41: =B40 -> 0.91428571 | C41: =C13 -> 4 | D41: =D13 -> 37 | E41: =E40 -> 71 | F41: =F13 -> 12 | G41: 5 | H41: 10 | I41: =D41-C41-G41 -> 28 | J41: =(E41-2*H41-F41)/2 -> 19.5 | K41: =E41*C41+(D41-C41)*F41+G41*H41 -> 730 | L41: =L40+1 -> 39 | M41: =A44 -> 3.796328 | N41: =N40 -> 3.6291695 | O41: =M41-N41 -> 0.16715846 | P41: =O41*O41 -> 0.02794195 | Q41: 3.5253968
A42: =(K42/10000*2500)/(E42/100)*10/1000+B42 -> 3.5885815 | B42: =B41 -> 0.91428571 | C42: =C14 -> 4.5 | D42: =D14 -> 37 | E42: =E41 -> 71 | F42: =F14 -> 12 | G42: 5 | H42: 10 | I42: =D42-C42-G42 -> 27.5 | J42: =(E42-2*H42-F42)/2 -> 19.5 | K42: =E42*C42+(D42-C42)*F42+G42*H42 -> 759.5 | L42: =L41+1 -> 40 | M42: =A45 -> 3.9002012 | N42: =N41 -> 3.6291695 | O42: =M42-N42 -> 0.2710317 | P42: =O42*O42 -> 0.07345818 | Q42: 3.5302277
A43: =(K43/10000*2500)/(E43/100)*10/1000+B43 -> 3.6924547 | B43: =B42 -> 0.91428571 | C43: =C15 -> 5 | D43: =D15 -> 37 | E43: =E42 -> 71 | F43: =F15 -> 12 | G43: 5 | H43: 10 | I43: =D43-C43-G43 -> 27 | J43: =(E43-2*H43-F43)/2 -> 19.5 | K43: =E43*C43+(D43-C43)*F43+G43*H43 -> 789 | L43: =L42+1 -> 41 | M43: =A46 -> 3.3579477 | N43: =N42 -> 3.6291695 | O43: =M43-N43 -> -0.27122183 | P43: =O43*O43 -> 0.073561278 | Q43: 3.5428571
... A52: =(K52/10000*2500)/(E52/100)*10/1000+B52 -> 3.4195674 | B52: =B51 -> 0.91428571 | C52: =C24 -> 4.5 | D52: =D24 -> 33 | E52: =E51 -> 71 | F52: =F24 -> 12 | G52: 5 | H52: 10 | I52: =D52-C52-G52 -> 23.5 | J52: =(E52-2*H52-F52)/2 -> 19.5 | K52: =E52*C52+(D52-C52)*F52+G52*H52 -> 711.5 | L52: =L51+1 -> 50 | M52: =A55 -> 3.7311871 | N52: =N51 -> 3.6291695 | O52: =M52-N52 -> 0.10201761 | P52: =O52*O52 -> 0.010407593 | Q52: 3.5686975
A53: =(K53/10000*2500)/(E53/100)*10/1000+B53 -> 3.5234406 | B53: =B52 -> 0.91428571 | C53: =C25 -> 5 | D53: =D25 -> 33 | E53: =E52 -> 71 | F53: =F25 -> 12 | G53: 5 | H53: 10 | I53: =D53-C53-G53 -> 23 | J53: =(E53-2*H53-F53)/2 -> 19.5 | K53: =E53*C53+(D53-C53)*F53+G53*H53 -> 741 | L53: =L52+1 -> 51 | M53: =A59 -> 3.3795635 | N53: =N52 -> 3.6291695 | O53: =M53-N53 -> -0.24960602 | P53: =O53*O53 -> 0.062303165 | Q53: 3.5834034
A54: =(K54/10000*2500)/(E54/100)*10/1000+B54 -> 3.6273139 | B54: =B53 -> 0.91428571 | C54: =C26 -> 5.5 | D54: =D26 -> 33 | E54: =E53 -> 71 | F54: =F26 -> 12 | G54: 5 | H54: 10 | I54: =D54-C54-G54 -> 22.5 | J54: =(E54-2*H54-F54)/2 -> 19.5 | K54: =E54*C54+(D54-C54)*F54+G54*H54 -> 770.5 | L54: =L53+1 -> 52 | M54: =A60 -> 3.4837302 | N54: =N53 -> 3.6291695 | O54: =M54-N54 -> -0.14543935 | P54: =O54*O54 -> 0.021152605 | Q54: 3.5857143
A55: =(K55/10000*2500)/(E55/100)*10/1000+B55 -> 3.7311871 | B55: =B54 -> 0.91428571 | C55: =C27 -> 6 | D55: =D27 -> 33 | E55: =E54 -> 71 | F55: =F27 -> 12 | G55: 5 | H55: 10 | I55: =D55-C55-G55 -> 22 | J55: =(E55-2*H55-F55)/2 -> 19.5 | K55: =E55*C55+(D55-C55)*F55+G55*H55 -> 800 | L55: =L54+1 -> 53 | M55: =A61 -> 3.5878968 | N55: =N54 -> 3.6291695 | O55: =M55-N55 -> -0.041272686 | P55: =O55*O55 -> 0.0017034346 | Q55: 3.5878968
L56: =L55+1 -> 54 | M56: =A62 -> 3.6920635 | N56: =N55 -> 3.6291695 | O56: =M56-N56 -> 0.062893981 | P56: =O56*O56 -> 0.0039556528 | Q56: 3.5885815
A57: P. Forjado | B57: Aligeramiento | C57: h0 | D57: h | E57: b | F57: b0 | G57: h1 | H57: b1 | I57: h2 | J57: b2 | K57: Area | L57: =L56+1 -> 55 | M57: =A63 -> 3.7962302 | N57: =N56 -> 3.6291695 | O57: =M57-N57 -> 0.16706065 | P57: =O57*O57 -> 0.02790926 | Q57: 3.5900104
A58: kN/m2 | B58: kN/m2 | C58: cm | D58: cm | E58: cm | F58: cm | G58: cm | H58: cm | I58: cm | J58: cm | K58: cm2 | L58: =L57+1 -> 56 | M58: =A64 -> 3.4212302 | N58: =N57 -> 3.6291695 | O58: =M58-N58 -> -0.20793935 | P58: =O58*O58 -> 0.043238774 | Q58: 3.6063147
A59: =(K59/10000*2500)/(E59/100)*10/1000+B59 -> 3.3795635 | B59: =I145 -> 0.91428571 | C59: =C31 -> 4 | D59: =D3 -> 35 | E59: =E3+2 -> 72 | F59: =F3 -> 12 | G59: 5 | H59: 10 | I59: =D59-C59-G59 -> 26 | J59: =(E59-2*H59-F59)/2 -> 20 | K59: =E59*C59+(D59-C59)*F59+G59*H59 -> 710 | L59: =L58+1 -> 57 | M59: =A65 -> 3.5253968 | N59: =N58 -> 3.6291695 | O59: =M59-N59 -> -0.10377269 | P59: =O59*O59 -> 0.01076877 | Q59: 3.6079477
A60: =(K60/10000*2500)/(E60/100)*10/1000+B60 -> 3.4837302 | B60: =B59 -> 0.91428571 | C60: =C32 -> 4.5 | D60: =D4 -> 35 | E60: =E59 -> 72 | F60: =F4 -> 12 | G60: 5 | H60: 10 | I60: =D60-C60-G60 -> 25.5 | J60: =(E60-2*H60-F60)/2 -> 20 | K60: =E60*C60+(D60-C60)*F60+G60*H60 -> 740 | L60: =L59+1 -> 58 | M60: =A66 -> 3.6295635 | N60: =N59 -> 3.6291695 | O60: =M60-N60 -> 0.00039398082 | P60: =O60*O60 -> 1.5522089e-07 | Q60: 3.6087302
A61: =(K61/10000*2500)/(E61/100)*10/1000+B61 -> 3.5878968 | B61: =B60 -> 0.91428571 | C61: =C33 -> 5 | D61: =D5 -> 35 | E61: =E60 -> 72 | F61: =F5 -> 12 | G61: 5 | H61: 10 | I61: =D61-C61-G61 -> 25 | J61: =(E61-2*H61-F61)/2 -> 20 | K61: =E61*C61+(D61-C61)*F61+G61*H61 -> 770 | L61: =L60+1 -> 59 | M61: =A67 -> 3.7337302 | N61: =N60 -> 3.6291695 | O61: =M61-N61 -> 0.10456065 | P61: =O61*O61 -> 0.010932929 | Q61: 3.6107143
A62: =(K62/10000*2500)/(E62/100)*10/1000+B62 -> 3.6920635 | B62: =B61 -> 0.91428571 | C62: =C34 -> 5.5 | D62: =D6 -> 35 | E62: =E61 -> 72 | F62: =F6 -> 12 | G62: 5 | H62: 10 | I62: =D62-C62-G62 -> 24.5 | J62: =(E62-2*H62-F62)/2 -> 20 | K62: =E62*C62+(D62-C62)*F62+G62*H62 -> 800 | L62: =L61+1 -> 60 | M62: =A68 -> 3.8378968 | N62: =N61 -> 3.6291695 | O62: =M62-N62 -> 0.20872731 | P62: =O62*O62 -> 0.043567092 | Q62: 3.6128151
A63: =(K63/10000*2500)/(E63/100)*10/1000+B63 -> 3.7962302 | B63: =B62 -> 0.91428571 | C63: =C35 -> 6 | D63: =D7 -> 35 | E63: =E62 -> 72 | F63: =F7 -> 12 | G63: 5 | H63: 10 | I63: =D63-C63-G63 -> 24 | J63: =(E63-2*H63-F63)/2 -> 20 | K63: =E63*C63+(D63-C63)*F63+G63*H63 -> 830 | L63: =L62+1 -> 61 | M63: =A69 -> 3.4628968 | N63: =N62 -> 3.6291695 | O63: =M63-N63 -> -0.16627269 | P63: =O63*O63 -> 0.027646606 | Q63: 3.6273139
A64: =(K64/10000*2500)/(E64/100)*10/1000+B64 -> 3.4212302 | B64: =B63 -> 0.91428571 | C64: =C36 -> 4 | D64: =D8 -> 36 | E64: =E63 -> 72 | F64: =F8 -> 12 | G64: 5 | H64: 10 | I64: =D64-C64-G64 -> 27 | J64: =(E64-2*H64-F64)/2 -> 20 | K64: =E64*C64+(D64-C64)*F64+G64*H64 -> 722 | L64: =L63+1 -> 62 | M64: =A70 -> 3.5670635 | N64: =N63 -> 3.6291695 | O64: =M64-N64 -> -0.062106019 | P64: =O64*O64 -> 0.0038571576 | Q64: 3.627521
A65: =(K65/10000*2500)/(E65/100)*10/1000+B65 -> 3.5253968 | B65: =B64 -> 0.91428571 | C65: =C37 -> 4.5 | D65: =D9 -> 36 | E65: =E64 -> 72 | F65: =F9 -> 12 | G65: 5 | H65: 10 | I65: =D65-C65-G65 -> 26.5 | J65: =(E65-2*H65-F65)/2 -> 20 | K65: =E65*C65+(D65-C65)*F65+G65*H65 -> 752 | L65: =L64+1 -> 63 | M65: =A71 -> 3.6712302 | N65: =N64 -> 3.6291695 | O65: =M65-N65 -> 0.042060647 | P65: =O65*O65 -> 0.0017690981 | Q65: 3.6285714
A66: =(K66/10000*2500)/(E66/100)*10/1000+B66 -> 3.6295635 | B66: =B65 -> 0.91428571 | C66: =C38 -> 5 | D66: =D10 -> 36 | E66: =E65 -> 72 | F66: =F10 -> 12 | G66: 5 | H66: 10 | I66: =D66-C66-G66 -> 26 | J66: =(E66-2*H66-F66)/2 -> 20 | K66: =E66*C66+(D66-C66)*F66+G66*H66 -> 782 | L66: =L65+1 -> 64 | M66: =A72 -> 3.7753968 | N66: =N65 -> 3.6291695 | O66: =M66-N66 -> 0.14622731 | P66: =O66*O66 -> 0.021382427 | Q66: 3.6295635
A67: =(K67/10000*2500)/(E67/100)*10/1000+B67 -> 3.7337302 | B67: =B66 -> 0.91428571 | C67: =C39 -> 5.5 | D67: =D11 -> 36 | E67: =E66 -> 72 | F67: =F11 -> 12 | G67: 5 | H67: 10 | I67: =D67-C67-G67 -> 25.5 | J67: =(E67-2*H67-F67)/2 -> 20 | K67: =E67*C67+(D67-C67)*F67+G67*H67 -> 812 | L67: =L66+1 -> 65 | M67: =A73 -> 3.8795635 | N67: =N66 -> 3.6291695 | O67: =M67-N67 -> 0.25039398 | P67: =O67*O67 -> 0.062697146 | Q67: 3.6334886
A68: =(K68/10000*2500)/(E68/100)*10/1000+B68 -> 3.8378968 | B68: =B67 -> 0.91428571 | C68: =C40 -> 6 | D68: =D12 -> 36 | E68: =E67 -> 72 | F68: =F12 -> 12 | G68: 5 | H68: 10 | I68: =D68-C68-G68 -> 25 | J68: =(E68-2*H68-F68)/2 -> 20 | K68: =E68*C68+(D68-C68)*F68+G68*H68 -> 842 | L68: =L67+1 -> 66 | M68: =A74 -> 3.3378968 | N68: =N67 -> 3.6291695 | O68: =M68-N68 -> -0.29127269 | P68: =O68*O68 -> 0.084839778 | Q68: 3.6464286
A69: =(K69/10000*2500)/(E69/100)*10/1000+B69 -> 3.4628968 | B69: =B68 -> 0.91428571 | C69: =C41 -> 4 | D69: =D13 -> 37 | E69: =E68 -> 72 | F69: =F13 -> 12 | G69: 5 | H69: 10 | I69: =D69-C69-G69 -> 28 | J69: =(E69-2*H69-F69)/2 -> 20 | K69: =E69*C69+(D69-C69)*F69+G69*H69 -> 734 | L69: =L68+1 -> 67 | M69: =A75 -> 3.4420635 | N69: =N68 -> 3.6291695 | O69: =M69-N69 -> -0.18710602 | P69: =O69*O69 -> 0.035008662 | Q69: 3.649793
A70: =(K70/10000*2500)/(E70/100)*10/1000+B70 -> 3.5670635 | B70: =B69 -> 0.91428571 | C70: =C42 -> 4.5 | D70: =D14 -> 37 | E70: =E69 -> 72 | F70: =F14 -> 12 | G70: 5 | H70: 10 | I70: =D70-C70-G70 -> 27.5 | J70: =(E70-2*H70-F70)/2 -> 20 | K70: =E70*C70+(D70-C70)*F70+G70*H70 -> 764 | L70: =L69+1 -> 68 | M70: =A76 -> 3.5462302 | N70: =N69 -> 3.6291695 | O70: =M70-N70 -> -0.082939353 | P70: =O70*O70 -> 0.0068789362 | Q70: 3.6502012
A71: =(K71/10000*2500)/(E71/100)*10/1000+B71 -> 3.6712302 | B71: =B70 -> 0.91428571 | C71: =C43 -> 5 | D71: =D15 -> 37 | E71: =E70 -> 72 | F71: =F15 -> 12 | G71: 5 | H71: 10 | I71: =D71-C71-G71 -> 27 | J71: =(E71-2*H71-F71)/2 -> 20 | K71: =E71*C71+(D71-C71)*F71+G71*H71 -> 794 | L71: =L70+1 -> 69 | M71: =A77 -> 3.6503968 | N71: =N70 -> 3.6291695 | O71: =M71-N71 -> 0.021227314 | P71: =O71*O71 -> 0.00045059887 | Q71: 3.6503968
... A77: =(K77/10000*2500)/(E77/100)*10/1000+B77 -> 3.6503968 | B77: =B76 -> 0.91428571 | C77: =C49 -> 5.5 | D77: =D21 -> 34 | E77: =E76 -> 72 | F77: =F21 -> 12 | G77: 5 | H77: 10 | I77: =D77-C77-G77 -> 23.5 | J77: =(E77-2*H77-F77)/2 -> 20 | K77: =E77*C77+(D77-C77)*F77+G77*H77 -> 788 | L77: =L76+1 -> 75 | M77: =A83 -> 3.7128968 | N77: =N76 -> 3.6291695 | O77: =M77-N77 -> 0.083727314 | P77: =O77*O77 -> 0.0070102631 | Q77: 3.6716387
A78: =(K78/10000*2500)/(E78/100)*10/1000+B78 -> 3.7545635 | B78: =B77 -> 0.91428571 | C78: =C50 -> 6 | D78: =D22 -> 34 | E78: =E77 -> 72 | F78: =F22 -> 12 | G78: 5 | H78: 10 | I78: =D78-C78-G78 -> 23 | J78: =(E78-2*H78-F78)/2 -> 20 | K78: =E78*C78+(D78-C78)*F78+G78*H78 -> 818 | L78: =L77+1 -> 76 | M78: =A87 -> 3.4432712 | N78: =N77 -> 3.6291695 | O78: =M78-N78 -> -0.18589829 | P78: =O78*O78 -> 0.034558174 | Q78: 3.6863445
A79: =(K79/10000*2500)/(E79/100)*10/1000+B79 -> 3.2962302 | B79: =B78 -> 0.91428571 | C79: =C51 -> 4 | D79: =D23 -> 33 | E79: =E78 -> 72 | F79: =F23 -> 12 | G79: 5 | H79: 10 | I79: =D79-C79-G79 -> 24 | J79: =(E79-2*H79-F79)/2 -> 20 | K79: =E79*C79+(D79-C79)*F79+G79*H79 -> 686 | L79: =L78+1 -> 77 | M79: =A88 -> 3.5465321 | N79: =N78 -> 3.6291695 | O79: =M79-N79 -> -0.08263742 | P79: =O79*O79 -> 0.0068289432 | Q79: 3.6892857
A80: =(K80/10000*2500)/(E80/100)*10/1000+B80 -> 3.4003968 | B80: =B79 -> 0.91428571 | C80: =C52 -> 4.5 | D80: =D24 -> 33 | E80: =E79 -> 72 | F80: =F24 -> 12 | G80: 5 | H80: 10 | I80: =D80-C80-G80 -> 23.5 | J80: =(E80-2*H80-F80)/2 -> 20 | K80: =E80*C80+(D80-C80)*F80+G80*H80 -> 716 | L80: =L79+1 -> 78 | M80: =A89 -> 3.649793 | N80: =N79 -> 3.6291695 | O80: =M80-N80 -> 0.020623449 | P80: =O80*O80 -> 0.00042532667 | Q80: 3.6920635
A81: =(K81/10000*2500)/(E81/100)*10/1000+B81 -> 3.5045635 | B81: =B80 -> 0.91428571 | C81: =C53 -> 5 | D81: =D25 -> 33 | E81: =E80 -> 72 | F81: =F25 -> 12 | G81: 5 | H81: 10 | I81: =D81-C81-G81 -> 23 | J81: =(E81-2*H81-F81)/2 -> 20 | K81: =E81*C81+(D81-C81)*F81+G81*H81 -> 746 | L81: =L80+1 -> 79 | M81: =A90 -> 3.7530538 | N81: =N80 -> 3.6291695 | O81: =M81-N81 -> 0.12388432 | P81: =O81*O81 -> 0.015347324 | Q81: 3.6924547
A82: =(K82/10000*2500)/(E82/100)*10/1000+B82 -> 3.6087302 | B82: =B81 -> 0.91428571 | C82: =C54 -> 5.5 | D82: =D26 -> 33 | E82: =E81 -> 72 | F82: =F26 -> 12 | G82: 5 | H82: 10 | I82: =D82-C82-G82 -> 22.5 | J82: =(E82-2*H82-F82)/2 -> 20 | K82: =E82*C82+(D82-C82)*F82+G82*H82 -> 776 | L82: =L81+1 -> 80 | M82: =A91 -> 3.8563147 | N82: =N81 -> 3.6291695 | O82: =M82-N82 -> 0.22714519 | P82: =O82*O82 -> 0.051594937 | Q82: 3.6932712
A83: =(K83/10000*2500)/(E83/100)*10/1000+B83 -> 3.7128968 | B83: =B82 -> 0.91428571 | C83: =C55 -> 6 | D83: =D27 -> 33 | E83: =E82 -> 72 | F83: =F27 -> 12 | G83: 5 | H83: 10 | I83: =D83-C83-G83 -> 22 | J83: =(E83-2*H83-F83)/2 -> 20 | K83: =E83*C83+(D83-C83)*F83+G83*H83 -> 806 | L83: =L82+1 -> 81 | M83: =A92 -> 3.4867495 | N83: =N82 -> 3.6291695 | O83: =M83-N83 -> -0.14242003 | P83: =O83*O83 -> 0.020283465 | Q83: 3.7095756
L84: =L83+1 -> 82 | M84: =A93 -> 3.5900104 | N84: =N83 -> 3.6291695 | O84: =M84-N84 -> -0.039159159 | P84: =O84*O84 -> 0.0015334398 | Q84: 3.7118209
A85: P. Forjado | B85: Aligeramiento | C85: h0 | D85: h | E85: b | F85: b0 | G85: h1 | H85: b1 | I85: h2 | J85: b2 | K85: Area | L85: =L84+1 -> 83 | M85: =A94 -> 3.6932712 | N85: =N84 -> 3.6291695 | O85: =M85-N85 -> 0.06410171 | P85: =O85*O85 -> 0.0041090293 | Q85: 3.7128968
A86: kN/m2 | B86: kN/m2 | C86: cm | D86: cm | E86: cm | F86: cm | G86: cm | H86: cm | I86: cm | J86: cm | K86: cm2 | L86: =L85+1 -> 84 | M86: =A95 -> 3.7965321 | N86: =N85 -> 3.6291695 | O86: =M86-N86 -> 0.16736258 | P86: =O86*O86 -> 0.028010233 | Q86: 3.7142857
A87: =(K87/10000*2500)/(E87/100)*10/1000+B87 -> 3.4432712 | B87: =I145 -> 0.91428571 | C87: =C59 -> 4 | D87: =D3 -> 35 | E87: =E3-1 -> 69 | F87: =F3 -> 12 | G87: 5 | H87: 10 | I87: =D87-C87-G87 -> 26 | J87: =(E87-2*H87-F87)/2 -> 18.5 | K87: =E87*C87+(D87-C87)*F87+G87*H87 -> 698 | L87: =L86+1 -> 85 | M87: =A96 -> 3.899793 | N87: =N86 -> 3.6291695 | O87: =M87-N87 -> 0.27062345 | P87: =O87*O87 -> 0.073237051 | Q87: 3.7157563
A88: =(K88/10000*2500)/(E88/100)*10/1000+B88 -> 3.5465321 | B88: =B87 -> 0.91428571 | C88: =C60 -> 4.5 | D88: =D4 -> 35 | E88: =E87 -> 69 | F88: =F4 -> 12 | G88: 5 | H88: 10 | I88: =D88-C88-G88 -> 25.5 | J88: =(E88-2*H88-F88)/2 -> 18.5 | K88: =E88*C88+(D88-C88)*F88+G88*H88 -> 726.5 | L88: =L87+1 -> 86 | M88: =A97 -> 3.5302277 | N88: =N87 -> 3.6291695 | O88: =M88-N88 -> -0.098941768 | P88: =O88*O88 -> 0.0097894734 | Q88: 3.7304622
A89: =(K89/10000*2500)/(E89/100)*10/1000+B89 -> 3.649793 | B89: =B88 -> 0.91428571 | C89: =C61 -> 5 | D89: =D5 -> 35 | E89: =E88 -> 69 | F89: =F5 -> 12 | G89: 5 | H89: 10 | I89: =D89-C89-G89 -> 25 | J89: =(E89-2*H89-F89)/2 -> 18.5 | K89: =E89*C89+(D89-C89)*F89+G89*H89 -> 755 | L89: =L88+1 -> 87 | M89: =A98 -> 3.6334886 | N89: =N88 -> 3.6291695 | O89: =M89-N89 -> 0.0043191016 | P89: =O89*O89 -> 1.8654639e-05 | Q89: 3.7311871
A90: =(K90/10000*2500)/(E90/100)*10/1000+B90 -> 3.7530538 | B90: =B89 -> 0.91428571 | C90: =C62 -> 5.5 | D90: =D6 -> 35 | E90: =E89 -> 69 | F90: =F6 -> 12 | G90: 5 | H90: 10 | I90: =D90-C90-G90 -> 24.5 | J90: =(E90-2*H90-F90)/2 -> 18.5 | K90: =E90*C90+(D90-C90)*F90+G90*H90 -> 783.5 | L90: =L89+1 -> 88 | M90: =A99 -> 3.7367495 | N90: =N89 -> 3.6291695 | O90: =M90-N90 -> 0.10757997 | P90: =O90*O90 -> 0.01157345 | Q90: 3.7321429
A91: =(K91/10000*2500)/(E91/100)*10/1000+B91 -> 3.8563147 | B91: =B90 -> 0.91428571 | C91: =C63 -> 6 | D91: =D7 -> 35 | E91: =E90 -> 69 | F91: =F7 -> 12 | G91: 5 | H91: 10 | I91: =D91-C91-G91 -> 24 | J91: =(E91-2*H91-F91)/2 -> 18.5 | K91: =E91*C91+(D91-C91)*F91+G91*H91 -> 812 | L91: =L90+1 -> 89 | M91: =A100 -> 3.8400104 | N91: =N90 -> 3.6291695 | O91: =M91-N91 -> 0.21084084 | P91: =O91*O91 -> 0.04445386 | Q91: 3.7337302
A92: =(K92/10000*2500)/(E92/100)*10/1000+B92 -> 3.4867495 | B92: =B91 -> 0.91428571 | C92: =C64 -> 4 | D92: =D8 -> 36 | E92: =E91 -> 69 | F92: =F8 -> 12 | G92: 5 | H92: 10 | I92: =D92-C92-G92 -> 27 | J92: =(E92-2*H92-F92)/2 -> 18.5 | K92: =E92*C92+(D92-C92)*F92+G92*H92 -> 710 | L92: =L91+1 -> 90 | M92: =A101 -> 3.9432712 | N92: =N91 -> 3.6291695 | O92: =M92-N92 -> 0.31410171 | P92: =O92*O92 -> 0.098659884 | Q92: 3.7367495
A93: =(K93/10000*2500)/(E93/100)*10/1000+B93 -> 3.5900104 | B93: =B92 -> 0.91428571 | C93: =C65 -> 4.5 | D93: =D9 -> 36 | E93: =E92 -> 69 | F93: =F9 -> 12 | G93: 5 | H93: 10 | I93: =D93-C93-G93 -> 26.5 | J93: =(E93-2*H93-F93)/2 -> 18.5 | K93: =E93*C93+(D93-C93)*F93+G93*H93 -> 738.5 | L93: =L92+1 -> 91 | M93: =A102 -> 3.399793 | N93: =N92 -> 3.6291695 | O93: =M93-N93 -> -0.22937655 | P93: =O93*O93 -> 0.052613602 | Q93: 3.75
A94: =(K94/10000*2500)/(E94/100)*10/1000+B94 -> 3.6932712 | B94: =B93 -> 0.91428571 | C94: =C66 -> 5 | D94: =D10 -> 36 | E94: =E93 -> 69 | F94: =F10 -> 12 | G94: 5 | H94: 10 | I94: =D94-C94-G94 -> 26 | J94: =(E94-2*H94-F94)/2 -> 18.5 | K94: =E94*C94+(D94-C94)*F94+G94*H94 -> 767 | L94: =L93+1 -> 92 | M94: =A103 -> 3.5030538 | N94: =N93 -> 3.6291695 | O94: =M94-N94 -> -0.12611568 | P94: =O94*O94 -> 0.015905165 | Q94: 3.7530538
A95: =(K95/10000*2500)/(E95/100)*10/1000+B95 -> 3.7965321 | B95: =B94 -> 0.91428571 | C95: =C67 -> 5.5 | D95: =D11 -> 36 | E95: =E94 -> 69 | F95: =F11 -> 12 | G95: 5 | H95: 10 | I95: =D95-C95-G95 -> 25.5 | J95: =(E95-2*H95-F95)/2 -> 18.5 | K95: =E95*C95+(D95-C95)*F95+G95*H95 -> 795.5 | L95: =L94+1 -> 93 | M95: =A104 -> 3.6063147 | N95: =N94 -> 3.6291695 | O95: =M95-N95 -> -0.022854811 | P95: =O95*O95 -> 0.00052234241 | Q95: 3.7540744
A96: =(K96/10000*2500)/(E96/100)*10/1000+B96 -> 3.899793 | B96: =B95 -> 0.91428571 | C96: =C68 -> 6 | D96: =D12 -> 36 | E96: =E95 -> 69 | F96: =F12 -> 12 | G96: 5 | H96: 10 | I96: =D96-C96-G96 -> 25 | J96: =(E96-2*H96-F96)/2 -> 18.5 | K96: =E96*C96+(D96-C96)*F96+G96*H96 -> 824 | L96: =L95+1 -> 94 | M96: =A105 -> 3.7095756 | N96: =N95 -> 3.6291695 | O96: =M96-N96 -> 0.080406058 | P96: =O96*O96 -> 0.0064651342 | Q96: 3.7545635
A97: =(K97/10000*2500)/(E97/100)*10/1000+B97 -> 3.5302277 | B97: =B96 -> 0.91428571 | C97: =C69 -> 4 | D97: =D13 -> 37 | E97: =E96 -> 69 | F97: =F13 -> 12 | G97: 5 | H97: 10 | I97: =D97-C97-G97 -> 28 | J97: =(E97-2*H97-F97)/2 -> 18.5 | K97: =E97*C97+(D97-C97)*F97+G97*H97 -> 722 | L97: =L96+1 -> 95 | M97: =A106 -> 3.8128364 | N97: =N96 -> 3.6291695 | O97: =M97-N97 -> 0.18366693 | P97: =O97*O97 -> 0.03373354 | Q97: 3.7598739
A98: =(K98/10000*2500)/(E98/100)*10/1000+B98 -> 3.6334886 | B98: =B97 -> 0.91428571 | C98: =C70 -> 4.5 | D98: =D14 -> 37 | E98: =E97 -> 69 | F98: =F14 -> 12 | G98: 5 | H98: 10 | I98: =D98-C98-G98 -> 27.5 | J98: =(E98-2*H98-F98)/2 -> 18.5 | K98: =E98*C98+(D98-C98)*F98+G98*H98 -> 750.5 | L98: =L97+1 -> 96 | M98: =A107 -> 3.3563147 | N98: =N97 -> 3.6291695 | O98: =M98-N98 -> -0.27285481 | P98: =O98*O98 -> 0.074449748 | Q98: 3.7693582
A99: =(K99/10000*2500)/(E99/100)*10/1000+B99 -> 3.7367495 | B99: =B98 -> 0.91428571 | C99: =C71 -> 5 | D99: =D15 -> 37 | E99: =E98 -> 69 | F99: =F15 -> 12 | G99: 5 | H99: 10 | I99: =D99-C99-G99 -> 27 | J99: =(E99-2*H99-F99)/2 -> 18.5 | K99: =E99*C99+(D99-C99)*F99+G99*H99 -> 779 | L99: =L98+1 -> 97 | M99: =A108 -> 3.4595756 | N99: =N98 -> 3.6291695 | O99: =M99-N99 -> -0.16959394 | P99: =O99*O99 -> 0.028762105 | Q99: 3.7734406
... A102: =(K102/10000*2500)/(E102/100)*10/1000+B102 -> 3.399793 | B102: =B101 -> 0.91428571 | C102: =C74 -> 4 | D102: =D18 -> 34 | E102: =E101 -> 69 | F102: =F18 -> 12 | G102: 5 | H102: 10 | I102: =D102-C102-G102 -> 25 | J102: =(E102-2*H102-F102)/2 -> 18.5 | K102: =E102*C102+(D102-C102)*F102+G102*H102 -> 686 | L102: =L101+1 -> 100 | M102: =A111 -> 3.7693582 | N102: =N101 -> 3.6291695 | O102: =M102-N102 -> 0.14018867 | P102: =O102*O102 -> 0.019652862 | Q102: 3.7753968
A103: =(K103/10000*2500)/(E103/100)*10/1000+B103 -> 3.5030538 | B103: =B102 -> 0.91428571 | C103: =C75 -> 4.5 | D103: =D19 -> 34 | E103: =E102 -> 69 | F103: =F19 -> 12 | G103: 5 | H103: 10 | I103: =D103-C103-G103 -> 24.5 | J103: =(E103-2*H103-F103)/2 -> 18.5 | K103: =E103*C103+(D103-C103)*F103+G103*H103 -> 714.5 | L103: =L102+1 -> 101 | M103: =A115 -> 3.4657563 | N103: =N102 -> 3.6291695 | O103: =M103-N103 -> -0.16341321 | P103: =O103*O103 -> 0.026703877 | Q103: 3.7892857
A104: =(K104/10000*2500)/(E104/100)*10/1000+B104 -> 3.6063147 | B104: =B103 -> 0.91428571 | C104: =C76 -> 5 | D104: =D20 -> 34 | E104: =E103 -> 69 | F104: =F20 -> 12 | G104: 5 | H104: 10 | I104: =D104-C104-G104 -> 24 | J104: =(E104-2*H104-F104)/2 -> 18.5 | K104: =E104*C104+(D104-C104)*F104+G104*H104 -> 743 | L104: =L103+1 -> 102 | M104: =A116 -> 3.5686975 | N104: =N103 -> 3.6291695 | O104: =M104-N104 -> -0.060472032 | P104: =O104*O104 -> 0.0036568667 | Q104: 3.7928571
A105: =(K105/10000*2500)/(E105/100)*10/1000+B105 -> 3.7095756 | B105: =B104 -> 0.91428571 | C105: =C77 -> 5.5 | D105: =D21 -> 34 | E105: =E104 -> 69 | F105: =F21 -> 12 | G105: 5 | H105: 10 | I105: =D105-C105-G105 -> 23.5 | J105: =(E105-2*H105-F105)/2 -> 18.5 | K105: =E105*C105+(D105-C105)*F105+G105*H105 -> 771.5 | L105: =L104+1 -> 103 | M105: =A117 -> 3.6716387 | N105: =N104 -> 3.6291695 | O105: =M105-N105 -> 0.042469144 | P105: =O105*O105 -> 0.0018036282 | Q105: 3.7962302
A106: =(K106/10000*2500)/(E106/100)*10/1000+B106 -> 3.8128364 | B106: =B105 -> 0.91428571 | C106: =C78 -> 6 | D106: =D22 -> 34 | E106: =E105 -> 69 | F106: =F22 -> 12 | G106: 5 | H106: 10 | I106: =D106-C106-G106 -> 23 | J106: =(E106-2*H106-F106)/2 -> 18.5 | K106: =E106*C106+(D106-C106)*F106+G106*H106 -> 800 | L106: =L105+1 -> 104 | M106: =A118 -> 3.7745798 | N106: =N105 -> 3.6291695 | O106: =M106-N106 -> 0.14541032 | P106: =O106*O106 -> 0.021144161 | Q106: 3.796328
A107: =(K107/10000*2500)/(E107/100)*10/1000+B107 -> 3.3563147 | B107: =B106 -> 0.91428571 | C107: =C79 -> 4 | D107: =D23 -> 33 | E107: =E106 -> 69 | F107: =F23 -> 12 | G107: 5 | H107: 10 | I107: =D107-C107-G107 -> 24 | J107: =(E107-2*H107-F107)/2 -> 18.5 | K107: =E107*C107+(D107-C107)*F107+G107*H107 -> 674 | L107: =L106+1 -> 105 | M107: =A119 -> 3.877521 | N107: =N106 -> 3.6291695 | O107: =M107-N107 -> 0.2483515 | P107: =O107*O107 -> 0.061678466 | Q107: 3.7965321
A108: =(K108/10000*2500)/(E108/100)*10/1000+B108 -> 3.4595756 | B108: =B107 -> 0.91428571 | C108: =C80 -> 4.5 | D108: =D24 -> 33 | E108: =E107 -> 69 | F108: =F24 -> 12 | G108: 5 | H108: 10 | I108: =D108-C108-G108 -> 23.5 | J108: =(E108-2*H108-F108)/2 -> 18.5 | K108: =E108*C108+(D108-C108)*F108+G108*H108 -> 702.5 | L108: =L107+1 -> 106 | M108: =A120 -> 3.5098739 | N108: =N107 -> 3.6291695 | O108: =M108-N108 -> -0.11929556 | P108: =O108*O108 -> 0.014231431 | Q108: 3.8128364
A109: =(K109/10000*2500)/(E109/100)*10/1000+B109 -> 3.5628364 | B109: =B108 -> 0.91428571 | C109: =C81 -> 5 | D109: =D25 -> 33 | E109: =E108 -> 69 | F109: =F25 -> 12 | G109: 5 | H109: 10 | I109: =D109-C109-G109 -> 23 | J109: =(E109-2*H109-F109)/2 -> 18.5 | K109: =E109*C109+(D109-C109)*F109+G109*H109 -> 731 | L109: =L108+1 -> 107 | M109: =A121 -> 3.6128151 | N109: =N108 -> 3.6291695 | O109: =M109-N109 -> -0.016354385 | P109: =O109*O109 -> 0.00026746591 | Q109: 3.8156942
A110: =(K110/10000*2500)/(E110/100)*10/1000+B110 -> 3.6660973 | B110: =B109 -> 0.91428571 | C110: =C82 -> 5.5 | D110: =D26 -> 33 | E110: =E109 -> 69 | F110: =F26 -> 12 | G110: 5 | H110: 10 | I110: =D110-C110-G110 -> 22.5 | J110: =(E110-2*H110-F110)/2 -> 18.5 | K110: =E110*C110+(D110-C110)*F110+G110*H110 -> 759.5 | L110: =L109+1 -> 108 | M110: =A122 -> 3.7157563 | N110: =N109 -> 3.6291695 | O110: =M110-N110 -> 0.086586791 | P110: =O110*O110 -> 0.0074972724 | Q110: 3.8178571
A111: =(K111/10000*2500)/(E111/100)*10/1000+B111 -> 3.7693582 | B111: =B110 -> 0.91428571 | C111: =C83 -> 6 | D111: =D27 -> 33 | E111: =E110 -> 69 | F111: =F27 -> 12 | G111: 5 | H111: 10 | I111: =D111-C111-G111 -> 22 | J111: =(E111-2*H111-F111)/2 -> 18.5 | K111: =E111*C111+(D111-C111)*F111+G111*H111 -> 788 | L111: =L110+1 -> 109 | M111: =A123 -> 3.8186975 | N111: =N110 -> 3.6291695 | O111: =M111-N111 -> 0.18952797 | P111: =O111*O111 -> 0.035920851 | Q111: 3.8186975
L112: =L111+1 -> 110 | M112: =A124 -> 3.9216387 | N112: =N111 -> 3.6291695 | O112: =M112-N112 -> 0.29246914 | P112: =O112*O112 -> 0.0855382 | Q112: 3.8334034
A113: P. Forjado | B113: Aligeramiento | C113: h0 | D113: h | E113: b | F113: b0 | G113: h1 | H113: b1 | I113: h2 | J113: b2 | K113: Area | L113: =L112+1 -> 111 | M113: =A125 -> 3.5539916 | N113: =N112 -> 3.6291695 | O113: =M113-N113 -> -0.075177915 | P113: =O113*O113 -> 0.0056517188 | Q113: 3.8357143
A114: kN/m2 | B114: kN/m2 | C114: cm | D114: cm | E114: cm | F114: cm | G114: cm | H114: cm | I114: cm | J114: cm | K114: cm2 | L114: =L113+1 -> 112 | M114: =A126 -> 3.6569328 | N114: =N113 -> 3.6291695 | O114: =M114-N114 -> 0.027763262 | P114: =O114*O114 -> 0.00077079871 | Q114: 3.8378968
A115: =(K115/10000*2500)/(E115/100)*10/1000+B115 -> 3.4657563 | B115: =I145 -> 0.91428571 | C115: =C87 -> 4 | D115: =D31 -> 35 | E115: =E3-2 -> 68 | F115: =F3 -> 12 | G115: 5 | H115: 10 | I115: =D115-C115-G115 -> 26 | J115: =(E115-2*H115-F115)/2 -> 18 | K115: =E115*C115+(D115-C115)*F115+G115*H115 -> 694 | L115: =L114+1 -> 113 | M115: =A127 -> 3.7598739 | N115: =N114 -> 3.6291695 | O115: =M115-N115 -> 0.13070444 | P115: =O115*O115 -> 0.01708365 | Q115: 3.8400104
...

Sheet Canto 30
A1: P. Forjado | B1: Aligeramiento | C1: h0 | D1: h | E1: b | F1: b0 | G1: h1 | H1: b1 | I1: h2 | J1: b2 | K1: Area | L1: Nº de Orden | M1: Valores | N1: Media | O1: Desv. | P1: Des2 | Q1: Valores
A2: kN/m2 | B2: kN/m2 | C2: cm | D2: cm | E2: cm | F2: cm | G2: cm | H2: cm | I2: cm | J2: cm | K2: cm2 | L2: - | M2: kN/m2 | N2: kN/m2 | O2: kN/m2 | P2: - | Q2: kN/m2
A3: =(K3/10000*2500)/(E3/100)*10/1000+B3 -> 3.0928571 | B3: =I145 -> 0.8 | C3: =C4-0.5 -> 4 | D3: =C144 -> 30 | E3: =D144 -> 70 | F3: =E144 -> 12 | G3: 5 | H3: 10 | I3: =D3-C3-G3 -> 21 | J3: =(E3-2*H3-F3)/2 -> 19 | K3: =E3*C3+(D3-C3)*F3+G3*H3 -> 642 | L3: =1 -> 1 | M3: =A3 -> 3.0928571 | N3: =M129 -> 3.3005106 | O3: =M3-N3 -> -0.20765342 | P3: =O3*O3 -> 0.043119941 | Q3: 2.9736111
A4: =(K4/10000*2500)/(E4/100)*10/1000+B4 -> 3.1964286 | B4: =B3 -> 0.8 | C4: =C5-0.5 -> 4.5 | D4: =D3 -> 30 | E4: =E3 -> 70 | F4: =F3 -> 12 | G4: 5 | H4: 10 | I4: =D4-C4-G4 -> 20.5 | J4: =(E4-2*H4-F4)/2 -> 19 | K4: =E4*C4+(D4-C4)*F4+G4*H4 -> 671 | L4: =L3+1 -> 2 | M4: =A4 -> 3.1964286 | N4: =N3 -> 3.3005106 | O4: =M4-N4 -> -0.10408199 | P4: =O4*O4 -> 0.01083306 | Q4: 2.9901408
A5: =(K5/10000*2500)/(E5/100)*10/1000+B5 -> 3.3 | B5: =B4 -> 0.8 | C5: =B144 -> 5 | D5: =D4 -> 30 | E5: =E4 -> 70 | F5: =F4 -> 12 | G5: 5 | H5: 10 | I5: =D5-C5-G5 -> 20 | J5: =(E5-2*H5-F5)/2 -> 19 | K5: =E5*C5+(D5-C5)*F5+G5*H5 -> 700 | L5: =L4+1 -> 3 | M5: =A5 -> 3.3 | N5: =N4 -> 3.3005106 | O5: =M5-N5 -> -0.00051055838 | P5: =O5*O5 -> 2.6066986e-07 | Q5: 3.0071429
A6: =(K6/10000*2500)/(E6/100)*10/1000+B6 -> 3.4035714 | B6: =B5 -> 0.8 | C6: =C5+0.5 -> 5.5 | D6: =D5 -> 30 | E6: =E5 -> 70 | F6: =F5 -> 12 | G6: 5 | H6: 10 | I6: =D6-C6-G6 -> 19.5 | J6: =(E6-2*H6-F6)/2 -> 19 | K6: =E6*C6+(D6-C6)*F6+G6*H6 -> 729 | L6: =L5+1 -> 4 | M6: =A6 -> 3.4035714 | N6: =N5 -> 3.3005106 | O6: =M6-N6 -> 0.10306087 | P6: =O6*O6 -> 0.010621543 | Q6: 3.0152778
A7: =(K7/10000*2500)/(E7/100)*10/1000+B7 -> 3.5071429 | B7: =B6 -> 0.8 | C7: =C6+0.5 -> 6 | D7: =D6 -> 30 | E7: =E6 -> 70 | F7: =F6 -> 12 | G7: 5 | H7: 10 | I7: =D7-C7-G7 -> 19 | J7: =(E7-2*H7-F7)/2 -> 19 | K7: =E7*C7+(D7-C7)*F7+G7*H7 -> 758 | L7: =L6+1 -> 5 | M7: =A7 -> 3.5071429 | N7: =N6 -> 3.3005106 | O7: =M7-N7 -> 0.2066323 | P7: =O7*O7 -> 0.042696907 | Q7: 3.0246377
A8: =(K8/10000*2500)/(E8/100)*10/1000+B8 -> 3.1357143 | B8: =B7 -> 0.8 | C8: =C3 -> 4 | D8: =D3+1 -> 31 | E8: =E7 -> 70 | F8: =F7 -> 12 | G8: 5 | H8: 10 | I8: =D8-C8-G8 -> 22 | J8: =(E8-2*H8-F8)/2 -> 19 | K8: =E8*C8+(D8-C8)*F8+G8*H8 -> 654 | L8: =L7+1 -> 6 | M8: =A8 -> 3.1357143 | N8: =N7 -> 3.3005106 | O8: =M8-N8 -> -0.16479627 | P8: =O8*O8 -> 0.027157811 | Q8: 3.0323944
A9: =(K9/10000*2500)/(E9/100)*10/1000+B9 -> 3.2392857 | B9: =B8 -> 0.8 | C9: =C4 -> 4.5 | D9: =D4+1 -> 31 | E9: =E8 -> 70 | F9: =F8 -> 12 | G9: 5 | H9: 10 | I9: =D9-C9-G9 -> 21.5 | J9: =(E9-2*H9-F9)/2 -> 19 | K9: =E9*C9+(D9-C9)*F9+G9*H9 -> 683 | L9: =L8+1 -> 7 | M9: =A9 -> 3.2392857 | N9: =N8 -> 3.3005106 | O9: =M9-N9 -> -0.061224844 | P9: =O9*O9 -> 0.0037484815 | Q9: 3.0426471
A10: =(K10/10000*2500)/(E10/100)*10/1000+B10 -> 3.3428571 | B10: =B9 -> 0.8 | C10: =C5 -> 5 | D10: =D5+1 -> 31 | E10: =E9 -> 70 | F10: =F9 -> 12 | G10: 5 | H10: 10 | I10: =D10-C10-G10 -> 21 | J10: =(E10-2*H10-F10)/2 -> 19 | K10: =E10*C10+(D10-C10)*F10+G10*H10 -> 712 | L10: =L9+1 -> 8 | M10: =A10 -> 3.3428571 | N10: =N9 -> 3.3005106 | O10: =M10-N10 -> 0.042346584 | P10: =O10*O10 -> 0.0017932332 | Q10: 3.05
A11: =(K11/10000*2500)/(E11/100)*10/1000+B11 -> 3.4464286 | B11: =B10 -> 0.8 | C11: =C6 -> 5.5 | D11: =D6+1 -> 31 | E11: =E10 -> 70 | F11: =F10 -> 12 | G11: 5 | H11: 10 | I11: =D11-C11-G11 -> 20.5 | J11: =(E11-2*H11-F11)/2 -> 19 | K11: =E11*C11+(D11-C11)*F11+G11*H11 -> 741 | L11: =L10+1 -> 9 | M11: =A11 -> 3.4464286 | N11: =N10 -> 3.3005106 | O11: =M11-N11 -> 0.14591801 | P11: =O11*O11 -> 0.021292067 | Q11: 3.0569444
A12: =(K12/10000*2500)/(E12/100)*10/1000+B12 -> 3.55 | B12: =B11 -> 0.8 | C12: =C7 -> 6 | D12: =D7+1 -> 31 | E12: =E11 -> 70 | F12: =F11 -> 12 | G12: 5 | H12: 10 | I12: =D12-C12-G12 -> 20 | J12: =(E12-2*H12-F12)/2 -> 19 | K12: =E12*C12+(D12-C12)*F12+G12*H12 -> 770 | L12: =L11+1 -> 10 | M12: =A12 -> 3.55 | N12: =N11 -> 3.3005106 | O12: =M12-N12 -> 0.24948944 | P12: =O12*O12 -> 0.062244981 | Q12: 3.0681159
A13: =(K13/10000*2500)/(E13/100)*10/1000+B13 -> 3.1785714 | B13: =B12 -> 0.8 | C13: =C3 -> 4 | D13: =D3+2 -> 32 | E13: =E12 -> 70 | F13: =F12 -> 12 | G13: 5 | H13: 10 | I13: =D13-C13-G13 -> 23 | J13: =(E13-2*H13-F13)/2 -> 19 | K13: =E13*C13+(D13-C13)*F13+G13*H13 -> 666 | L13: =L12+1 -> 11 | M13: =A13 -> 3.1785714 | N13: =N12 -> 3.3005106 | O13: =M13-N13 -> -0.12193913 | P13: =O13*O13 -> 0.014869151 | Q13: 3.0746479
A14: =(K14/10000*2500)/(E14/100)*10/1000+B14 -> 3.2821429 | B14: =B13 -> 0.8 | C14: =C4 -> 4.5 | D14: =D4+2 -> 32 | E14: =E13 -> 70 | F14: =F13 -> 12 | G14: 5 | H14: 10 | I14: =D14-C14-G14 -> 22.5 | J14: =(E14-2*H14-F14)/2 -> 19 | K14: =E14*C14+(D14-C14)*F14+G14*H14 -> 695 | L14: =L13+1 -> 12 | M14: =A14 -> 3.2821429 | N14: =N13 -> 3.3005106 | O14: =M14-N14 -> -0.018367701 | P14: =O14*O14 -> 0.00033737245 | Q14: 3.0777778
A15: =(K15/10000*2500)/(E15/100)*10/1000+B15 -> 3.3857143 | B15: =B14 -> 0.8 | C15: =C5 -> 5 | D15: =D5+2 -> 32 | E15: =E14 -> 70 | F15: =F14 -> 12 | G15: 5 | H15: 10 | I15: =D15-C15-G15 -> 22 | J15: =(E15-2*H15-F15)/2 -> 19 | K15: =E15*C15+(D15-C15)*F15+G15*H15 -> 724 | L15: =L14+1 -> 13 | M15: =A15 -> 3.3857143 | N15: =N14 -> 3.3005106 | O15: =M15-N15 -> 0.085203727 | P15: =O15*O15 -> 0.0072596752 | Q15: 3.0867647
A16: =(K16/10000*2500)/(E16/100)*10/1000+B16 -> 3.4892857 | B16: =B15 -> 0.8 | C16: =C6 -> 5.5 | D16: =D6+2 -> 32 | E16: =E15 -> 70 | F16: =F15 -> 12 | G16: 5 | H16: 10 | I16: =D16-C16-G16 -> 21.5 | J16: =(E16-2*H16-F16)/2 -> 19 | K16: =E16*C16+(D16-C16)*F16+G16*H16 -> 753 | L16: =L15+1 -> 14 | M16: =A16 -> 3.4892857 | N16: =N15 -> 3.3005106 | O16: =M16-N16 -> 0.18877516 | P16: =O16*O16 -> 0.035636059 | Q16: 3.0928571
A17: =(K17/10000*2500)/(E17/100)*10/1000+B17 -> 3.5928571 | B17: =B16 -> 0.8 | C17: =C7 -> 6 | D17: =D7+2 -> 32 | E17: =E16 -> 70 | F17: =F16 -> 12 | G17: 5 | H17: 10 | I17: =D17-C17-G17 -> 21 | J17: =(E17-2*H17-F17)/2 -> 19 | K17: =E17*C17+(D17-C17)*F17+G17*H17 -> 782 | L17: =L16+1 -> 15 | M17: =A17 -> 3.5928571 | N17: =N16 -> 3.3005106 | O17: =M17-N17 -> 0.29234658 | P17: =O17*O17 -> 0.085466525 | Q17: 3.0940141
A18: =(K18/10000*2500)/(E18/100)*10/1000+B18 -> 3.05 | B18: =B17 -> 0.8 | C18: =C3 -> 4 | D18: =D3-1 -> 29 | E18: =E17 -> 70 | F18: =F17 -> 12 | G18: 5 | H18: 10 | I18: =D18-C18-G18 -> 20 | J18: =(E18-2*H18-F18)/2 -> 19 | K18: =E18*C18+(D18-C18)*F18+G18*H18 -> 630 | L18: =L17+1 -> 16 | M18: =A18 -> 3.05 | N18: =N17 -> 3.3005106 | O18: =M18-N18 -> -0.25051056 | P18: =O18*O18 -> 0.06275554 | Q18: 3.0986111
A19: =(K19/10000*2500)/(E19/100)*10/1000+B19 -> 3.1535714 | B19: =B18 -> 0.8 | C19: =C4 -> 4.5 | D19: =D4-1 -> 29 | E19: =E18 -> 70 | F19: =F18 -> 12 | G19: 5 | H19: 10 | I19: =D19-C19-G19 -> 19.5 | J19: =(E19-2*H19-F19)/2 -> 19 | K19: =E19*C19+(D19-C19)*F19+G19*H19 -> 659 | L19: =L18+1 -> 17 | M19: =A19 -> 3.1535714 | N19: =N18 -> 3.3005106 | O19: =M19-N19 -> -0.14693913 | P19: =O19*O19 -> 0.021591108 | Q19: 3.1107143
A20: =(K20/10000*2500)/(E20/100)*10/1000+B20 -> 3.2571429 | B20: =B19 -> 0.8 | C20: =C5 -> 5 | D20: =D5-1 -> 29 | E20: =E19 -> 70 | F20: =F19 -> 12 | G20: 5 | H20: 10 | I20: =D20-C20-G20 -> 19 | J20: =(E20-2*H20-F20)/2 -> 19 | K20: =E20*C20+(D20-C20)*F20+G20*H20 -> 688 | L20: =L19+1 -> 18 | M20: =A20 -> 3.2571429 | N20: =N19 -> 3.3005106 | O20: =M20-N20 -> -0.043367701 | P20: =O20*O20 -> 0.0018807575 | Q20: 3.1115942
A21: =(K21/10000*2500)/(E21/100)*10/1000+B21 -> 3.3607143 | B21: =B20 -> 0.8 | C21: =C6 -> 5.5 | D21: =D6-1 -> 29 | E21: =E20 -> 70 | F21: =F20 -> 12 | G21: 5 | H21: 10 | I21: =D21-C21-G21 -> 18.5 | J21: =(E21-2*H21-F21)/2 -> 19 | K21: =E21*C21+(D21-C21)*F21+G21*H21 -> 717 | L21: =L20+1 -> 19 | M21: =A21 -> 3.3607143 | N21: =N20 -> 3.3005106 | O21: =M21-N21 -> 0.060203727 | P21: =O21*O21 -> 0.0036244888 | Q21: 3.1169014
A22: =(K22/10000*2500)/(E22/100)*10/1000+B22 -> 3.4642857 | B22: =B21 -> 0.8 | C22: =C7 -> 6 | D22: =D7-1 -> 29 | E22: =E21 -> 70 | F22: =F21 -> 12 | G22: 5 | H22: 10 | I22: =D22-C22-G22 -> 18 | J22: =(E22-2*H22-F22)/2 -> 19 | K22: =E22*C22+(D22-C22)*F22+G22*H22 -> 746 | L22: =L21+1 -> 20 | M22: =A22 -> 3.4642857 | N22: =N21 -> 3.3005106 | O22: =M22-N22 -> 0.16377516 | P22: =O22*O22 -> 0.026822302 | Q22: 3.1194444
A23: =(K23/10000*2500)/(E23/100)*10/1000+B23 -> 3.0071429 | B23: =B22 -> 0.8 | C23: =C3 -> 4 | D23: =D3-2 -> 28 | E23: =E22 -> 70 | F23: =F22 -> 12 | G23: 5 | H23: 10 | I23: =D23-C23-G23 -> 19 | J23: =(E23-2*H23-F23)/2 -> 19 | K23: =E23*C23+(D23-C23)*F23+G23*H23 -> 618 | L23: =L22+1 -> 21 | M23: =A23 -> 3.0071429 | N23: =N22 -> 3.3005106 | O23: =M23-N23 -> -0.2933677 | P23: =O23*O23 -> 0.086064608 | Q23: 3.1278986
A24: =(K24/10000*2500)/(E24/100)*10/1000+B24 -> 3.1107143 | B24: =B23 -> 0.8 | C24: =C4 -> 4.5 | D24: =D4-2 -> 28 | E24: =E23 -> 70 | F24: =F23 -> 12 | G24: 5 | H24: 10 | I24: =D24-C24-G24 -> 18.5 | J24: =(E24-2*H24-F24)/2 -> 19 | K24: =E24*C24+(D24-C24)*F24+G24*H24 -> 647 | L24: =L23+1 -> 22 | M24: =A24 -> 3.1107143 | N24: =N23 -> 3.3005106 | O24: =M24-N24 -> -0.18979627 | P24: =O24*O24 -> 0.036022625 | Q24: 3.1308824
A25: =(K25/10000*2500)/(E25/100)*10/1000+B25 -> 3.2142857 | B25: =B24 -> 0.8 | C25: =C5 -> 5 | D25: =D5-2 -> 28 | E25: =E24 -> 70 | F25: =F24 -> 12 | G25: 5 | H25: 10 | I25: =D25-C25-G25 -> 18 | J25: =(E25-2*H25-F25)/2 -> 19 | K25: =E25*C25+(D25-C25)*F25+G25*H25 -> 676 | L25: =L24+1 -> 23 | M25: =A25 -> 3.2142857 | N25: =N24 -> 3.3005106 | O25: =M25-N25 -> -0.086224844 | P25: =O25*O25 -> 0.0074347237 | Q25: 3.1357143
A26: =(K26/10000*2500)/(E26/100)*10/1000+B26 -> 3.3178571 | B26: =B25 -> 0.8 | C26: =C6 -> 5.5 | D26: =D6-2 -> 28 | E26: =E25 -> 70 | F26: =F25 -> 12 | G26: 5 | H26: 10 | I26: =D26-C26-G26 -> 17.5 | J26: =(E26-2*H26-F26)/2 -> 19 | K26: =E26*C26+(D26-C26)*F26+G26*H26 -> 705 | L26: =L25+1 -> 24 | M26: =A26 -> 3.3178571 | N26: =N25 -> 3.3005106 | O26: =M26-N26 -> 0.017346584 | P26: =O26*O26 -> 0.00030090399 | Q26: 3.1362676
A27: =(K27/10000*2500)/(E27/100)*10/1000+B27 -> 3.4214286 | B27: =B26 -> 0.8 | C27: =C7 -> 6 | D27: =D7-2 -> 28 | E27: =E26 -> 70 | F27: =F26 -> 12 | G27: 5 | H27: 10 | I27: =D27-C27-G27 -> 17 | J27: =(E27-2*H27-F27)/2 -> 19 | K27: =E27*C27+(D27-C27)*F27+G27*H27 -> 734 | L27: =L26+1 -> 25 | M27: =A27 -> 3.4214286 | N27: =N26 -> 3.3005106 | O27: =M27-N27 -> 0.12091801 | P27: =O27*O27 -> 0.014621166 | Q27: 3.1402778
L28: =L27+1 -> 26 | M28: =A31 -> 3.0746479 | N28: =N27 -> 3.3005106 | O28: =M28-N28 -> -0.22586267 | P28: =O28*O28 -> 0.051013946 | Q28: 3.1455882
A29: P. Forjado | B29: Aligeramiento | C29: h0 | D29: h | E29: b | F29: b0 | G29: h1 | H29: b1 | I29: h2 | J29: b2 | K29: Area | L29: =L28+1 -> 27 | M29: =A32 -> 3.1785211 | N29: =N28 -> 3.3005106 | O29: =M29-N29 -> -0.12198943 | P29: =O29*O29 -> 0.014881421 | Q29: 3.1535714
A30: kN/m2 | B30: kN/m2 | C30: cm | D30: cm | E30: cm | F30: cm | G30: cm | H30: cm | I30: cm | J30: cm | K30: cm2 | L30: =L29+1 -> 28 | M30: =A33 -> 3.2823944 | N30: =N29 -> 3.3005106 | O30: =M30-N30 -> -0.018116192 | P30: =O30*O30 -> 0.00032819642 | Q30: 3.1550725
A31: =(K31/10000*2500)/(E31/100)*10/1000+B31 -> 3.0746479 | B31: =I145 -> 0.8 | C31: =C3 -> 4 | D31: =D3 -> 30 | E31: =E3+1 -> 71 | F31: =F3 -> 12 | G31: 5 | H31: 10 | I31: =D31-C31-G31 -> 21 | J31: =(E31-2*H31-F31)/2 -> 19.5 | K31: =E31*C31+(D31-C31)*F31+G31*H31 -> 646 | L31: =L30+1 -> 29 | M31: =A34 -> 3.3862676 | N31: =N30 -> 3.3005106 | O31: =M31-N31 -> 0.085757047 | P31: =O31*O31 -> 0.0073542712 | Q31: 3.1591549
A32: =(K32/10000*2500)/(E32/100)*10/1000+B32 -> 3.1785211 | B32: =B31 -> 0.8 | C32: =C4 -> 4.5 | D32: =D4 -> 30 | E32: =E31 -> 71 | F32: =F4 -> 12 | G32: 5 | H32: 10 | I32: =D32-C32-G32 -> 20.5 | J32: =(E32-2*H32-F32)/2 -> 19.5 | K32: =E32*C32+(D32-C32)*F32+G32*H32 -> 675.5 | L32: =L31+1 -> 30 | M32: =A35 -> 3.4901408 | N32: =N31 -> 3.3005106 | O32: =M32-N32 -> 0.18963029 | P32: =O32*O32 -> 0.035959646 | Q32: 3.1611111
A33: =(K33/10000*2500)/(E33/100)*10/1000+B33 -> 3.2823944 | B33: =B32 -> 0.8 | C33: =C5 -> 5 | D33: =D5 -> 30 | E33: =E32 -> 71 | F33: =F5 -> 12 | G33: 5 | H33: 10 | I33: =D33-C33-G33 -> 20 | J33: =(E33-2*H33-F33)/2 -> 19.5 | K33: =E33*C33+(D33-C33)*F33+G33*H33 -> 705 | L33: =L32+1 -> 31 | M33: =A36 -> 3.1169014 | N33: =N32 -> 3.3005106 | O33: =M33-N33 -> -0.18360915 | P33: =O33*O33 -> 0.03371232 | Q33: 3.1713768
A34: =(K34/10000*2500)/(E34/100)*10/1000+B34 -> 3.3862676 | B34: =B33 -> 0.8 | C34: =C6 -> 5.5 | D34: =D6 -> 30 | E34: =E33 -> 71 | F34: =F6 -> 12 | G34: 5 | H34: 10 | I34: =D34-C34-G34 -> 19.5 | J34: =(E34-2*H34-F34)/2 -> 19.5 | K34: =E34*C34+(D34-C34)*F34+G34*H34 -> 734.5 | L34: =L33+1 -> 32 | M34: =A37 -> 3.2207746 | N34: =N33 -> 3.3005106 | O34: =M34-N34 -> -0.07973591 | P34: =O34*O34 -> 0.0063578154 | Q34: 3.175
A35: =(K35/10000*2500)/(E35/100)*10/1000+B35 -> 3.4901408 | B35: =B34 -> 0.8 | C35: =C7 -> 6 | D35: =D7 -> 30 | E35: =E34 -> 71 | F35: =F7 -> 12 | G35: 5 | H35: 10 | I35: =D35-C35-G35 -> 19 | J35: =(E35-2*H35-F35)/2 -> 19.5 | K35: =E35*C35+(D35-C35)*F35+G35*H35 -> 764 | L35: =L34+1 -> 33 | M35: =A38 -> 3.3246479 | N35: =N34 -> 3.3005106 | O35: =M35-N35 -> 0.024137329 | P35: =O35*O35 -> 0.00058261065 | Q35: 3.1785211
A36: =(K36/10000*2500)/(E36/100)*10/1000+B36 -> 3.1169014 | B36: =B35 -> 0.8 | C36: =C8 -> 4 | D36: =D8 -> 31 | E36: =E35 -> 71 | F36: =F8 -> 12 | G36: 5 | H36: 10 | I36: =D36-C36-G36 -> 22 | J36: =(E36-2*H36-F36)/2 -> 19.5 | K36: =E36*C36+(D36-C36)*F36+G36*H36 -> 658 | L36: =L35+1 -> 34 | M36: =A39 -> 3.4285211 | N36: =N35 -> 3.3005106 | O36: =M36-N36 -> 0.12801057 | P36: =O36*O36 -> 0.016386706 | Q36: 3.1785714
A37: =(K37/10000*2500)/(E37/100)*10/1000+B37 -> 3.2207746 | B37: =B36 -> 0.8 | C37: =C9 -> 4.5 | D37: =D9 -> 31 | E37: =E36 -> 71 | F37: =F9 -> 12 | G37: 5 | H37: 10 | I37: =D37-C37-G37 -> 21.5 | J37: =(E37-2*H37-F37)/2 -> 19.5 | K37: =E37*C37+(D37-C37)*F37+G37*H37 -> 687.5 | L37: =L36+1 -> 35 | M37: =A40 -> 3.5323944 | N37: =N36 -> 3.3005106 | O37: =M37-N37 -> 0.23188381 | P37: =O37*O37 -> 0.0537701 | Q37: 3.1819444
A38: =(K38/10000*2500)/(E38/100)*10/1000+B38 -> 3.3246479 | B38: =B37 -> 0.8 | C38: =C10 -> 5 | D38: =D10 -> 31 | E38: =E37 -> 71 | F38: =F10 -> 12 | G38: 5 | H38: 10 | I38: =D38-C38-G38 -> 21 | J38: =(E38-2*H38-F38)/2 -> 19.5 | K38: =E38*C38+(D38-C38)*F38+G38*H38 -> 717 | L38: =L37+1 -> 36 | M38: =A41 -> 3.1591549 | N38: =N37 -> 3.3005106 | O38: =M38-N38 -> -0.14135563 | P38: =O38*O38 -> 0.019981414 | Q38: 3.1897059
A39: =(K39/10000*2500)/(E39/100)*10/1000+B39 -> 3.4285211 | B39: =B38 -> 0.8 | C39: =C11 -> 5.5 | D39: =D11 -> 31 | E39: =E38 -> 71 | F39: =F11 -> 12 | G39: 5 | H39: 10 | I39: =D39-C39-G39 -> 20.5 | J39: =(E39-2*H39-F39)/2 -> 19.5 | K39: =E39*C39+(D39-C39)*F39+G39*H39 -> 746.5 | L39: =L38+1 -> 37 | M39: =A42 -> 3.2630282 | N39: =N38 -> 3.3005106 | O39: =M39-N39 -> -0.037482389 | P39: =O39*O39 -> 0.0014049295 | Q39: 3.1964286
A40: =(K40/10000*2500)/(E40/100)*10/1000+B40 -> 3.5323944 | B40: =B39 -> 0.8 | C40: =C12 -> 6 | D40: =D12 -> 31 | E40: =E39 -> 71 | F40: =F12 -> 12 | G40: 5 | H40: 10 | I40: =D40-C40-G40 -> 20 | J40: =(E40-2*H40-F40)/2 -> 19.5 | K40: =E40*C40+(D40-C40)*F40+G40*H40 -> 776 | L40: =L39+1 -> 38 | M40: =A43 -> 3.3669014 | N40: =N39 -> 3.3005106 | O40: =M40-N40 -> 0.06639085 | P40: =O40*O40 -> 0.004407745 | Q40: 3.1978873
A41: =(K41/10000*2500)/(E41/100)*10/1000+B41 -> 3.1591549 | B41: =B40 -> 0.8 | C41: =C13 -> 4 | D41: =D13 -> 32 | E41: =E40 -> 71 | F41: =F13 -> 12 | G41: 5 | H41: 10 | I41: =D41-C41-G41 -> 23 | J41: =(E41-2*H41-F41)/2 -> 19.5 | K41: =E41*C41+(D41-C41)*F41+G41*H41 -> 670 | L41: =L40+1 -> 39 | M41: =A44 -> 3.4707746 | N41: =N40 -> 3.3005106 | O41: =M41-N41 -> 0.17026409 | P41: =O41*O41 -> 0.02898986 | Q41: 3.1985507
A42: =(K42/10000*2500)/(E42/100)*10/1000+B42 -> 3.2630282 | B42: =B41 -> 0.8 | C42: =C14 -> 4.5 | D42: =D14 -> 32 | E42: =E41 -> 71 | F42: =F14 -> 12 | G42: 5 | H42: 10 | I42: =D42-C42-G42 -> 22.5 | J42: =(E42-2*H42-F42)/2 -> 19.5 | K42: =E42*C42+(D42-C42)*F42+G42*H42 -> 699.5 | L42: =L41+1 -> 40 | M42: =A45 -> 3.5746479 | N42: =N41 -> 3.3005106 | O42: =M42-N42 -> 0.27413733 | P42: =O42*O42 -> 0.075151275 | Q42: 3.2027778
A43: =(K43/10000*2500)/(E43/100)*10/1000+B43 -> 3.3669014 | B43: =B42 -> 0.8 | C43: =C15 -> 5 | D43: =D15 -> 32 | E43: =E42 -> 71 | F43: =F15 -> 12 | G43: 5 | H43: 10 | I43: =D43-C43-G43 -> 22 | J43: =(E43-2*H43-F43)/2 -> 19.5 | K43: =E43*C43+(D43-C43)*F43+G43*H43 -> 729 | L43: =L42+1 -> 41 | M43: =A46 -> 3.0323944 | N43: =N42 -> 3.3005106 | O43: =M43-N43 -> -0.26811619 | P43: =O43*O43 -> 0.071886293 | Q43: 3.2142857
... A52: =(K52/10000*2500)/(E52/100)*10/1000+B52 -> 3.0940141 | B52: =B51 -> 0.8 | C52: =C24 -> 4.5 | D52: =D24 -> 28 | E52: =E51 -> 71 | F52: =F24 -> 12 | G52: 5 | H52: 10 | I52: =D52-C52-G52 -> 18.5 | J52: =(E52-2*H52-F52)/2 -> 19.5 | K52: =E52*C52+(D52-C52)*F52+G52*H52 -> 651.5 | L52: =L51+1 -> 50 | M52: =A55 -> 3.4056338 | N52: =N51 -> 3.3005106 | O52: =M52-N52 -> 0.10512324 | P52: =O52*O52 -> 0.011050897 | Q52: 3.2444444
A53: =(K53/10000*2500)/(E53/100)*10/1000+B53 -> 3.1978873 | B53: =B52 -> 0.8 | C53: =C25 -> 5 | D53: =D25 -> 28 | E53: =E52 -> 71 | F53: =F25 -> 12 | G53: 5 | H53: 10 | I53: =D53-C53-G53 -> 18 | J53: =(E53-2*H53-F53)/2 -> 19.5 | K53: =E53*C53+(D53-C53)*F53+G53*H53 -> 681 | L53: =L52+1 -> 51 | M53: =A59 -> 3.0569444 | N53: =N52 -> 3.3005106 | O53: =M53-N53 -> -0.24356611 | P53: =O53*O53 -> 0.059324452 | Q53: 3.2485294
A54: =(K54/10000*2500)/(E54/100)*10/1000+B54 -> 3.3017606 | B54: =B53 -> 0.8 | C54: =C26 -> 5.5 | D54: =D26 -> 28 | E54: =E53 -> 71 | F54: =F26 -> 12 | G54: 5 | H54: 10 | I54: =D54-C54-G54 -> 17.5 | J54: =(E54-2*H54-F54)/2 -> 19.5 | K54: =E54*C54+(D54-C54)*F54+G54*H54 -> 710.5 | L54: =L53+1 -> 52 | M54: =A60 -> 3.1611111 | N54: =N53 -> 3.3005106 | O54: =M54-N54 -> -0.13939945 | P54: =O54*O54 -> 0.019432206 | Q54: 3.2571429
A55: =(K55/10000*2500)/(E55/100)*10/1000+B55 -> 3.4056338 | B55: =B54 -> 0.8 | C55: =C27 -> 6 | D55: =D27 -> 28 | E55: =E54 -> 71 | F55: =F27 -> 12 | G55: 5 | H55: 10 | I55: =D55-C55-G55 -> 17 | J55: =(E55-2*H55-F55)/2 -> 19.5 | K55: =E55*C55+(D55-C55)*F55+G55*H55 -> 740 | L55: =L54+1 -> 53 | M55: =A61 -> 3.2652778 | N55: =N54 -> 3.3005106 | O55: =M55-N55 -> -0.035232781 | P55: =O55*O55 -> 0.0012413488 | Q55: 3.2583333
L56: =L55+1 -> 54 | M56: =A62 -> 3.3694444 | N56: =N55 -> 3.3005106 | O56: =M56-N56 -> 0.068933886 | P56: =O56*O56 -> 0.0047518806 | Q56: 3.2630282
A57: P. Forjado | B57: Aligeramiento | C57: h0 | D57: h | E57: b | F57: b0 | G57: h1 | H57: b1 | I57: h2 | J57: b2 | K57: Area | L57: =L56+1 -> 55 | M57: =A63 -> 3.4736111 | N57: =N56 -> 3.3005106 | O57: =M57-N57 -> 0.17310055 | P57: =O57*O57 -> 0.029963801 | Q57: 3.2652778
A58: kN/m2 | B58: kN/m2 | C58: cm | D58: cm | E58: cm | F58: cm | G58: cm | H58: cm | I58: cm | J58: cm | K58: cm2 | L58: =L57+1 -> 56 | M58: =A64 -> 3.0986111 | N58: =N57 -> 3.3005106 | O58: =M58-N58 -> -0.20189945 | P58: =O58*O58 -> 0.040763387 | Q58: 3.2746377
A59: =(K59/10000*2500)/(E59/100)*10/1000+B59 -> 3.0569444 | B59: =I145 -> 0.8 | C59: =C31 -> 4 | D59: =D3 -> 30 | E59: =E3+2 -> 72 | F59: =F3 -> 12 | G59: 5 | H59: 10 | I59: =D59-C59-G59 -> 21 | J59: =(E59-2*H59-F59)/2 -> 20 | K59: =E59*C59+(D59-C59)*F59+G59*H59 -> 650 | L59: =L58+1 -> 57 | M59: =A65 -> 3.2027778 | N59: =N58 -> 3.3005106 | O59: =M59-N59 -> -0.097732781 | P59: =O59*O59 -> 0.0095516964 | Q59: 3.2779412
A60: =(K60/10000*2500)/(E60/100)*10/1000+B60 -> 3.1611111 | B60: =B59 -> 0.8 | C60: =C32 -> 4.5 | D60: =D4 -> 30 | E60: =E59 -> 72 | F60: =F4 -> 12 | G60: 5 | H60: 10 | I60: =D60-C60-G60 -> 20.5 | J60: =(E60-2*H60-F60)/2 -> 20 | K60: =E60*C60+(D60-C60)*F60+G60*H60 -> 680 | L60: =L59+1 -> 58 | M60: =A66 -> 3.3069444 | N60: =N59 -> 3.3005106 | O60: =M60-N60 -> 0.0064338861 | P60: =O60*O60 -> 4.139489e-05 | Q60: 3.2821429
A61: =(K61/10000*2500)/(E61/100)*10/1000+B61 -> 3.2652778 | B61: =B60 -> 0.8 | C61: =C33 -> 5 | D61: =D5 -> 30 | E61: =E60 -> 72 | F61: =F5 -> 12 | G61: 5 | H61: 10 | I61: =D61-C61-G61 -> 20 | J61: =(E61-2*H61-F61)/2 -> 20 | K61: =E61*C61+(D61-C61)*F61+G61*H61 -> 710 | L61: =L60+1 -> 59 | M61: =A67 -> 3.4111111 | N61: =N60 -> 3.3005106 | O61: =M61-N61 -> 0.11060055 | P61: =O61*O61 -> 0.012232482 | Q61: 3.2823944
A62: =(K62/10000*2500)/(E62/100)*10/1000+B62 -> 3.3694444 | B62: =B61 -> 0.8 | C62: =C34 -> 5.5 | D62: =D6 -> 30 | E62: =E61 -> 72 | F62: =F6 -> 12 | G62: 5 | H62: 10 | I62: =D62-C62-G62 -> 19.5 | J62: =(E62-2*H62-F62)/2 -> 20 | K62: =E62*C62+(D62-C62)*F62+G62*H62 -> 740 | L62: =L61+1 -> 60 | M62: =A68 -> 3.5152778 | N62: =N61 -> 3.3005106 | O62: =M62-N62 -> 0.21476722 | P62: =O62*O62 -> 0.046124959 | Q62: 3.2861111
A63: =(K63/10000*2500)/(E63/100)*10/1000+B63 -> 3.4736111 | B63: =B62 -> 0.8 | C63: =C35 -> 6 | D63: =D7 -> 30 | E63: =E62 -> 72 | F63: =F7 -> 12 | G63: 5 | H63: 10 | I63: =D63-C63-G63 -> 19 | J63: =(E63-2*H63-F63)/2 -> 20 | K63: =E63*C63+(D63-C63)*F63+G63*H63 -> 770 | L63: =L62+1 -> 61 | M63: =A69 -> 3.1402778 | N63: =N62 -> 3.3005106 | O63: =M63-N63 -> -0.16023278 | P63: =O63*O63 -> 0.025674544 | Q63: 3.2926471
A64: =(K64/10000*2500)/(E64/100)*10/1000+B64 -> 3.0986111 | B64: =B63 -> 0.8 | C64: =C36 -> 4 | D64: =D8 -> 31 | E64: =E63 -> 72 | F64: =F8 -> 12 | G64: 5 | H64: 10 | I64: =D64-C64-G64 -> 22 | J64: =(E64-2*H64-F64)/2 -> 20 | K64: =E64*C64+(D64-C64)*F64+G64*H64 -> 662 | L64: =L63+1 -> 62 | M64: =A70 -> 3.2444444 | N64: =N63 -> 3.3005106 | O64: =M64-N64 -> -0.056066114 | P64: =O64*O64 -> 0.0031434091 | Q64: 3.3
A65: =(K65/10000*2500)/(E65/100)*10/1000+B65 -> 3.2027778 | B65: =B64 -> 0.8 | C65: =C37 -> 4.5 | D65: =D9 -> 31 | E65: =E64 -> 72 | F65: =F9 -> 12 | G65: 5 | H65: 10 | I65: =D65-C65-G65 -> 21.5 | J65: =(E65-2*H65-F65)/2 -> 20 | K65: =E65*C65+(D65-C65)*F65+G65*H65 -> 692 | L65: =L64+1 -> 63 | M65: =A71 -> 3.3486111 | N65: =N64 -> 3.3005106 | O65: =M65-N65 -> 0.048100553 | P65: =O65*O65 -> 0.0023136632 | Q65: 3.3017606
A66: =(K66/10000*2500)/(E66/100)*10/1000+B66 -> 3.3069444 | B66: =B65 -> 0.8 | C66: =C38 -> 5 | D66: =D10 -> 31 | E66: =E65 -> 72 | F66: =F10 -> 12 | G66: 5 | H66: 10 | I66: =D66-C66-G66 -> 21 | J66: =(E66-2*H66-F66)/2 -> 20 | K66: =E66*C66+(D66-C66)*F66+G66*H66 -> 722 | L66: =L65+1 -> 64 | M66: =A72 -> 3.4527778 | N66: =N65 -> 3.3005106 | O66: =M66-N66 -> 0.15226722 | P66: =O66*O66 -> 0.023185306 | Q66: 3.3018116
A67: =(K67/10000*2500)/(E67/100)*10/1000+B67 -> 3.4111111 | B67: =B66 -> 0.8 | C67: =C39 -> 5.5 | D67: =D11 -> 31 | E67: =E66 -> 72 | F67: =F11 -> 12 | G67: 5 | H67: 10 | I67: =D67-C67-G67 -> 20.5 | J67: =(E67-2*H67-F67)/2 -> 20 | K67: =E67*C67+(D67-C67)*F67+G67*H67 -> 752 | L67: =L66+1 -> 65 | M67: =A73 -> 3.5569444 | N67: =N66 -> 3.3005106 | O67: =M67-N67 -> 0.25643389 | P67: =O67*O67 -> 0.065758338 | Q67: 3.3069444
A68: =(K68/10000*2500)/(E68/100)*10/1000+B68 -> 3.5152778 | B68: =B67 -> 0.8 | C68: =C40 -> 6 | D68: =D12 -> 31 | E68: =E67 -> 72 | F68: =F12 -> 12 | G68: 5 | H68: 10 | I68: =D68-C68-G68 -> 20 | J68: =(E68-2*H68-F68)/2 -> 20 | K68: =E68*C68+(D68-C68)*F68+G68*H68 -> 782 | L68: =L67+1 -> 66 | M68: =A74 -> 3.0152778 | N68: =N67 -> 3.3005106 | O68: =M68-N68 -> -0.28523278 | P68: =O68*O68 -> 0.081357739 | Q68: 3.3178571
A69: =(K69/10000*2500)/(E69/100)*10/1000+B69 -> 3.1402778 | B69: =B68 -> 0.8 | C69: =C41 -> 4 | D69: =D13 -> 32 | E69: =E68 -> 72 | F69: =F13 -> 12 | G69: 5 | H69: 10 | I69: =D69-C69-G69 -> 23 | J69: =(E69-2*H69-F69)/2 -> 20 | K69: =E69*C69+(D69-C69)*F69+G69*H69 -> 674 | L69: =L68+1 -> 67 | M69: =A75 -> 3.1194444 | N69: =N68 -> 3.3005106 | O69: =M69-N69 -> -0.18106611 | P69: =O69*O69 -> 0.032784938 | Q69: 3.3181159
A70: =(K70/10000*2500)/(E70/100)*10/1000+B70 -> 3.2444444 | B70: =B69 -> 0.8 | C70: =C42 -> 4.5 | D70: =D14 -> 32 | E70: =E69 -> 72 | F70: =F14 -> 12 | G70: 5 | H70: 10 | I70: =D70-C70-G70 -> 22.5 | J70: =(E70-2*H70-F70)/2 -> 20 | K70: =E70*C70+(D70-C70)*F70+G70*H70 -> 704 | L70: =L69+1 -> 68 | M70: =A76 -> 3.2236111 | N70: =N69 -> 3.3005106 | O70: =M70-N70 -> -0.076899447 | P70: =O70*O70 -> 0.005913525 | Q70: 3.3220588
A71: =(K71/10000*2500)/(E71/100)*10/1000+B71 -> 3.3486111 | B71: =B70 -> 0.8 | C71: =C43 -> 5 | D71: =D15 -> 32 | E71: =E70 -> 72 | F71: =F15 -> 12 | G71: 5 | H71: 10 | I71: =D71-C71-G71 -> 22 | J71: =(E71-2*H71-F71)/2 -> 20 | K71: =E71*C71+(D71-C71)*F71+G71*H71 -> 734 | L71: =L70+1 -> 69 | M71: =A77 -> 3.3277778 | N71: =N70 -> 3.3005106 | O71: =M71-N71 -> 0.027267219 | P71: =O71*O71 -> 0.00074350125 | Q71: 3.3246479
... A77: =(K77/10000*2500)/(E77/100)*10/1000+B77 -> 3.3277778 | B77: =B76 -> 0.8 | C77: =C49 -> 5.5 | D77: =D21 -> 29 | E77: =E76 -> 72 | F77: =F21 -> 12 | G77: 5 | H77: 10 | I77: =D77-C77-G77 -> 18.5 | J77: =(E77-2*H77-F77)/2 -> 20 | K77: =E77*C77+(D77-C77)*F77+G77*H77 -> 728 | L77: =L76+1 -> 75 | M77: =A83 -> 3.3902778 | N77: =N76 -> 3.3005106 | O77: =M77-N77 -> 0.089767219 | P77: =O77*O77 -> 0.0080581537 | Q77: 3.3486111
A78: =(K78/10000*2500)/(E78/100)*10/1000+B78 -> 3.4319444 | B78: =B77 -> 0.8 | C78: =C50 -> 6 | D78: =D22 -> 29 | E78: =E77 -> 72 | F78: =F22 -> 12 | G78: 5 | H78: 10 | I78: =D78-C78-G78 -> 18 | J78: =(E78-2*H78-F78)/2 -> 20 | K78: =E78*C78+(D78-C78)*F78+G78*H78 -> 758 | L78: =L77+1 -> 76 | M78: =A87 -> 3.1115942 | N78: =N77 -> 3.3005106 | O78: =M78-N78 -> -0.18891636 | P78: =O78*O78 -> 0.035689389 | Q78: 3.3514706
A79: =(K79/10000*2500)/(E79/100)*10/1000+B79 -> 2.9736111 | B79: =B78 -> 0.8 | C79: =C51 -> 4 | D79: =D23 -> 28 | E79: =E78 -> 72 | F79: =F23 -> 12 | G79: 5 | H79: 10 | I79: =D79-C79-G79 -> 19 | J79: =(E79-2*H79-F79)/2 -> 20 | K79: =E79*C79+(D79-C79)*F79+G79*H79 -> 626 | L79: =L78+1 -> 77 | M79: =A88 -> 3.2148551 | N79: =N78 -> 3.3005106 | O79: =M79-N79 -> -0.085655486 | P79: =O79*O79 -> 0.0073368623 | Q79: 3.3607143
A80: =(K80/10000*2500)/(E80/100)*10/1000+B80 -> 3.0777778 | B80: =B79 -> 0.8 | C80: =C52 -> 4.5 | D80: =D24 -> 28 | E80: =E79 -> 72 | F80: =F24 -> 12 | G80: 5 | H80: 10 | I80: =D80-C80-G80 -> 18.5 | J80: =(E80-2*H80-F80)/2 -> 20 | K80: =E80*C80+(D80-C80)*F80+G80*H80 -> 656 | L80: =L79+1 -> 78 | M80: =A89 -> 3.3181159 | N80: =N79 -> 3.3005106 | O80: =M80-N80 -> 0.017605384 | P80: =O80*O80 -> 0.00030994953 | Q80: 3.3615942
A81: =(K81/10000*2500)/(E81/100)*10/1000+B81 -> 3.1819444 | B81: =B80 -> 0.8 | C81: =C53 -> 5 | D81: =D25 -> 28 | E81: =E80 -> 72 | F81: =F25 -> 12 | G81: 5 | H81: 10 | I81: =D81-C81-G81 -> 18 | J81: =(E81-2*H81-F81)/2 -> 20 | K81: =E81*C81+(D81-C81)*F81+G81*H81 -> 686 | L81: =L80+1 -> 79 | M81: =A90 -> 3.4213768 | N81: =N80 -> 3.3005106 | O81: =M81-N81 -> 0.12086625 | P81: =O81*O81 -> 0.014608651 | Q81: 3.3669014
A82: =(K82/10000*2500)/(E82/100)*10/1000+B82 -> 3.2861111 | B82: =B81 -> 0.8 | C82: =C54 -> 5.5 | D82: =D26 -> 28 | E82: =E81 -> 72 | F82: =F26 -> 12 | G82: 5 | H82: 10 | I82: =D82-C82-G82 -> 17.5 | J82: =(E82-2*H82-F82)/2 -> 20 | K82: =E82*C82+(D82-C82)*F82+G82*H82 -> 716 | L82: =L81+1 -> 80 | M82: =A91 -> 3.5246377 | N82: =N81 -> 3.3005106 | O82: =M82-N82 -> 0.22412712 | P82: =O82*O82 -> 0.050232967 | Q82: 3.3694444
A83: =(K83/10000*2500)/(E83/100)*10/1000+B83 -> 3.3902778 | B83: =B82 -> 0.8 | C83: =C55 -> 6 | D83: =D27 -> 28 | E83: =E82 -> 72 | F83: =F27 -> 12 | G83: 5 | H83: 10 | I83: =D83-C83-G83 -> 17 | J83: =(E83-2*H83-F83)/2 -> 20 | K83: =E83*C83+(D83-C83)*F83+G83*H83 -> 746 | L83: =L82+1 -> 81 | M83: =A92 -> 3.1550725 | N83: =N82 -> 3.3005106 | O83: =M83-N83 -> -0.14543809 | P83: =O83*O83 -> 0.021152239 | Q83: 3.3778986
L84: =L83+1 -> 82 | M84: =A93 -> 3.2583333 | N84: =N83 -> 3.3005106 | O84: =M84-N84 -> -0.042177225 | P84: =O84*O84 -> 0.0017789183 | Q84: 3.3808824
A85: P. Forjado | B85: Aligeramiento | C85: h0 | D85: h | E85: b | F85: b0 | G85: h1 | H85: b1 | I85: h2 | J85: b2 | K85: Area | L85: =L84+1 -> 83 | M85: =A94 -> 3.3615942 | N85: =N84 -> 3.3005106 | O85: =M85-N85 -> 0.061083645 | P85: =O85*O85 -> 0.0037312116 | Q85: 3.3857143
A86: kN/m2 | B86: kN/m2 | C86: cm | D86: cm | E86: cm | F86: cm | G86: cm | H86: cm | I86: cm | J86: cm | K86: cm2 | L86: =L85+1 -> 84 | M86: =A95 -> 3.4648551 | N86: =N85 -> 3.3005106 | O86: =M86-N86 -> 0.16434451 | P86: =O86*O86 -> 0.027009119 | Q86: 3.3862676
A87: =(K87/10000*2500)/(E87/100)*10/1000+B87 -> 3.1115942 | B87: =I145 -> 0.8 | C87: =C59 -> 4 | D87: =D3 -> 30 | E87: =E3-1 -> 69 | F87: =F3 -> 12 | G87: 5 | H87: 10 | I87: =D87-C87-G87 -> 21 | J87: =(E87-2*H87-F87)/2 -> 18.5 | K87: =E87*C87+(D87-C87)*F87+G87*H87 -> 638 | L87: =L86+1 -> 85 | M87: =A96 -> 3.5681159 | N87: =N86 -> 3.3005106 | O87: =M87-N87 -> 0.26760538 | P87: =O87*O87 -> 0.071612641 | Q87: 3.3902778
A88: =(K88/10000*2500)/(E88/100)*10/1000+B88 -> 3.2148551 | B88: =B87 -> 0.8 | C88: =C60 -> 4.5 | D88: =D4 -> 30 | E88: =E87 -> 69 | F88: =F4 -> 12 | G88: 5 | H88: 10 | I88: =D88-C88-G88 -> 20.5 | J88: =(E88-2*H88-F88)/2 -> 18.5 | K88: =E88*C88+(D88-C88)*F88+G88*H88 -> 666.5 | L88: =L87+1 -> 86 | M88: =A97 -> 3.1985507 | N88: =N87 -> 3.3005106 | O88: =M88-N88 -> -0.10195983 | P88: =O88*O88 -> 0.010395808 | Q88: 3.3955882
A89: =(K89/10000*2500)/(E89/100)*10/1000+B89 -> 3.3181159 | B89: =B88 -> 0.8 | C89: =C61 -> 5 | D89: =D5 -> 30 | E89: =E88 -> 69 | F89: =F5 -> 12 | G89: 5 | H89: 10 | I89: =D89-C89-G89 -> 20 | J89: =(E89-2*H89-F89)/2 -> 18.5 | K89: =E89*C89+(D89-C89)*F89+G89*H89 -> 695 | L89: =L88+1 -> 87 | M89: =A98 -> 3.3018116 | N89: =N88 -> 3.3005106 | O89: =M89-N89 -> 0.0013010358 | P89: =O89*O89 -> 1.6926942e-06 | Q89: 3.4035714
A90: =(K90/10000*2500)/(E90/100)*10/1000+B90 -> 3.4213768 | B90: =B89 -> 0.8 | C90: =C62 -> 5.5 | D90: =D6 -> 30 | E90: =E89 -> 69 | F90: =F6 -> 12 | G90: 5 | H90: 10 | I90: =D90-C90-G90 -> 19.5 | J90: =(E90-2*H90-F90)/2 -> 18.5 | K90: =E90*C90+(D90-C90)*F90+G90*H90 -> 723.5 | L90: =L89+1 -> 88 | M90: =A99 -> 3.4050725 | N90: =N89 -> 3.3005106 | O90: =M90-N90 -> 0.10456191 | P90: =O90*O90 -> 0.010933192 | Q90: 3.4050725
A91: =(K91/10000*2500)/(E91/100)*10/1000+B91 -> 3.5246377 | B91: =B90 -> 0.8 | C91: =C63 -> 6 | D91: =D7 -> 30 | E91: =E90 -> 69 | F91: =F7 -> 12 | G91: 5 | H91: 10 | I91: =D91-C91-G91 -> 19 | J91: =(E91-2*H91-F91)/2 -> 18.5 | K91: =E91*C91+(D91-C91)*F91+G91*H91 -> 752 | L91: =L90+1 -> 89 | M91: =A100 -> 3.5083333 | N91: =N90 -> 3.3005106 | O91: =M91-N91 -> 0.20782277 | P91: =O91*O91 -> 0.043190306 | Q91: 3.4056338
A92: =(K92/10000*2500)/(E92/100)*10/1000+B92 -> 3.1550725 | B92: =B91 -> 0.8 | C92: =C64 -> 4 | D92: =D8 -> 31 | E92: =E91 -> 69 | F92: =F8 -> 12 | G92: 5 | H92: 10 | I92: =D92-C92-G92 -> 22 | J92: =(E92-2*H92-F92)/2 -> 18.5 | K92: =E92*C92+(D92-C92)*F92+G92*H92 -> 650 | L92: =L91+1 -> 90 | M92: =A101 -> 3.6115942 | N92: =N91 -> 3.3005106 | O92: =M92-N92 -> 0.31108364 | P92: =O92*O92 -> 0.096773034 | Q92: 3.4111111
A93: =(K93/10000*2500)/(E93/100)*10/1000+B93 -> 3.2583333 | B93: =B92 -> 0.8 | C93: =C65 -> 4.5 | D93: =D9 -> 31 | E93: =E92 -> 69 | F93: =F9 -> 12 | G93: 5 | H93: 10 | I93: =D93-C93-G93 -> 21.5 | J93: =(E93-2*H93-F93)/2 -> 18.5 | K93: =E93*C93+(D93-C93)*F93+G93*H93 -> 678.5 | L93: =L92+1 -> 91 | M93: =A102 -> 3.0681159 | N93: =N92 -> 3.3005106 | O93: =M93-N93 -> -0.23239462 | P93: =O93*O93 -> 0.054007258 | Q93: 3.4213768
A94: =(K94/10000*2500)/(E94/100)*10/1000+B94 -> 3.3615942 | B94: =B93 -> 0.8 | C94: =C66 -> 5 | D94: =D10 -> 31 | E94: =E93 -> 69 | F94: =F10 -> 12 | G94: 5 | H94: 10 | I94: =D94-C94-G94 -> 21 | J94: =(E94-2*H94-F94)/2 -> 18.5 | K94: =E94*C94+(D94-C94)*F94+G94*H94 -> 707 | L94: =L93+1 -> 92 | M94: =A103 -> 3.1713768 | N94: =N93 -> 3.3005106 | O94: =M94-N94 -> -0.12913375 | P94: =O94*O94 -> 0.016675525 | Q94: 3.4214286
A95: =(K95/10000*2500)/(E95/100)*10/1000+B95 -> 3.4648551 | B95: =B94 -> 0.8 | C95: =C67 -> 5.5 | D95: =D11 -> 31 | E95: =E94 -> 69 | F95: =F11 -> 12 | G95: 5 | H95: 10 | I95: =D95-C95-G95 -> 20.5 | J95: =(E95-2*H95-F95)/2 -> 18.5 | K95: =E95*C95+(D95-C95)*F95+G95*H95 -> 735.5 | L95: =L94+1 -> 93 | M95: =A104 -> 3.2746377 | N95: =N94 -> 3.3005106 | O95: =M95-N95 -> -0.025872877 | P95: =O95*O95 -> 0.00066940578 | Q95: 3.425
A96: =(K96/10000*2500)/(E96/100)*10/1000+B96 -> 3.5681159 | B96: =B95 -> 0.8 | C96: =C68 -> 6 | D96: =D12 -> 31 | E96: =E95 -> 69 | F96: =F12 -> 12 | G96: 5 | H96: 10 | I96: =D96-C96-G96 -> 20 | J96: =(E96-2*H96-F96)/2 -> 18.5 | K96: =E96*C96+(D96-C96)*F96+G96*H96 -> 764 | L96: =L95+1 -> 94 | M96: =A105 -> 3.3778986 | N96: =N95 -> 3.3005106 | O96: =M96-N96 -> 0.077387992 | P96: =O96*O96 -> 0.0059889014 | Q96: 3.4285211
A97: =(K97/10000*2500)/(E97/100)*10/1000+B97 -> 3.1985507 | B97: =B96 -> 0.8 | C97: =C69 -> 4 | D97: =D13 -> 32 | E97: =E96 -> 69 | F97: =F13 -> 12 | G97: 5 | H97: 10 | I97: =D97-C97-G97 -> 23 | J97: =(E97-2*H97-F97)/2 -> 18.5 | K97: =E97*C97+(D97-C97)*F97+G97*H97 -> 662 | L97: =L96+1 -> 95 | M97: =A106 -> 3.4811594 | N97: =N96 -> 3.3005106 | O97: =M97-N97 -> 0.18064886 | P97: =O97*O97 -> 0.032634011 | Q97: 3.4319444
A98: =(K98/10000*2500)/(E98/100)*10/1000+B98 -> 3.3018116 | B98: =B97 -> 0.8 | C98: =C70 -> 4.5 | D98: =D14 -> 32 | E98: =E97 -> 69 | F98: =F14 -> 12 | G98: 5 | H98: 10 | I98: =D98-C98-G98 -> 22.5 | J98: =(E98-2*H98-F98)/2 -> 18.5 | K98: =E98*C98+(D98-C98)*F98+G98*H98 -> 690.5 | L98: =L97+1 -> 96 | M98: =A107 -> 3.0246377 | N98: =N97 -> 3.3005106 | O98: =M98-N98 -> -0.27587288 | P98: =O98*O98 -> 0.076105844 | Q98: 3.4376812
A99: =(K99/10000*2500)/(E99/100)*10/1000+B99 -> 3.4050725 | B99: =B98 -> 0.8 | C99: =C71 -> 5 | D99: =D15 -> 32 | E99: =E98 -> 69 | F99: =F15 -> 12 | G99: 5 | H99: 10 | I99: =D99-C99-G99 -> 22 | J99: =(E99-2*H99-F99)/2 -> 18.5 | K99: =E99*C99+(D99-C99)*F99+G99*H99 -> 719 | L99: =L98+1 -> 97 | M99: =A108 -> 3.1278986 | N99: =N98 -> 3.3005106 | O99: =M99-N99 -> -0.17261201 | P99: =O99*O99 -> 0.029794905 | Q99: 3.4397059
... A102: =(K102/10000*2500)/(E102/100)*10/1000+B102 -> 3.0681159 | B102: =B101 -> 0.8 | C102: =C74 -> 4 | D102: =D18 -> 29 | E102: =E101 -> 69 | F102: =F18 -> 12 | G102: 5 | H102: 10 | I102: =D102-C102-G102 -> 20 | J102: =(E102-2*H102-F102)/2 -> 18.5 | K102: =E102*C102+(D102-C102)*F102+G102*H102 -> 626 | L102: =L101+1 -> 100 | M102: =A111 -> 3.4376812 | N102: =N101 -> 3.3005106 | O102: =M102-N102 -> 0.1371706 | P102: =O102*O102 -> 0.018815774 | Q102: 3.4527778
A103: =(K103/10000*2500)/(E103/100)*10/1000+B103 -> 3.1713768 | B103: =B102 -> 0.8 | C103: =C75 -> 4.5 | D103: =D19 -> 29 | E103: =E102 -> 69 | F103: =F19 -> 12 | G103: 5 | H103: 10 | I103: =D103-C103-G103 -> 19.5 | J103: =(E103-2*H103-F103)/2 -> 18.5 | K103: =E103*C103+(D103-C103)*F103+G103*H103 -> 654.5 | L103: =L102+1 -> 101 | M103: =A115 -> 3.1308824 | N103: =N102 -> 3.3005106 | O103: =M103-N103 -> -0.16962821 | P103: =O103*O103 -> 0.028773728 | Q103: 3.4544118
A104: =(K104/10000*2500)/(E104/100)*10/1000+B104 -> 3.2746377 | B104: =B103 -> 0.8 | C104: =C76 -> 5 | D104: =D20 -> 29 | E104: =E103 -> 69 | F104: =F20 -> 12 | G104: 5 | H104: 10 | I104: =D104-C104-G104 -> 19 | J104: =(E104-2*H104-F104)/2 -> 18.5 | K104: =E104*C104+(D104-C104)*F104+G104*H104 -> 683 | L104: =L103+1 -> 102 | M104: =A116 -> 3.2338235 | N104: =N103 -> 3.3005106 | O104: =M104-N104 -> -0.066687029 | P104: =O104*O104 -> 0.0044471598 | Q104: 3.4642857
A105: =(K105/10000*2500)/(E105/100)*10/1000+B105 -> 3.3778986 | B105: =B104 -> 0.8 | C105: =C77 -> 5.5 | D105: =D21 -> 29 | E105: =E104 -> 69 | F105: =F21 -> 12 | G105: 5 | H105: 10 | I105: =D105-C105-G105 -> 18.5 | J105: =(E105-2*H105-F105)/2 -> 18.5 | K105: =E105*C105+(D105-C105)*F105+G105*H105 -> 711.5 | L105: =L104+1 -> 103 | M105: =A117 -> 3.3367647 | N105: =N104 -> 3.3005106 | O105: =M105-N105 -> 0.036254148 | P105: =O105*O105 -> 0.0013143632 | Q105: 3.4648551
A106: =(K106/10000*2500)/(E106/100)*10/1000+B106 -> 3.4811594 | B106: =B105 -> 0.8 | C106: =C78 -> 6 | D106: =D22 -> 29 | E106: =E105 -> 69 | F106: =F22 -> 12 | G106: 5 | H106: 10 | I106: =D106-C106-G106 -> 18 | J106: =(E106-2*H106-F106)/2 -> 18.5 | K106: =E106*C106+(D106-C106)*F106+G106*H106 -> 740 | L106: =L105+1 -> 104 | M106: =A118 -> 3.4397059 | N106: =N105 -> 3.3005106 | O106: =M106-N106 -> 0.13919532 | P106: =O106*O106 -> 0.019375338 | Q106: 3.4707746
A107: =(K107/10000*2500)/(E107/100)*10/1000+B107 -> 3.0246377 | B107: =B106 -> 0.8 | C107: =C79 -> 4 | D107: =D23 -> 28 | E107: =E106 -> 69 | F107: =F23 -> 12 | G107: 5 | H107: 10 | I107: =D107-C107-G107 -> 19 | J107: =(E107-2*H107-F107)/2 -> 18.5 | K107: =E107*C107+(D107-C107)*F107+G107*H107 -> 614 | L107: =L106+1 -> 105 | M107: =A119 -> 3.5426471 | N107: =N106 -> 3.3005106 | O107: =M107-N107 -> 0.2421365 | P107: =O107*O107 -> 0.058630085 | Q107: 3.4736111
A108: =(K108/10000*2500)/(E108/100)*10/1000+B108 -> 3.1278986 | B108: =B107 -> 0.8 | C108: =C80 -> 4.5 | D108: =D24 -> 28 | E108: =E107 -> 69 | F108: =F24 -> 12 | G108: 5 | H108: 10 | I108: =D108-C108-G108 -> 18.5 | J108: =(E108-2*H108-F108)/2 -> 18.5 | K108: =E108*C108+(D108-C108)*F108+G108*H108 -> 642.5 | L108: =L107+1 -> 106 | M108: =A120 -> 3.175 | N108: =N107 -> 3.3005106 | O108: =M108-N108 -> -0.12551056 | P108: =O108*O108 -> 0.0157529 | Q108: 3.4811594
A109: =(K109/10000*2500)/(E109/100)*10/1000+B109 -> 3.2311594 | B109: =B108 -> 0.8 | C109: =C81 -> 5 | D109: =D25 -> 28 | E109: =E108 -> 69 | F109: =F25 -> 12 | G109: 5 | H109: 10 | I109: =D109-C109-G109 -> 18 | J109: =(E109-2*H109-F109)/2 -> 18.5 | K109: =E109*C109+(D109-C109)*F109+G109*H109 -> 671 | L109: =L108+1 -> 107 | M109: =A121 -> 3.2779412 | N109: =N108 -> 3.3005106 | O109: =M109-N109 -> -0.022569382 | P109: =O109*O109 -> 0.000509377 | Q109: 3.4838235
A110: =(K110/10000*2500)/(E110/100)*10/1000+B110 -> 3.3344203 | B110: =B109 -> 0.8 | C110: =C82 -> 5.5 | D110: =D26 -> 28 | E110: =E109 -> 69 | F110: =F26 -> 12 | G110: 5 | H110: 10 | I110: =D110-C110-G110 -> 17.5 | J110: =(E110-2*H110-F110)/2 -> 18.5 | K110: =E110*C110+(D110-C110)*F110+G110*H110 -> 699.5 | L110: =L109+1 -> 108 | M110: =A122 -> 3.3808824 | N110: =N109 -> 3.3005106 | O110: =M110-N110 -> 0.080371795 | P110: =O110*O110 -> 0.0064596254 | Q110: 3.4892857
A111: =(K111/10000*2500)/(E111/100)*10/1000+B111 -> 3.4376812 | B111: =B110 -> 0.8 | C111: =C83 -> 6 | D111: =D27 -> 28 | E111: =E110 -> 69 | F111: =F27 -> 12 | G111: 5 | H111: 10 | I111: =D111-C111-G111 -> 17 | J111: =(E111-2*H111-F111)/2 -> 18.5 | K111: =E111*C111+(D111-C111)*F111+G111*H111 -> 728 | L111: =L110+1 -> 109 | M111: =A123 -> 3.4838235 | N111: =N110 -> 3.3005106 | O111: =M111-N111 -> 0.18331297 | P111: =O111*O111 -> 0.033603645 | Q111: 3.4901408
L112: =L111+1 -> 110 | M112: =A124 -> 3.5867647 | N112: =N111 -> 3.3005106 | O112: =M112-N112 -> 0.28625415 | P112: =O112*O112 -> 0.081941437 | Q112: 3.4985294
A113: P. Forjado | B113: Aligeramiento | C113: h0 | D113: h | E113: b | F113: b0 | G113: h1 | H113: b1 | I113: h2 | J113: b2 | K113: Area | L113: =L112+1 -> 111 | M113: =A125 -> 3.2191176 | N113: =N112 -> 3.3005106 | O113: =M113-N113 -> -0.081392911 | P113: =O113*O113 -> 0.006624806 | Q113: 3.5071429
A114: kN/m2 | B114: kN/m2 | C114: cm | D114: cm | E114: cm | F114: cm | G114: cm | H114: cm | I114: cm | J114: cm | K114: cm2 | L114: =L113+1 -> 112 | M114: =A126 -> 3.3220588 | N114: =N113 -> 3.3005106 | O114: =M114-N114 -> 0.021548265 | P114: =O114*O114 -> 0.00046432773 | Q114: 3.5083333
A115: =(K115/10000*2500)/(E115/100)*10/1000+B115 -> 3.1308824 | B115: =I145 -> 0.8 | C115: =C87 -> 4 | D115: =D31 -> 30 | E115: =E3-2 -> 68 | F115: =F3 -> 12 | G115: 5 | H115: 10 | I115: =D115-C115-G115 -> 21 | J115: =(E115-2*H115-F115)/2 -> 18 | K115: =E115*C115+(D115-C115)*F115+G115*H115 -> 634 | L115: =L114+1 -> 113 | M115: =A127 -> 3.425 | N115: =N114 -> 3.3005106 | O115: =M115-N115 -> 0.12448944 | P115: =O115*O115 -> 0.015497621 | Q115: 3.5152778
...

Sheet Canto 25
A1: P. Forjado | B1: Aligeramiento | C1: h0 | D1: h | E1: b | F1: b0 | G1: h1 | H1: b1 | I1: h2 | J1: b2 | K1: Area | L1: Nº de Orden | M1: Valores | N1: Media | O1: Desv. | P1: Des2 | Q1: Valores
A2: kN/m2 | B2: kN/m2 | C2: cm | D2: cm | E2: cm | F2: cm | G2: cm | H2: cm | I2: cm | J2: cm | K2: cm2 | L2: - | M2: kN/m2 | N2: kN/m2 | O2: kN/m2 | P2: - | Q2: kN/m2
A3: =(K3/10000*2500)/(E3/100)*10/1000+B3 -> 2.7071429 | B3: =I145 -> 0.62857143 | C3: =C4-0.5 -> 4 | D3: =C144 -> 25 | E3: =D144 -> 70 | F3: =E144 -> 12 | G3: 5 | H3: 10 | I3: =D3-C3-G3 -> 16 | J3: =(E3-2*H3-F3)/2 -> 19 | K3: =E3*C3+(D3-C3)*F3+G3*H3 -> 582 | L3: =1 -> 1 | M3: =A3 -> 2.7071429 | N3: =M129 -> 2.9147087 | O3: =M3-N3 -> -0.20756589 | P3: =O3*O3 -> 0.043083599 | Q3: 2.5938492 | R3: 8 | S3: =2.515+0.05 -> 2.565
A4: =(K4/10000*2500)/(E4/100)*10/1000+B4 -> 2.8107143 | B4: =B3 -> 0.62857143 | C4: =C5-0.5 -> 4.5 | D4: =D3 -> 25 | E4: =E3 -> 70 | F4: =F3 -> 12 | G4: 5 | H4: 10 | I4: =D4-C4-G4 -> 15.5 | J4: =(E4-2*H4-F4)/2 -> 19 | K4: =E4*C4+(D4-C4)*F4+G4*H4 -> 611 | L4: =L3+1 -> 2 | M4: =A4 -> 2.8107143 | N4: =N3 -> 2.9147087 | O4: =M4-N4 -> -0.10399446 | P4: =O4*O4 -> 0.010814848 | Q4: 2.6074447 | S4: =S3+0.1 -> 2.665
A5: =(K5/10000*2500)/(E5/100)*10/1000+B5 -> 2.9142857 | B5: =B4 -> 0.62857143 | C5: =B144 -> 5 | D5: =D4 -> 25 | E5: =E4 -> 70 | F5: =F4 -> 12 | G5: 5 | H5: 10 | I5: =D5-C5-G5 -> 15 | J5: =(E5-2*H5-F5)/2 -> 19 | K5: =E5*C5+(D5-C5)*F5+G5*H5 -> 640 | L5: =L4+1 -> 3 | M5: =A5 -> 2.9142857 | N5: =N4 -> 2.9147087 | O5: =M5-N5 -> -0.00042303408 | P5: =O5*O5 -> 1.7895784e-07 | Q5: 2.6214286
A6: =(K6/10000*2500)/(E6/100)*10/1000+B6 -> 3.0178571 | B6: =B5 -> 0.62857143 | C6: =C5+0.5 -> 5.5 | D6: =D5 -> 25 | E6: =E5 -> 70 | F6: =F5 -> 12 | G6: 5 | H6: 10 | I6: =D6-C6-G6 -> 14.5 | J6: =(E6-2*H6-F6)/2 -> 19 | K6: =E6*C6+(D6-C6)*F6+G6*H6 -> 669 | L6: =L5+1 -> 4 | M6: =A6 -> 3.0178571 | N6: =N5 -> 2.9147087 | O6: =M6-N6 -> 0.10314839 | P6: =O6*O6 -> 0.010639591 | Q6: 2.6355159
A7: =(K7/10000*2500)/(E7/100)*10/1000+B7 -> 3.1214286 | B7: =B6 -> 0.62857143 | C7: =C6+0.5 -> 6 | D7: =D6 -> 25 | E7: =E6 -> 70 | F7: =F6 -> 12 | G7: 5 | H7: 10 | I7: =D7-C7-G7 -> 14 | J7: =(E7-2*H7-F7)/2 -> 19 | K7: =E7*C7+(D7-C7)*F7+G7*H7 -> 698 | L7: =L6+1 -> 5 | M7: =A7 -> 3.1214286 | N7: =N6 -> 2.9147087 | O7: =M7-N7 -> 0.20671982 | P7: =O7*O7 -> 0.042733085 | Q7: 2.6358178
A8: =(K8/10000*2500)/(E8/100)*10/1000+B8 -> 2.75 | B8: =B7 -> 0.62857143 | C8: =C3 -> 4 | D8: =D3+1 -> 26 | E8: =E7 -> 70 | F8: =F7 -> 12 | G8: 5 | H8: 10 | I8: =D8-C8-G8 -> 17 | J8: =(E8-2*H8-F8)/2 -> 19 | K8: =E8*C8+(D8-C8)*F8+G8*H8 -> 594 | L8: =L7+1 -> 6 | M8: =A8 -> 2.75 | N8: =N7 -> 2.9147087 | O8: =M8-N8 -> -0.16470875 | P8: =O8*O8 -> 0.027128972 | Q8: 2.6496982
A9: =(K9/10000*2500)/(E9/100)*10/1000+B9 -> 2.8535714 | B9: =B8 -> 0.62857143 | C9: =C4 -> 4.5 | D9: =D4+1 -> 26 | E9: =E8 -> 70 | F9: =F8 -> 12 | G9: 5 | H9: 10 | I9: =D9-C9-G9 -> 16.5 | J9: =(E9-2*H9-F9)/2 -> 19 | K9: =E9*C9+(D9-C9)*F9+G9*H9 -> 623 | L9: =L8+1 -> 7 | M9: =A9 -> 2.8535714 | N9: =N8 -> 2.9147087 | O9: =M9-N9 -> -0.06113732 | P9: =O9*O9 -> 0.0037377719 | Q9: 2.6506303
A10: =(K10/10000*2500)/(E10/100)*10/1000+B10 -> 2.9571429 | B10: =B9 -> 0.62857143 | C10: =C5 -> 5 | D10: =D5+1 -> 26 | E10: =E9 -> 70 | F10: =F9 -> 12 | G10: 5 | H10: 10 | I10: =D10-C10-G10 -> 16 | J10: =(E10-2*H10-F10)/2 -> 19 | K10: =E10*C10+(D10-C10)*F10+G10*H10 -> 652 | L10: =L9+1 -> 8 | M10: =A10 -> 2.9571429 | N10: =N9 -> 2.9147087 | O10: =M10-N10 -> 0.042434109 | P10: =O10*O10 -> 0.0018006536 | Q10: 2.6642857
A11: =(K11/10000*2500)/(E11/100)*10/1000+B11 -> 3.0607143 | B11: =B10 -> 0.62857143 | C11: =C6 -> 5.5 | D11: =D6+1 -> 26 | E11: =E10 -> 70 | F11: =F10 -> 12 | G11: 5 | H11: 10 | I11: =D11-C11-G11 -> 15.5 | J11: =(E11-2*H11-F11)/2 -> 19 | K11: =E11*C11+(D11-C11)*F11+G11*H11 -> 681 | L11: =L10+1 -> 9 | M11: =A11 -> 3.0607143 | N11: =N10 -> 2.9147087 | O11: =M11-N11 -> 0.14600554 | P11: =O11*O11 -> 0.021317617 | Q11: 2.6771825 | R11: 18
A12: =(K12/10000*2500)/(E12/100)*10/1000+B12 -> 3.1642857 | B12: =B11 -> 0.62857143 | C12: =C7 -> 6 | D12: =D7+1 -> 26 | E12: =E11 -> 70 | F12: =F11 -> 12 | G12: 5 | H12: 10 | I12: =D12-C12-G12 -> 15 | J12: =(E12-2*H12-F12)/2 -> 19 | K12: =E12*C12+(D12-C12)*F12+G12*H12 -> 710 | L12: =L11+1 -> 10 | M12: =A12 -> 3.1642857 | N12: =N11 -> 2.9147087 | O12: =M12-N12 -> 0.24957697 | P12: =O12*O12 -> 0.062288662 | Q12: 2.6792961
A13: =(K13/10000*2500)/(E13/100)*10/1000+B13 -> 2.7928571 | B13: =B12 -> 0.62857143 | C13: =C3 -> 4 | D13: =D3+2 -> 27 | E13: =E12 -> 70 | F13: =F12 -> 12 | G13: 5 | H13: 10 | I13: =D13-C13-G13 -> 18 | J13: =(E13-2*H13-F13)/2 -> 19 | K13: =E13*C13+(D13-C13)*F13+G13*H13 -> 606 | L13: =L12+1 -> 11 | M13: =A13 -> 2.7928571 | N13: =N12 -> 2.9147087 | O13: =M13-N13 -> -0.12185161 | P13: =O13*O13 -> 0.014847814 | Q13: 2.6919517
A14: =(K14/10000*2500)/(E14/100)*10/1000+B14 -> 2.8964286 | B14: =B13 -> 0.62857143 | C14: =C4 -> 4.5 | D14: =D4+2 -> 27 | E14: =E13 -> 70 | F14: =F13 -> 12 | G14: 5 | H14: 10 | I14: =D14-C14-G14 -> 17.5 | J14: =(E14-2*H14-F14)/2 -> 19 | K14: =E14*C14+(D14-C14)*F14+G14*H14 -> 635 | L14: =L13+1 -> 12 | M14: =A14 -> 2.8964286 | N14: =N13 -> 2.9147087 | O14: =M14-N14 -> -0.018280177 | P14: =O14*O14 -> 0.00033416487 | Q14: 2.6947479
A15: =(K15/10000*2500)/(E15/100)*10/1000+B15 -> 3 | B15: =B14 -> 0.62857143 | C15: =C5 -> 5 | D15: =D5+2 -> 27 | E15: =E14 -> 70 | F15: =F14 -> 12 | G15: 5 | H15: 10 | I15: =D15-C15-G15 -> 17 | J15: =(E15-2*H15-F15)/2 -> 19 | K15: =E15*C15+(D15-C15)*F15+G15*H15 -> 664 | L15: =L14+1 -> 13 | M15: =A15 -> 3 | N15: =N14 -> 2.9147087 | O15: =M15-N15 -> 0.085291252 | P15: =O15*O15 -> 0.0072745976 | Q15: 2.6980159
A16: =(K16/10000*2500)/(E16/100)*10/1000+B16 -> 3.1035714 | B16: =B15 -> 0.62857143 | C16: =C6 -> 5.5 | D16: =D6+2 -> 27 | E16: =E15 -> 70 | F16: =F15 -> 12 | G16: 5 | H16: 10 | I16: =D16-C16-G16 -> 16.5 | J16: =(E16-2*H16-F16)/2 -> 19 | K16: =E16*C16+(D16-C16)*F16+G16*H16 -> 693 | L16: =L15+1 -> 14 | M16: =A16 -> 3.1035714 | N16: =N15 -> 2.9147087 | O16: =M16-N16 -> 0.18886268 | P16: =O16*O16 -> 0.035669112 | Q16: 2.7071429
A17: =(K17/10000*2500)/(E17/100)*10/1000+B17 -> 3.2071429 | B17: =B16 -> 0.62857143 | C17: =C7 -> 6 | D17: =D7+2 -> 27 | E17: =E16 -> 70 | F17: =F16 -> 12 | G17: 5 | H17: 10 | I17: =D17-C17-G17 -> 16 | J17: =(E17-2*H17-F17)/2 -> 19 | K17: =E17*C17+(D17-C17)*F17+G17*H17 -> 722 | L17: =L16+1 -> 15 | M17: =A17 -> 3.2071429 | N17: =N16 -> 2.9147087 | O17: =M17-N17 -> 0.29243411 | P17: =O17*O17 -> 0.085517708 | Q17: 2.7113179
A18: =(K18/10000*2500)/(E18/100)*10/1000+B18 -> 2.6642857 | B18: =B17 -> 0.62857143 | C18: =C3 -> 4 | D18: =D3-1 -> 24 | E18: =E17 -> 70 | F18: =F17 -> 12 | G18: 5 | H18: 10 | I18: =D18-C18-G18 -> 15 | J18: =(E18-2*H18-F18)/2 -> 19 | K18: =E18*C18+(D18-C18)*F18+G18*H18 -> 570 | L18: =L17+1 -> 16 | M18: =A18 -> 2.6642857 | N18: =N17 -> 2.9147087 | O18: =M18-N18 -> -0.25042303 | P18: =O18*O18 -> 0.062711696 | Q18: 2.7188492
A19: =(K19/10000*2500)/(E19/100)*10/1000+B19 -> 2.7678571 | B19: =B18 -> 0.62857143 | C19: =C4 -> 4.5 | D19: =D4-1 -> 24 | E19: =E18 -> 70 | F19: =F18 -> 12 | G19: 5 | H19: 10 | I19: =D19-C19-G19 -> 14.5 | J19: =(E19-2*H19-F19)/2 -> 19 | K19: =E19*C19+(D19-C19)*F19+G19*H19 -> 599 | L19: =L18+1 -> 17 | M19: =A19 -> 2.7678571 | N19: =N18 -> 2.9147087 | O19: =M19-N19 -> -0.14685161 | P19: =O19*O19 -> 0.021565394 | Q19: 2.7227743
A20: =(K20/10000*2500)/(E20/100)*10/1000+B20 -> 2.8714286 | B20: =B19 -> 0.62857143 | C20: =C5 -> 5 | D20: =D5-1 -> 24 | E20: =E19 -> 70 | F20: =F19 -> 12 | G20: 5 | H20: 10 | I20: =D20-C20-G20 -> 14 | J20: =(E20-2*H20-F20)/2 -> 19 | K20: =E20*C20+(D20-C20)*F20+G20*H20 -> 628 | L20: =L19+1 -> 18 | M20: =A20 -> 2.8714286 | N20: =N19 -> 2.9147087 | O20: =M20-N20 -> -0.043280177 | P20: =O20*O20 -> 0.0018731737 | Q20: 2.725
A21: =(K21/10000*2500)/(E21/100)*10/1000+B21 -> 2.975 | B21: =B20 -> 0.62857143 | C21: =C6 -> 5.5 | D21: =D6-1 -> 24 | E21: =E20 -> 70 | F21: =F20 -> 12 | G21: 5 | H21: 10 | I21: =D21-C21-G21 -> 13.5 | J21: =(E21-2*H21-F21)/2 -> 19 | K21: =E21*C21+(D21-C21)*F21+G21*H21 -> 657 | L21: =L20+1 -> 19 | M21: =A21 -> 2.975 | N21: =N20 -> 2.9147087 | O21: =M21-N21 -> 0.060291252 | P21: =O21*O21 -> 0.003635035 | Q21: 2.7342052
A22: =(K22/10000*2500)/(E22/100)*10/1000+B22 -> 3.0785714 | B22: =B21 -> 0.62857143 | C22: =C7 -> 6 | D22: =D7-1 -> 24 | E22: =E21 -> 70 | F22: =F21 -> 12 | G22: 5 | H22: 10 | I22: =D22-C22-G22 -> 13 | J22: =(E22-2*H22-F22)/2 -> 19 | K22: =E22*C22+(D22-C22)*F22+G22*H22 -> 686 | L22: =L21+1 -> 20 | M22: =A22 -> 3.0785714 | N22: =N21 -> 2.9147087 | O22: =M22-N22 -> 0.16386268 | P22: =O22*O22 -> 0.026850978 | Q22: 2.7388655
A23: =(K23/10000*2500)/(E23/100)*10/1000+B23 -> 2.6214286 | B23: =B22 -> 0.62857143 | C23: =C3 -> 4 | D23: =D3-2 -> 23 | E23: =E22 -> 70 | F23: =F22 -> 12 | G23: 5 | H23: 10 | I23: =D23-C23-G23 -> 14 | J23: =(E23-2*H23-F23)/2 -> 19 | K23: =E23*C23+(D23-C23)*F23+G23*H23 -> 558 | L23: =L22+1 -> 21 | M23: =A23 -> 2.6214286 | N23: =N22 -> 2.9147087 | O23: =M23-N23 -> -0.29328018 | P23: =O23*O23 -> 0.086013262 | Q23: 2.7390787
A24: =(K24/10000*2500)/(E24/100)*10/1000+B24 -> 2.725 | B24: =B23 -> 0.62857143 | C24: =C4 -> 4.5 | D24: =D4-2 -> 23 | E24: =E23 -> 70 | F24: =F23 -> 12 | G24: 5 | H24: 10 | I24: =D24-C24-G24 -> 13.5 | J24: =(E24-2*H24-F24)/2 -> 19 | K24: =E24*C24+(D24-C24)*F24+G24*H24 -> 587 | L24: =L23+1 -> 22 | M24: =A24 -> 2.725 | N24: =N23 -> 2.9147087 | O24: =M24-N24 -> -0.18970875 | P24: =O24*O24 -> 0.035989409 | Q24: 2.7396825
A25: =(K25/10000*2500)/(E25/100)*10/1000+B25 -> 2.8285714 | B25: =B24 -> 0.62857143 | C25: =C5 -> 5 | D25: =D5-2 -> 23 | E25: =E24 -> 70 | F25: =F24 -> 12 | G25: 5 | H25: 10 | I25: =D25-C25-G25 -> 13 | J25: =(E25-2*H25-F25)/2 -> 19 | K25: =E25*C25+(D25-C25)*F25+G25*H25 -> 616 | L25: =L24+1 -> 23 | M25: =A25 -> 2.8285714 | N25: =N24 -> 2.9147087 | O25: =M25-N25 -> -0.08613732 | P25: =O25*O25 -> 0.0074196379 | Q25: 2.75
A26: =(K26/10000*2500)/(E26/100)*10/1000+B26 -> 2.9321429 | B26: =B25 -> 0.62857143 | C26: =C6 -> 5.5 | D26: =D6-2 -> 23 | E26: =E25 -> 70 | F26: =F25 -> 12 | G26: 5 | H26: 10 | I26: =D26-C26-G26 -> 12.5 | J26: =(E26-2*H26-F26)/2 -> 19 | K26: =E26*C26+(D26-C26)*F26+G26*H26 -> 645 | L26: =L25+1 -> 24 | M26: =A26 -> 2.9321429 | N26: =N25 -> 2.9147087 | O26: =M26-N26 -> 0.017434109 | P26: =O26*O26 -> 0.00030394815 | Q26: 2.7535714
A27: =(K27/10000*2500)/(E27/100)*10/1000+B27 -> 3.0357143 | B27: =B26 -> 0.62857143 | C27: =C7 -> 6 | D27: =D7-2 -> 23 | E27: =E26 -> 70 | F27: =F26 -> 12 | G27: 5 | H27: 10 | I27: =D27-C27-G27 -> 12 | J27: =(E27-2*H27-F27)/2 -> 19 | K27: =E27*C27+(D27-C27)*F27+G27*H27 -> 674 | L27: =L26+1 -> 25 | M27: =A27 -> 3.0357143 | N27: =N26 -> 2.9147087 | O27: =M27-N27 -> 0.12100554 | P27: =O27*O27 -> 0.01464234 | Q27: 2.7535714
L28: =L27+1 -> 26 | M28: =A31 -> 2.6919517 | N28: =N27 -> 2.9147087 | O28: =M28-N28 -> -0.22275704 | P28: =O28*O28 -> 0.049620698 | Q28: 2.7605159
A29: P. Forjado | B29: Aligeramiento | C29: h0 | D29: h | E29: b | F29: b0 | G29: h1 | H29: b1 | I29: h2 | J29: b2 | K29: Area | L29: =L28+1 -> 27 | M29: =A32 -> 2.7958249 | N29: =N28 -> 2.9147087 | O29: =M29-N29 -> -0.1188838 | P29: =O29*O29 -> 0.014133358 | Q29: 2.7662526 | R29: 25
A30: kN/m2 | B30: kN/m2 | C30: cm | D30: cm | E30: cm | F30: cm | G30: cm | H30: cm | I30: cm | J30: cm | K30: cm2 | L30: =L29+1 -> 28 | M30: =A33 -> 2.8996982 | N30: =N29 -> 2.9147087 | O30: =M30-N30 -> -0.015010559 | P30: =O30*O30 -> 0.00022531689 | Q30: 2.7678571
A31: =(K31/10000*2500)/(E31/100)*10/1000+B31 -> 2.6919517 | B31: =I145 -> 0.62857143 | C31: =C3 -> 4 | D31: =D3 -> 25 | E31: =E3+1 -> 71 | F31: =F3 -> 12 | G31: 5 | H31: 10 | I31: =D31-C31-G31 -> 16 | J31: =(E31-2*H31-F31)/2 -> 19.5 | K31: =E31*C31+(D31-C31)*F31+G31*H31 -> 586 | L31: =L30+1 -> 29 | M31: =A34 -> 3.0035714 | N31: =N30 -> 2.9147087 | O31: =M31-N31 -> 0.08886268 | P31: =O31*O31 -> 0.0078965759 | Q31: 2.7764588
A32: =(K32/10000*2500)/(E32/100)*10/1000+B32 -> 2.7958249 | B32: =B31 -> 0.62857143 | C32: =C4 -> 4.5 | D32: =D4 -> 25 | E32: =E31 -> 71 | F32: =F4 -> 12 | G32: 5 | H32: 10 | I32: =D32-C32-G32 -> 15.5 | J32: =(E32-2*H32-F32)/2 -> 19.5 | K32: =E32*C32+(D32-C32)*F32+G32*H32 -> 615.5 | L32: =L31+1 -> 30 | M32: =A35 -> 3.1074447 | N32: =N31 -> 2.9147087 | O32: =M32-N32 -> 0.19273592 | P32: =O32*O32 -> 0.037147135 | Q32: 2.7813492
A33: =(K33/10000*2500)/(E33/100)*10/1000+B33 -> 2.8996982 | B33: =B32 -> 0.62857143 | C33: =C5 -> 5 | D33: =D5 -> 25 | E33: =E32 -> 71 | F33: =F5 -> 12 | G33: 5 | H33: 10 | I33: =D33-C33-G33 -> 15 | J33: =(E33-2*H33-F33)/2 -> 19.5 | K33: =E33*C33+(D33-C33)*F33+G33*H33 -> 645 | L33: =L32+1 -> 31 | M33: =A36 -> 2.7342052 | N33: =N32 -> 2.9147087 | O33: =M33-N33 -> -0.18050352 | P33: =O33*O33 -> 0.03258152 | Q33: 2.7825569
A34: =(K34/10000*2500)/(E34/100)*10/1000+B34 -> 3.0035714 | B34: =B33 -> 0.62857143 | C34: =C6 -> 5.5 | D34: =D6 -> 25 | E34: =E33 -> 71 | F34: =F6 -> 12 | G34: 5 | H34: 10 | I34: =D34-C34-G34 -> 14.5 | J34: =(E34-2*H34-F34)/2 -> 19.5 | K34: =E34*C34+(D34-C34)*F34+G34*H34 -> 674.5 | L34: =L33+1 -> 32 | M34: =A37 -> 2.8380785 | N34: =N33 -> 2.9147087 | O34: =M34-N34 -> -0.076630278 | P34: =O34*O34 -> 0.0058721994 | Q34: 2.7829832
A35: =(K35/10000*2500)/(E35/100)*10/1000+B35 -> 3.1074447 | B35: =B34 -> 0.62857143 | C35: =C7 -> 6 | D35: =D7 -> 25 | E35: =E34 -> 71 | F35: =F7 -> 12 | G35: 5 | H35: 10 | I35: =D35-C35-G35 -> 14 | J35: =(E35-2*H35-F35)/2 -> 19.5 | K35: =E35*C35+(D35-C35)*F35+G35*H35 -> 704 | L35: =L34+1 -> 33 | M35: =A38 -> 2.9419517 | N35: =N34 -> 2.9147087 | O35: =M35-N35 -> 0.027242962 | P35: =O35*O35 -> 0.00074217897 | Q35: 2.7928571
A36: =(K36/10000*2500)/(E36/100)*10/1000+B36 -> 2.7342052 | B36: =B35 -> 0.62857143 | C36: =C8 -> 4 | D36: =D8 -> 26 | E36: =E35 -> 71 | F36: =F8 -> 12 | G36: 5 | H36: 10 | I36: =D36-C36-G36 -> 17 | J36: =(E36-2*H36-F36)/2 -> 19.5 | K36: =E36*C36+(D36-C36)*F36+G36*H36 -> 598 | L36: =L35+1 -> 34 | M36: =A39 -> 3.0458249 | N36: =N35 -> 2.9147087 | O36: =M36-N36 -> 0.1311162 | P36: =O36*O36 -> 0.017191458 | Q36: 2.7958249
A37: =(K37/10000*2500)/(E37/100)*10/1000+B37 -> 2.8380785 | B37: =B36 -> 0.62857143 | C37: =C9 -> 4.5 | D37: =D9 -> 26 | E37: =E36 -> 71 | F37: =F9 -> 12 | G37: 5 | H37: 10 | I37: =D37-C37-G37 -> 16.5 | J37: =(E37-2*H37-F37)/2 -> 19.5 | K37: =E37*C37+(D37-C37)*F37+G37*H37 -> 627.5 | L37: =L36+1 -> 35 | M37: =A40 -> 3.1496982 | N37: =N36 -> 2.9147087 | O37: =M37-N37 -> 0.23498944 | P37: =O37*O37 -> 0.055220037 | Q37: 2.7976891
A38: =(K38/10000*2500)/(E38/100)*10/1000+B38 -> 2.9419517 | B38: =B37 -> 0.62857143 | C38: =C10 -> 5 | D38: =D10 -> 26 | E38: =E37 -> 71 | F38: =F10 -> 12 | G38: 5 | H38: 10 | I38: =D38-C38-G38 -> 16 | J38: =(E38-2*H38-F38)/2 -> 19.5 | K38: =E38*C38+(D38-C38)*F38+G38*H38 -> 657 | L38: =L37+1 -> 36 | M38: =A41 -> 2.7764588 | N38: =N37 -> 2.9147087 | O38: =M38-N38 -> -0.13825 | P38: =O38*O38 -> 0.019113061 | Q38: 2.8021825
A39: =(K39/10000*2500)/(E39/100)*10/1000+B39 -> 3.0458249 | B39: =B38 -> 0.62857143 | C39: =C11 -> 5.5 | D39: =D11 -> 26 | E39: =E38 -> 71 | F39: =F11 -> 12 | G39: 5 | H39: 10 | I39: =D39-C39-G39 -> 15.5 | J39: =(E39-2*H39-F39)/2 -> 19.5 | K39: =E39*C39+(D39-C39)*F39+G39*H39 -> 686.5 | L39: =L38+1 -> 37 | M39: =A42 -> 2.880332 | N39: =N38 -> 2.9147087 | O39: =M39-N39 -> -0.034376756 | P39: =O39*O39 -> 0.0011817614 | Q39: 2.8097308
A40: =(K40/10000*2500)/(E40/100)*10/1000+B40 -> 3.1496982 | B40: =B39 -> 0.62857143 | C40: =C12 -> 6 | D40: =D12 -> 26 | E40: =E39 -> 71 | F40: =F12 -> 12 | G40: 5 | H40: 10 | I40: =D40-C40-G40 -> 15 | J40: =(E40-2*H40-F40)/2 -> 19.5 | K40: =E40*C40+(D40-C40)*F40+G40*H40 -> 716 | L40: =L39+1 -> 38 | M40: =A43 -> 2.9842052 | N40: =N39 -> 2.9147087 | O40: =M40-N40 -> 0.069496483 | P40: =O40*O40 -> 0.0048297612 | Q40: 2.8107143
A41: =(K41/10000*2500)/(E41/100)*10/1000+B41 -> 2.7764588 | B41: =B40 -> 0.62857143 | C41: =C13 -> 4 | D41: =D13 -> 27 | E41: =E40 -> 71 | F41: =F13 -> 12 | G41: 5 | H41: 10 | I41: =D41-C41-G41 -> 18 | J41: =(E41-2*H41-F41)/2 -> 19.5 | K41: =E41*C41+(D41-C41)*F41+G41*H41 -> 610 | L41: =L40+1 -> 39 | M41: =A44 -> 3.0880785 | N41: =N40 -> 2.9147087 | O41: =M41-N41 -> 0.17336972 | P41: =O41*O41 -> 0.030057061 | Q41: 2.8151911
A42: =(K42/10000*2500)/(E42/100)*10/1000+B42 -> 2.880332 | B42: =B41 -> 0.62857143 | C42: =C14 -> 4.5 | D42: =D14 -> 27 | E42: =E41 -> 71 | F42: =F14 -> 12 | G42: 5 | H42: 10 | I42: =D42-C42-G42 -> 17.5 | J42: =(E42-2*H42-F42)/2 -> 19.5 | K42: =E42*C42+(D42-C42)*F42+G42*H42 -> 639.5 | L42: =L41+1 -> 40 | M42: =A45 -> 3.1919517 | N42: =N41 -> 2.9147087 | O42: =M42-N42 -> 0.27724296 | P42: =O42*O42 -> 0.07686366 | Q42: 2.8230159
A43: =(K43/10000*2500)/(E43/100)*10/1000+B43 -> 2.9842052 | B43: =B42 -> 0.62857143 | C43: =C15 -> 5 | D43: =D15 -> 27 | E43: =E42 -> 71 | F43: =F15 -> 12 | G43: 5 | H43: 10 | I43: =D43-C43-G43 -> 17 | J43: =(E43-2*H43-F43)/2 -> 19.5 | K43: =E43*C43+(D43-C43)*F43+G43*H43 -> 669 | L43: =L42+1 -> 41 | M43: =A46 -> 2.6496982 | N43: =N42 -> 2.9147087 | O43: =M43-N43 -> -0.26501056 | P43: =O43*O43 -> 0.070230597 | Q43: 2.8260352
... A52: =(K52/10000*2500)/(E52/100)*10/1000+B52 -> 2.7113179 | B52: =B51 -> 0.62857143 | C52: =C24 -> 4.5 | D52: =D24 -> 23 | E52: =E51 -> 71 | F52: =F24 -> 12 | G52: 5 | H52: 10 | I52: =D52-C52-G52 -> 13.5 | J52: =(E52-2*H52-F52)/2 -> 19.5 | K52: =E52*C52+(D52-C52)*F52+G52*H52 -> 591.5 | L52: =L51+1 -> 50 | M52: =A55 -> 3.0229376 | N52: =N51 -> 2.9147087 | O52: =M52-N52 -> 0.10822888 | P52: =O52*O52 -> 0.01171349 | Q52: 2.8574447
A53: =(K53/10000*2500)/(E53/100)*10/1000+B53 -> 2.8151911 | B53: =B52 -> 0.62857143 | C53: =C25 -> 5 | D53: =D25 -> 23 | E53: =E52 -> 71 | F53: =F25 -> 12 | G53: 5 | H53: 10 | I53: =D53-C53-G53 -> 13 | J53: =(E53-2*H53-F53)/2 -> 19.5 | K53: =E53*C53+(D53-C53)*F53+G53*H53 -> 621 | L53: =L52+1 -> 51 | M53: =A59 -> 2.6771825 | N53: =N52 -> 2.9147087 | O53: =M53-N53 -> -0.23752621 | P53: =O53*O53 -> 0.0564187 | Q53: 2.8646825
A54: =(K54/10000*2500)/(E54/100)*10/1000+B54 -> 2.9190644 | B54: =B53 -> 0.62857143 | C54: =C26 -> 5.5 | D54: =D26 -> 23 | E54: =E53 -> 71 | F54: =F26 -> 12 | G54: 5 | H54: 10 | I54: =D54-C54-G54 -> 12.5 | J54: =(E54-2*H54-F54)/2 -> 19.5 | K54: =E54*C54+(D54-C54)*F54+G54*H54 -> 650.5 | L54: =L53+1 -> 52 | M54: =A60 -> 2.7813492 | N54: =N53 -> 2.9147087 | O54: =M54-N54 -> -0.13335954 | P54: =O54*O54 -> 0.017784767 | Q54: 2.8695135 | R54: 24
A55: =(K55/10000*2500)/(E55/100)*10/1000+B55 -> 3.0229376 | B55: =B54 -> 0.62857143 | C55: =C27 -> 6 | D55: =D27 -> 23 | E55: =E54 -> 71 | F55: =F27 -> 12 | G55: 5 | H55: 10 | I55: =D55-C55-G55 -> 12 | J55: =(E55-2*H55-F55)/2 -> 19.5 | K55: =E55*C55+(D55-C55)*F55+G55*H55 -> 680 | L55: =L54+1 -> 53 | M55: =A61 -> 2.8855159 | N55: =N54 -> 2.9147087 | O55: =M55-N55 -> -0.029192875 | P55: =O55*O55 -> 0.00085222397 | Q55: 2.8714286
L56: =L55+1 -> 54 | M56: =A62 -> 2.9896825 | N56: =N55 -> 2.9147087 | O56: =M56-N56 -> 0.074973791 | P56: =O56*O56 -> 0.0056210694 | Q56: 2.880332
A57: P. Forjado | B57: Aligeramiento | C57: h0 | D57: h | E57: b | F57: b0 | G57: h1 | H57: b1 | I57: h2 | J57: b2 | K57: Area | L57: =L56+1 -> 55 | M57: =A63 -> 3.0938492 | N57: =N56 -> 2.9147087 | O57: =M57-N57 -> 0.17914046 | P57: =O57*O57 -> 0.032091304 | Q57: 2.8855159
A58: kN/m2 | B58: kN/m2 | C58: cm | D58: cm | E58: cm | F58: cm | G58: cm | H58: cm | I58: cm | J58: cm | K58: cm2 | L58: =L57+1 -> 56 | M58: =A64 -> 2.7188492 | N58: =N57 -> 2.9147087 | O58: =M58-N58 -> -0.19585954 | P58: =O58*O58 -> 0.03836096 | Q58: 2.8858178
A59: =(K59/10000*2500)/(E59/100)*10/1000+B59 -> 2.6771825 | B59: =I145 -> 0.62857143 | C59: =C31 -> 4 | D59: =D3 -> 25 | E59: =E3+2 -> 72 | F59: =F3 -> 12 | G59: 5 | H59: 10 | I59: =D59-C59-G59 -> 16 | J59: =(E59-2*H59-F59)/2 -> 20 | K59: =E59*C59+(D59-C59)*F59+G59*H59 -> 590 | L59: =L58+1 -> 57 | M59: =A65 -> 2.8230159 | N59: =N58 -> 2.9147087 | O59: =M59-N59 -> -0.091692875 | P59: =O59*O59 -> 0.0084075834 | Q59: 2.8859244
A60: =(K60/10000*2500)/(E60/100)*10/1000+B60 -> 2.7813492 | B60: =B59 -> 0.62857143 | C60: =C32 -> 4.5 | D60: =D4 -> 25 | E60: =E59 -> 72 | F60: =F4 -> 12 | G60: 5 | H60: 10 | I60: =D60-C60-G60 -> 15.5 | J60: =(E60-2*H60-F60)/2 -> 20 | K60: =E60*C60+(D60-C60)*F60+G60*H60 -> 620 | L60: =L59+1 -> 58 | M60: =A66 -> 2.9271825 | N60: =N59 -> 2.9147087 | O60: =M60-N60 -> 0.012473791 | P60: =O60*O60 -> 0.00015559547 | Q60: 2.8964286
A61: =(K61/10000*2500)/(E61/100)*10/1000+B61 -> 2.8855159 | B61: =B60 -> 0.62857143 | C61: =C33 -> 5 | D61: =D5 -> 25 | E61: =E60 -> 72 | F61: =F5 -> 12 | G61: 5 | H61: 10 | I61: =D61-C61-G61 -> 15 | J61: =(E61-2*H61-F61)/2 -> 20 | K61: =E61*C61+(D61-C61)*F61+G61*H61 -> 650 | L61: =L60+1 -> 59 | M61: =A67 -> 3.0313492 | N61: =N60 -> 2.9147087 | O61: =M61-N61 -> 0.11664046 | P61: =O61*O61 -> 0.013604996 | Q61: 2.8996982
A62: =(K62/10000*2500)/(E62/100)*10/1000+B62 -> 2.9896825 | B62: =B61 -> 0.62857143 | C62: =C34 -> 5.5 | D62: =D6 -> 25 | E62: =E61 -> 72 | F62: =F6 -> 12 | G62: 5 | H62: 10 | I62: =D62-C62-G62 -> 14.5 | J62: =(E62-2*H62-F62)/2 -> 20 | K62: =E62*C62+(D62-C62)*F62+G62*H62 -> 680 | L62: =L61+1 -> 60 | M62: =A68 -> 3.1355159 | N62: =N61 -> 2.9147087 | O62: =M62-N62 -> 0.22080712 | P62: =O62*O62 -> 0.048755786 | Q62: 2.9006303
A63: =(K63/10000*2500)/(E63/100)*10/1000+B63 -> 3.0938492 | B63: =B62 -> 0.62857143 | C63: =C35 -> 6 | D63: =D7 -> 25 | E63: =E62 -> 72 | F63: =F7 -> 12 | G63: 5 | H63: 10 | I63: =D63-C63-G63 -> 14 | J63: =(E63-2*H63-F63)/2 -> 20 | K63: =E63*C63+(D63-C63)*F63+G63*H63 -> 710 | L63: =L62+1 -> 61 | M63: =A69 -> 2.7605159 | N63: =N62 -> 2.9147087 | O63: =M63-N63 -> -0.15419288 | P63: =O63*O63 -> 0.023775443 | Q63: 2.9063492
A64: =(K64/10000*2500)/(E64/100)*10/1000+B64 -> 2.7188492 | B64: =B63 -> 0.62857143 | C64: =C36 -> 4 | D64: =D8 -> 26 | E64: =E63 -> 72 | F64: =F8 -> 12 | G64: 5 | H64: 10 | I64: =D64-C64-G64 -> 17 | J64: =(E64-2*H64-F64)/2 -> 20 | K64: =E64*C64+(D64-C64)*F64+G64*H64 -> 602 | L64: =L63+1 -> 62 | M64: =A70 -> 2.8646825 | N64: =N63 -> 2.9147087 | O64: =M64-N64 -> -0.050026209 | P64: =O64*O64 -> 0.0025026216 | Q64: 2.9129917
A65: =(K65/10000*2500)/(E65/100)*10/1000+B65 -> 2.8230159 | B65: =B64 -> 0.62857143 | C65: =C37 -> 4.5 | D65: =D9 -> 26 | E65: =E64 -> 72 | F65: =F9 -> 12 | G65: 5 | H65: 10 | I65: =D65-C65-G65 -> 16.5 | J65: =(E65-2*H65-F65)/2 -> 20 | K65: =E65*C65+(D65-C65)*F65+G65*H65 -> 632 | L65: =L64+1 -> 63 | M65: =A71 -> 2.9688492 | N65: =N64 -> 2.9147087 | O65: =M65-N65 -> 0.054140458 | P65: =O65*O65 -> 0.0029311892 | Q65: 2.9142857
A66: =(K66/10000*2500)/(E66/100)*10/1000+B66 -> 2.9271825 | B66: =B65 -> 0.62857143 | C66: =C38 -> 5 | D66: =D10 -> 26 | E66: =E65 -> 72 | F66: =F10 -> 12 | G66: 5 | H66: 10 | I66: =D66-C66-G66 -> 16 | J66: =(E66-2*H66-F66)/2 -> 20 | K66: =E66*C66+(D66-C66)*F66+G66*H66 -> 662 | L66: =L65+1 -> 64 | M66: =A72 -> 3.0730159 | N66: =N65 -> 2.9147087 | O66: =M66-N66 -> 0.15830712 | P66: =O66*O66 -> 0.025061146 | Q66: 2.9190644
A67: =(K67/10000*2500)/(E67/100)*10/1000+B67 -> 3.0313492 | B67: =B66 -> 0.62857143 | C67: =C39 -> 5.5 | D67: =D11 -> 26 | E67: =E66 -> 72 | F67: =F11 -> 12 | G67: 5 | H67: 10 | I67: =D67-C67-G67 -> 15.5 | J67: =(E67-2*H67-F67)/2 -> 20 | K67: =E67*C67+(D67-C67)*F67+G67*H67 -> 692 | L67: =L66+1 -> 65 | M67: =A73 -> 3.1771825 | N67: =N66 -> 2.9147087 | O67: =M67-N67 -> 0.26247379 | P67: =O67*O67 -> 0.068892491 | Q67: 2.9271825
A68: =(K68/10000*2500)/(E68/100)*10/1000+B68 -> 3.1355159 | B68: =B67 -> 0.62857143 | C68: =C40 -> 6 | D68: =D12 -> 26 | E68: =E67 -> 72 | F68: =F12 -> 12 | G68: 5 | H68: 10 | I68: =D68-C68-G68 -> 15 | J68: =(E68-2*H68-F68)/2 -> 20 | K68: =E68*C68+(D68-C68)*F68+G68*H68 -> 722 | L68: =L67+1 -> 66 | M68: =A74 -> 2.6355159 | N68: =N67 -> 2.9147087 | O68: =M68-N68 -> -0.27919288 | P68: =O68*O68 -> 0.077948662 | Q68: 2.9292961
A69: =(K69/10000*2500)/(E69/100)*10/1000+B69 -> 2.7605159 | B69: =B68 -> 0.62857143 | C69: =C41 -> 4 | D69: =D13 -> 27 | E69: =E68 -> 72 | F69: =F13 -> 12 | G69: 5 | H69: 10 | I69: =D69-C69-G69 -> 18 | J69: =(E69-2*H69-F69)/2 -> 20 | K69: =E69*C69+(D69-C69)*F69+G69*H69 -> 614 | L69: =L68+1 -> 67 | M69: =A75 -> 2.7396825 | N69: =N68 -> 2.9147087 | O69: =M69-N69 -> -0.17502621 | P69: =O69*O69 -> 0.030634174 | Q69: 2.930042
A70: =(K70/10000*2500)/(E70/100)*10/1000+B70 -> 2.8646825 | B70: =B69 -> 0.62857143 | C70: =C42 -> 4.5 | D70: =D14 -> 27 | E70: =E69 -> 72 | F70: =F14 -> 12 | G70: 5 | H70: 10 | I70: =D70-C70-G70 -> 17.5 | J70: =(E70-2*H70-F70)/2 -> 20 | K70: =E70*C70+(D70-C70)*F70+G70*H70 -> 644 | L70: =L69+1 -> 68 | M70: =A76 -> 2.8438492 | N70: =N69 -> 2.9147087 | O70: =M70-N70 -> -0.070859542 | P70: =O70*O70 -> 0.0050210747 | Q70: 2.9321429
A71: =(K71/10000*2500)/(E71/100)*10/1000+B71 -> 2.9688492 | B71: =B70 -> 0.62857143 | C71: =C43 -> 5 | D71: =D15 -> 27 | E71: =E70 -> 72 | F71: =F15 -> 12 | G71: 5 | H71: 10 | I71: =D71-C71-G71 -> 17 | J71: =(E71-2*H71-F71)/2 -> 20 | K71: =E71*C71+(D71-C71)*F71+G71*H71 -> 674 | L71: =L70+1 -> 69 | M71: =A77 -> 2.9480159 | N71: =N70 -> 2.9147087 | O71: =M71-N71 -> 0.033307125 | P71: =O71*O71 -> 0.0011093646 | Q71: 2.9419517
... A77: =(K77/10000*2500)/(E77/100)*10/1000+B77 -> 2.9480159 | B77: =B76 -> 0.62857143 | C77: =C49 -> 5.5 | D77: =D21 -> 24 | E77: =E76 -> 72 | F77: =F21 -> 12 | G77: 5 | H77: 10 | I77: =D77-C77-G77 -> 13.5 | J77: =(E77-2*H77-F77)/2 -> 20 | K77: =E77*C77+(D77-C77)*F77+G77*H77 -> 668 | L77: =L76+1 -> 75 | M77: =A83 -> 3.0105159 | N77: =N76 -> 2.9147087 | O77: =M77-N77 -> 0.095807125 | P77: =O77*O77 -> 0.0091790051 | Q77: 2.9613179
A78: =(K78/10000*2500)/(E78/100)*10/1000+B78 -> 3.0521825 | B78: =B77 -> 0.62857143 | C78: =C50 -> 6 | D78: =D22 -> 24 | E78: =E77 -> 72 | F78: =F22 -> 12 | G78: 5 | H78: 10 | I78: =D78-C78-G78 -> 13 | J78: =(E78-2*H78-F78)/2 -> 20 | K78: =E78*C78+(D78-C78)*F78+G78*H78 -> 698 | L78: =L77+1 -> 76 | M78: =A87 -> 2.7227743 | N78: =N77 -> 2.9147087 | O78: =M78-N78 -> -0.19193442 | P78: =O78*O78 -> 0.036838822 | Q78: 2.9688492 | R78: 25
A79: =(K79/10000*2500)/(E79/100)*10/1000+B79 -> 2.5938492 | B79: =B78 -> 0.62857143 | C79: =C51 -> 4 | D79: =D23 -> 23 | E79: =E78 -> 72 | F79: =F23 -> 12 | G79: 5 | H79: 10 | I79: =D79-C79-G79 -> 14 | J79: =(E79-2*H79-F79)/2 -> 20 | K79: =E79*C79+(D79-C79)*F79+G79*H79 -> 566 | L79: =L78+1 -> 77 | M79: =A88 -> 2.8260352 | N79: =N78 -> 2.9147087 | O79: =M79-N79 -> -0.088673552 | P79: =O79*O79 -> 0.0078629988 | Q79: 2.9727743
A80: =(K80/10000*2500)/(E80/100)*10/1000+B80 -> 2.6980159 | B80: =B79 -> 0.62857143 | C80: =C52 -> 4.5 | D80: =D24 -> 23 | E80: =E79 -> 72 | F80: =F24 -> 12 | G80: 5 | H80: 10 | I80: =D80-C80-G80 -> 13.5 | J80: =(E80-2*H80-F80)/2 -> 20 | K80: =E80*C80+(D80-C80)*F80+G80*H80 -> 596 | L80: =L79+1 -> 78 | M80: =A89 -> 2.9292961 | N80: =N79 -> 2.9147087 | O80: =M80-N80 -> 0.014587318 | P80: =O80*O80 -> 0.00021278984 | Q80: 2.975
A81: =(K81/10000*2500)/(E81/100)*10/1000+B81 -> 2.8021825 | B81: =B80 -> 0.62857143 | C81: =C53 -> 5 | D81: =D25 -> 23 | E81: =E80 -> 72 | F81: =F25 -> 12 | G81: 5 | H81: 10 | I81: =D81-C81-G81 -> 13 | J81: =(E81-2*H81-F81)/2 -> 20 | K81: =E81*C81+(D81-C81)*F81+G81*H81 -> 626 | L81: =L80+1 -> 79 | M81: =A90 -> 3.0325569 | N81: =N80 -> 2.9147087 | O81: =M81-N81 -> 0.11784819 | P81: =O81*O81 -> 0.013888195 | Q81: 2.9842052
A82: =(K82/10000*2500)/(E82/100)*10/1000+B82 -> 2.9063492 | B82: =B81 -> 0.62857143 | C82: =C54 -> 5.5 | D82: =D26 -> 23 | E82: =E81 -> 72 | F82: =F26 -> 12 | G82: 5 | H82: 10 | I82: =D82-C82-G82 -> 12.5 | J82: =(E82-2*H82-F82)/2 -> 20 | K82: =E82*C82+(D82-C82)*F82+G82*H82 -> 656 | L82: =L81+1 -> 80 | M82: =A91 -> 3.1358178 | N82: =N81 -> 2.9147087 | O82: =M82-N82 -> 0.22110906 | P82: =O82*O82 -> 0.048889215 | Q82: 2.9888655
A83: =(K83/10000*2500)/(E83/100)*10/1000+B83 -> 3.0105159 | B83: =B82 -> 0.62857143 | C83: =C55 -> 6 | D83: =D27 -> 23 | E83: =E82 -> 72 | F83: =F27 -> 12 | G83: 5 | H83: 10 | I83: =D83-C83-G83 -> 12 | J83: =(E83-2*H83-F83)/2 -> 20 | K83: =E83*C83+(D83-C83)*F83+G83*H83 -> 686 | L83: =L82+1 -> 81 | M83: =A92 -> 2.7662526 | N83: =N82 -> 2.9147087 | O83: =M83-N83 -> -0.14845616 | P83: =O83*O83 -> 0.022039232 | Q83: 2.9890787
L84: =L83+1 -> 82 | M84: =A93 -> 2.8695135 | N84: =N83 -> 2.9147087 | O84: =M84-N84 -> -0.045195291 | P84: =O84*O84 -> 0.0020426143 | Q84: 2.9896825
A85: P. Forjado | B85: Aligeramiento | C85: h0 | D85: h | E85: b | F85: b0 | G85: h1 | H85: b1 | I85: h2 | J85: b2 | K85: Area | L85: =L84+1 -> 83 | M85: =A94 -> 2.9727743 | N85: =N84 -> 2.9147087 | O85: =M85-N85 -> 0.058065579 | P85: =O85*O85 -> 0.0033716114 | Q85: 3
A86: kN/m2 | B86: kN/m2 | C86: cm | D86: cm | E86: cm | F86: cm | G86: cm | H86: cm | I86: cm | J86: cm | K86: cm2 | L86: =L85+1 -> 84 | M86: =A95 -> 3.0760352 | N86: =N85 -> 2.9147087 | O86: =M86-N86 -> 0.16132645 | P86: =O86*O86 -> 0.026026223 | Q86: 3.0035714
A87: =(K87/10000*2500)/(E87/100)*10/1000+B87 -> 2.7227743 | B87: =I145 -> 0.62857143 | C87: =C59 -> 4 | D87: =D3 -> 25 | E87: =E3-1 -> 69 | F87: =F3 -> 12 | G87: 5 | H87: 10 | I87: =D87-C87-G87 -> 16 | J87: =(E87-2*H87-F87)/2 -> 18.5 | K87: =E87*C87+(D87-C87)*F87+G87*H87 -> 578 | L87: =L86+1 -> 85 | M87: =A96 -> 3.1792961 | N87: =N86 -> 2.9147087 | O87: =M87-N87 -> 0.26458732 | P87: =O87*O87 -> 0.070006449 | Q87: 3.0035714
A88: =(K88/10000*2500)/(E88/100)*10/1000+B88 -> 2.8260352 | B88: =B87 -> 0.62857143 | C88: =C60 -> 4.5 | D88: =D4 -> 25 | E88: =E87 -> 69 | F88: =F4 -> 12 | G88: 5 | H88: 10 | I88: =D88-C88-G88 -> 15.5 | J88: =(E88-2*H88-F88)/2 -> 18.5 | K88: =E88*C88+(D88-C88)*F88+G88*H88 -> 606.5 | L88: =L87+1 -> 86 | M88: =A97 -> 2.8097308 | N88: =N87 -> 2.9147087 | O88: =M88-N88 -> -0.1049779 | P88: =O88*O88 -> 0.011020359 | Q88: 3.0105159
A89: =(K89/10000*2500)/(E89/100)*10/1000+B89 -> 2.9292961 | B89: =B88 -> 0.62857143 | C89: =C61 -> 5 | D89: =D5 -> 25 | E89: =E88 -> 69 | F89: =F5 -> 12 | G89: 5 | H89: 10 | I89: =D89-C89-G89 -> 15 | J89: =(E89-2*H89-F89)/2 -> 18.5 | K89: =E89*C89+(D89-C89)*F89+G89*H89 -> 635 | L89: =L88+1 -> 87 | M89: =A98 -> 2.9129917 | N89: =N88 -> 2.9147087 | O89: =M89-N89 -> -0.0017170299 | P89: =O89*O89 -> 2.9481918e-06 | Q89: 3.0162526
A90: =(K90/10000*2500)/(E90/100)*10/1000+B90 -> 3.0325569 | B90: =B89 -> 0.62857143 | C90: =C62 -> 5.5 | D90: =D6 -> 25 | E90: =E89 -> 69 | F90: =F6 -> 12 | G90: 5 | H90: 10 | I90: =D90-C90-G90 -> 14.5 | J90: =(E90-2*H90-F90)/2 -> 18.5 | K90: =E90*C90+(D90-C90)*F90+G90*H90 -> 663.5 | L90: =L89+1 -> 88 | M90: =A99 -> 3.0162526 | N90: =N89 -> 2.9147087 | O90: =M90-N90 -> 0.10154384 | P90: =O90*O90 -> 0.010311151 | Q90: 3.0178571
A91: =(K91/10000*2500)/(E91/100)*10/1000+B91 -> 3.1358178 | B91: =B90 -> 0.62857143 | C91: =C63 -> 6 | D91: =D7 -> 25 | E91: =E90 -> 69 | F91: =F7 -> 12 | G91: 5 | H91: 10 | I91: =D91-C91-G91 -> 14 | J91: =(E91-2*H91-F91)/2 -> 18.5 | K91: =E91*C91+(D91-C91)*F91+G91*H91 -> 692 | L91: =L90+1 -> 89 | M91: =A100 -> 3.1195135 | N91: =N90 -> 2.9147087 | O91: =M91-N91 -> 0.20480471 | P91: =O91*O91 -> 0.041944969 | Q91: 3.0229376
A92: =(K92/10000*2500)/(E92/100)*10/1000+B92 -> 2.7662526 | B92: =B91 -> 0.62857143 | C92: =C64 -> 4 | D92: =D8 -> 26 | E92: =E91 -> 69 | F92: =F8 -> 12 | G92: 5 | H92: 10 | I92: =D92-C92-G92 -> 17 | J92: =(E92-2*H92-F92)/2 -> 18.5 | K92: =E92*C92+(D92-C92)*F92+G92*H92 -> 590 | L92: =L91+1 -> 90 | M92: =A101 -> 3.2227743 | N92: =N91 -> 2.9147087 | O92: =M92-N92 -> 0.30806558 | P92: =O92*O92 -> 0.094904401 | Q92: 3.0313492
A93: =(K93/10000*2500)/(E93/100)*10/1000+B93 -> 2.8695135 | B93: =B92 -> 0.62857143 | C93: =C65 -> 4.5 | D93: =D9 -> 26 | E93: =E92 -> 69 | F93: =F9 -> 12 | G93: 5 | H93: 10 | I93: =D93-C93-G93 -> 16.5 | J93: =(E93-2*H93-F93)/2 -> 18.5 | K93: =E93*C93+(D93-C93)*F93+G93*H93 -> 618.5 | L93: =L92+1 -> 91 | M93: =A102 -> 2.6792961 | N93: =N92 -> 2.9147087 | O93: =M93-N93 -> -0.23541268 | P93: =O93*O93 -> 0.055419131 | Q93: 3.0325569
A94: =(K94/10000*2500)/(E94/100)*10/1000+B94 -> 2.9727743 | B94: =B93 -> 0.62857143 | C94: =C66 -> 5 | D94: =D10 -> 26 | E94: =E93 -> 69 | F94: =F10 -> 12 | G94: 5 | H94: 10 | I94: =D94-C94-G94 -> 16 | J94: =(E94-2*H94-F94)/2 -> 18.5 | K94: =E94*C94+(D94-C94)*F94+G94*H94 -> 647 | L94: =L93+1 -> 92 | M94: =A103 -> 2.7825569 | N94: =N93 -> 2.9147087 | O94: =M94-N94 -> -0.13215181 | P94: =O94*O94 -> 0.017464102 | Q94: 3.0329832
A95: =(K95/10000*2500)/(E95/100)*10/1000+B95 -> 3.0760352 | B95: =B94 -> 0.62857143 | C95: =C67 -> 5.5 | D95: =D11 -> 26 | E95: =E94 -> 69 | F95: =F11 -> 12 | G95: 5 | H95: 10 | I95: =D95-C95-G95 -> 15.5 | J95: =(E95-2*H95-F95)/2 -> 18.5 | K95: =E95*C95+(D95-C95)*F95+G95*H95 -> 675.5 | L95: =L94+1 -> 93 | M95: =A104 -> 2.8858178 | N95: =N94 -> 2.9147087 | O95: =M95-N95 -> -0.028890943 | P95: =O95*O95 -> 0.00083468659 | Q95: 3.0357143
A96: =(K96/10000*2500)/(E96/100)*10/1000+B96 -> 3.1792961 | B96: =B95 -> 0.62857143 | C96: =C68 -> 6 | D96: =D12 -> 26 | E96: =E95 -> 69 | F96: =F12 -> 12 | G96: 5 | H96: 10 | I96: =D96-C96-G96 -> 15 | J96: =(E96-2*H96-F96)/2 -> 18.5 | K96: =E96*C96+(D96-C96)*F96+G96*H96 -> 704 | L96: =L95+1 -> 94 | M96: =A105 -> 2.9890787 | N96: =N95 -> 2.9147087 | O96: =M96-N96 -> 0.074369927 | P96: =O96*O96 -> 0.005530886 | Q96: 3.0458249
A97: =(K97/10000*2500)/(E97/100)*10/1000+B97 -> 2.8097308 | B97: =B96 -> 0.62857143 | C97: =C69 -> 4 | D97: =D13 -> 27 | E97: =E96 -> 69 | F97: =F13 -> 12 | G97: 5 | H97: 10 | I97: =D97-C97-G97 -> 18 | J97: =(E97-2*H97-F97)/2 -> 18.5 | K97: =E97*C97+(D97-C97)*F97+G97*H97 -> 602 | L97: =L96+1 -> 95 | M97: =A106 -> 3.0923395 | N97: =N96 -> 2.9147087 | O97: =M97-N97 -> 0.1776308 | P97: =O97*O97 -> 0.0315527 | Q97: 3.0476891
A98: =(K98/10000*2500)/(E98/100)*10/1000+B98 -> 2.9129917 | B98: =B97 -> 0.62857143 | C98: =C70 -> 4.5 | D98: =D14 -> 27 | E98: =E97 -> 69 | F98: =F14 -> 12 | G98: 5 | H98: 10 | I98: =D98-C98-G98 -> 17.5 | J98: =(E98-2*H98-F98)/2 -> 18.5 | K98: =E98*C98+(D98-C98)*F98+G98*H98 -> 630.5 | L98: =L97+1 -> 96 | M98: =A107 -> 2.6358178 | N98: =N97 -> 2.9147087 | O98: =M98-N98 -> -0.27889094 | P98: =O98*O98 -> 0.077780158 | Q98: 3.0488613
A99: =(K99/10000*2500)/(E99/100)*10/1000+B99 -> 3.0162526 | B99: =B98 -> 0.62857143 | C99: =C71 -> 5 | D99: =D15 -> 27 | E99: =E98 -> 69 | F99: =F15 -> 12 | G99: 5 | H99: 10 | I99: =D99-C99-G99 -> 17 | J99: =(E99-2*H99-F99)/2 -> 18.5 | K99: =E99*C99+(D99-C99)*F99+G99*H99 -> 659 | L99: =L98+1 -> 97 | M99: =A108 -> 2.7390787 | N99: =N98 -> 2.9147087 | O99: =M99-N99 -> -0.17563007 | P99: =O99*O99 -> 0.030845923 | Q99: 3.0521825
... A102: =(K102/10000*2500)/(E102/100)*10/1000+B102 -> 2.6792961 | B102: =B101 -> 0.62857143 | C102: =C74 -> 4 | D102: =D18 -> 24 | E102: =E101 -> 69 | F102: =F18 -> 12 | G102: 5 | H102: 10 | I102: =D102-C102-G102 -> 15 | J102: =(E102-2*H102-F102)/2 -> 18.5 | K102: =E102*C102+(D102-C102)*F102+G102*H102 -> 566 | L102: =L101+1 -> 100 | M102: =A111 -> 3.0488613 | N102: =N101 -> 2.9147087 | O102: =M102-N102 -> 0.13415254 | P102: =O102*O102 -> 0.017996903 | Q102: 3.0651911
A103: =(K103/10000*2500)/(E103/100)*10/1000+B103 -> 2.7825569 | B103: =B102 -> 0.62857143 | C103: =C75 -> 4.5 | D103: =D19 -> 24 | E103: =E102 -> 69 | F103: =F19 -> 12 | G103: 5 | H103: 10 | I103: =D103-C103-G103 -> 14.5 | J103: =(E103-2*H103-F103)/2 -> 18.5 | K103: =E103*C103+(D103-C103)*F103+G103*H103 -> 594.5 | L103: =L102+1 -> 101 | M103: =A115 -> 2.7388655 | N103: =N102 -> 2.9147087 | O103: =M103-N103 -> -0.1758432 | P103: =O103*O103 -> 0.030920832 | Q103: 3.0730159 | R103: 18
A104: =(K104/10000*2500)/(E104/100)*10/1000+B104 -> 2.8858178 | B104: =B103 -> 0.62857143 | C104: =C76 -> 5 | D104: =D20 -> 24 | E104: =E103 -> 69 | F104: =F20 -> 12 | G104: 5 | H104: 10 | I104: =D104-C104-G104 -> 14 | J104: =(E104-2*H104-F104)/2 -> 18.5 | K104: =E104*C104+(D104-C104)*F104+G104*H104 -> 623 | L104: =L103+1 -> 102 | M104: =A116 -> 2.8418067 | N104: =N103 -> 2.9147087 | O104: =M104-N104 -> -0.072902026 | P104: =O104*O104 -> 0.0053147053 | Q104: 3.0760352
A105: =(K105/10000*2500)/(E105/100)*10/1000+B105 -> 2.9890787 | B105: =B104 -> 0.62857143 | C105: =C77 -> 5.5 | D105: =D21 -> 24 | E105: =E104 -> 69 | F105: =F21 -> 12 | G105: 5 | H105: 10 | I105: =D105-C105-G105 -> 13.5 | J105: =(E105-2*H105-F105)/2 -> 18.5 | K105: =E105*C105+(D105-C105)*F105+G105*H105 -> 651.5 | L105: =L104+1 -> 103 | M105: =A117 -> 2.9447479 | N105: =N104 -> 2.9147087 | O105: =M105-N105 -> 0.030039151 | P105: =O105*O105 -> 0.00090235058 | Q105: 3.0785714
A106: =(K106/10000*2500)/(E106/100)*10/1000+B106 -> 3.0923395 | B106: =B105 -> 0.62857143 | C106: =C78 -> 6 | D106: =D22 -> 24 | E106: =E105 -> 69 | F106: =F22 -> 12 | G106: 5 | H106: 10 | I106: =D106-C106-G106 -> 13 | J106: =(E106-2*H106-F106)/2 -> 18.5 | K106: =E106*C106+(D106-C106)*F106+G106*H106 -> 680 | L106: =L105+1 -> 104 | M106: =A118 -> 3.0476891 | N106: =N105 -> 2.9147087 | O106: =M106-N106 -> 0.13298033 | P106: =O106*O106 -> 0.017683767 | Q106: 3.0880785
A107: =(K107/10000*2500)/(E107/100)*10/1000+B107 -> 2.6358178 | B107: =B106 -> 0.62857143 | C107: =C79 -> 4 | D107: =D23 -> 23 | E107: =E106 -> 69 | F107: =F23 -> 12 | G107: 5 | H107: 10 | I107: =D107-C107-G107 -> 14 | J107: =(E107-2*H107-F107)/2 -> 18.5 | K107: =E107*C107+(D107-C107)*F107+G107*H107 -> 554 | L107: =L106+1 -> 105 | M107: =A119 -> 3.1506303 | N107: =N106 -> 2.9147087 | O107: =M107-N107 -> 0.2359215 | P107: =O107*O107 -> 0.055658956 | Q107: 3.0918067
A108: =(K108/10000*2500)/(E108/100)*10/1000+B108 -> 2.7390787 | B108: =B107 -> 0.62857143 | C108: =C80 -> 4.5 | D108: =D24 -> 23 | E108: =E107 -> 69 | F108: =F24 -> 12 | G108: 5 | H108: 10 | I108: =D108-C108-G108 -> 13.5 | J108: =(E108-2*H108-F108)/2 -> 18.5 | K108: =E108*C108+(D108-C108)*F108+G108*H108 -> 582.5 | L108: =L107+1 -> 106 | M108: =A120 -> 2.7829832 | N108: =N107 -> 2.9147087 | O108: =M108-N108 -> -0.13172556 | P108: =O108*O108 -> 0.017351622 | Q108: 3.0923395
A109: =(K109/10000*2500)/(E109/100)*10/1000+B109 -> 2.8423395 | B109: =B108 -> 0.62857143 | C109: =C81 -> 5 | D109: =D25 -> 23 | E109: =E108 -> 69 | F109: =F25 -> 12 | G109: 5 | H109: 10 | I109: =D109-C109-G109 -> 13 | J109: =(E109-2*H109-F109)/2 -> 18.5 | K109: =E109*C109+(D109-C109)*F109+G109*H109 -> 611 | L109: =L108+1 -> 107 | M109: =A121 -> 2.8859244 | N109: =N108 -> 2.9147087 | O109: =M109-N109 -> -0.028784379 | P109: =O109*O109 -> 0.00082854045 | Q109: 3.0938492
A110: =(K110/10000*2500)/(E110/100)*10/1000+B110 -> 2.9456004 | B110: =B109 -> 0.62857143 | C110: =C82 -> 5.5 | D110: =D26 -> 23 | E110: =E109 -> 69 | F110: =F26 -> 12 | G110: 5 | H110: 10 | I110: =D110-C110-G110 -> 12.5 | J110: =(E110-2*H110-F110)/2 -> 18.5 | K110: =E110*C110+(D110-C110)*F110+G110*H110 -> 639.5 | L110: =L109+1 -> 108 | M110: =A122 -> 2.9888655 | N110: =N109 -> 2.9147087 | O110: =M110-N110 -> 0.074156798 | P110: =O110*O110 -> 0.0054992307 | Q110: 3.1035714
A111: =(K111/10000*2500)/(E111/100)*10/1000+B111 -> 3.0488613 | B111: =B110 -> 0.62857143 | C111: =C83 -> 6 | D111: =D27 -> 23 | E111: =E110 -> 69 | F111: =F27 -> 12 | G111: 5 | H111: 10 | I111: =D111-C111-G111 -> 12 | J111: =(E111-2*H111-F111)/2 -> 18.5 | K111: =E111*C111+(D111-C111)*F111+G111*H111 -> 668 | L111: =L110+1 -> 109 | M111: =A123 -> 3.0918067 | N111: =N110 -> 2.9147087 | O111: =M111-N111 -> 0.17709797 | P111: =O111*O111 -> 0.031363693 | Q111: 3.1065126
L112: =L111+1 -> 110 | M112: =A124 -> 3.1947479 | N112: =N111 -> 2.9147087 | O112: =M112-N112 -> 0.28003915 | P112: =O112*O112 -> 0.078421926 | Q112: 3.1074447
A113: P. Forjado | B113: Aligeramiento | C113: h0 | D113: h | E113: b | F113: b0 | G113: h1 | H113: b1 | I113: h2 | J113: b2 | K113: Area | L113: =L112+1 -> 111 | M113: =A125 -> 2.8271008 | N113: =N112 -> 2.9147087 | O113: =M113-N113 -> -0.087607908 | P113: =O113*O113 -> 0.0076751456 | Q113: 3.1195135
A114: kN/m2 | B114: kN/m2 | C114: cm | D114: cm | E114: cm | F114: cm | G114: cm | H114: cm | I114: cm | J114: cm | K114: cm2 | L114: =L113+1 -> 112 | M114: =A126 -> 2.930042 | N114: =N113 -> 2.9147087 | O114: =M114-N114 -> 0.015333268 | P114: =O114*O114 -> 0.00023510912 | Q114: 3.1214286
A115: =(K115/10000*2500)/(E115/100)*10/1000+B115 -> 2.7388655 | B115: =I145 -> 0.62857143 | C115: =C87 -> 4 | D115: =D31 -> 25 | E115: =E3-2 -> 68 | F115: =F3 -> 12 | G115: 5 | H115: 10 | I115: =D115-C115-G115 -> 16 | J115: =(E115-2*H115-F115)/2 -> 18 | K115: =E115*C115+(D115-C115)*F115+G115*H115 -> 574 | L115: =L114+1 -> 113 | M115: =A127 -> 3.0329832 | N115: =N114 -> 2.9147087 | O115: =M115-N115 -> 0.11827444 | P115: =O115*O115 -> 0.013988844 | Q115: 3.1355159
...

Sheet Canto 20
A1: P. Forjado | B1: Aligeramiento | C1: h0 | D1: h | E1: b | F1: b0 | G1: h1 | H1: b1 | I1: h2 | J1: b2 | K1: Area | L1: Nº de Orden | M1: Valores | N1: Media | O1: Desv. | P1: Des2 | Q1: Valores
A2: kN/m2 | B2: kN/m2 | C2: cm | D2: cm | E2: cm | F2: cm | G2: cm | H2: cm | I2: cm | J2: cm | K2: cm2 | L2: - | M2: kN/m2 | N2: kN/m2 | O2: kN/m2 | P2: - | Q2: kN/m2
A3: =(K3/10000*2500)/(E3/100)*10/1000+B3 -> 2.4357143 | B3: =I145 -> 0.57142857 | C3: =C4-0.5 -> 4 | D3: =C144 -> 20 | E3: =D144 -> 70 | F3: =E144 -> 12 | G3: 5 | H3: 10 | I3: =D3-C3-G3 -> 11 | J3: =(E3-2*H3-F3)/2 -> 19 | K3: =E3*C3+(D3-C3)*F3+G3*H3 -> 522 | L3: =1 -> 1 | M3: =A3 -> 2.4357143 | N3: =M129 -> 2.6431927 | O3: =M3-N3 -> -0.20747837 | P3: =O3*O3 -> 0.043047273 | Q3: 2.328373
A4: =(K4/10000*2500)/(E4/100)*10/1000+B4 -> 2.5392857 | B4: =B3 -> 0.57142857 | C4: =C5-0.5 -> 4.5 | D4: =D3 -> 20 | E4: =E3 -> 70 | F4: =F3 -> 12 | G4: 5 | H4: 10 | I4: =D4-C4-G4 -> 10.5 | J4: =(E4-2*H4-F4)/2 -> 19 | K4: =E4*C4+(D4-C4)*F4+G4*H4 -> 551 | L4: =L3+1 -> 2 | M4: =A4 -> 2.5392857 | N4: =N3 -> 2.6431927 | O4: =M4-N4 -> -0.10390694 | P4: =O4*O4 -> 0.010796652 | Q4: 2.3390342
A5: =(K5/10000*2500)/(E5/100)*10/1000+B5 -> 2.6428571 | B5: =B4 -> 0.57142857 | C5: =B144 -> 5 | D5: =D4 -> 20 | E5: =E4 -> 70 | F5: =F4 -> 12 | G5: 5 | H5: 10 | I5: =D5-C5-G5 -> 10 | J5: =(E5-2*H5-F5)/2 -> 19 | K5: =E5*C5+(D5-C5)*F5+G5*H5 -> 580 | L5: =L4+1 -> 3 | M5: =A5 -> 2.6428571 | N5: =N4 -> 2.6431927 | O5: =M5-N5 -> -0.00033550979 | P5: =O5*O5 -> 1.1256682e-07 | Q5: 2.35
A6: =(K6/10000*2500)/(E6/100)*10/1000+B6 -> 2.7464286 | B6: =B5 -> 0.57142857 | C6: =C5+0.5 -> 5.5 | D6: =D5 -> 20 | E6: =E5 -> 70 | F6: =F5 -> 12 | G6: 5 | H6: 10 | I6: =D6-C6-G6 -> 9.5 | J6: =(E6-2*H6-F6)/2 -> 19 | K6: =E6*C6+(D6-C6)*F6+G6*H6 -> 609 | L6: =L5+1 -> 4 | M6: =A6 -> 2.7464286 | N6: =N5 -> 2.6431927 | O6: =M6-N6 -> 0.10323592 | P6: =O6*O6 -> 0.010657655 | Q6: 2.3612836
A7: =(K7/10000*2500)/(E7/100)*10/1000+B7 -> 2.85 | B7: =B6 -> 0.57142857 | C7: =C6+0.5 -> 6 | D7: =D6 -> 20 | E7: =E6 -> 70 | F7: =F6 -> 12 | G7: 5 | H7: 10 | I7: =D7-C7-G7 -> 9 | J7: =(E7-2*H7-F7)/2 -> 19 | K7: =E7*C7+(D7-C7)*F7+G7*H7 -> 638 | L7: =L6+1 -> 5 | M7: =A7 -> 2.85 | N7: =N6 -> 2.6431927 | O7: =M7-N7 -> 0.20680735 | P7: =O7*O7 -> 0.042769279 | Q7: 2.3700397
A8: =(K8/10000*2500)/(E8/100)*10/1000+B8 -> 2.4785714 | B8: =B7 -> 0.57142857 | C8: =C3 -> 4 | D8: =D3+1 -> 21 | E8: =E7 -> 70 | F8: =F7 -> 12 | G8: 5 | H8: 10 | I8: =D8-C8-G8 -> 12 | J8: =(E8-2*H8-F8)/2 -> 19 | K8: =E8*C8+(D8-C8)*F8+G8*H8 -> 534 | L8: =L7+1 -> 6 | M8: =A8 -> 2.4785714 | N8: =N7 -> 2.6431927 | O8: =M8-N8 -> -0.16462122 | P8: =O8*O8 -> 0.027100147 | Q8: 2.3728992
A9: =(K9/10000*2500)/(E9/100)*10/1000+B9 -> 2.5821429 | B9: =B8 -> 0.57142857 | C9: =C4 -> 4.5 | D9: =D4+1 -> 21 | E9: =E8 -> 70 | F9: =F8 -> 12 | G9: 5 | H9: 10 | I9: =D9-C9-G9 -> 11.5 | J9: =(E9-2*H9-F9)/2 -> 19 | K9: =E9*C9+(D9-C9)*F9+G9*H9 -> 563 | L9: =L8+1 -> 7 | M9: =A9 -> 2.5821429 | N9: =N8 -> 2.6431927 | O9: =M9-N9 -> -0.061049796 | P9: =O9*O9 -> 0.0037270775 | Q9: 2.3812877
A10: =(K10/10000*2500)/(E10/100)*10/1000+B10 -> 2.6857143 | B10: =B9 -> 0.57142857 | C10: =C5 -> 5 | D10: =D5+1 -> 21 | E10: =E9 -> 70 | F10: =F9 -> 12 | G10: 5 | H10: 10 | I10: =D10-C10-G10 -> 11 | J10: =(E10-2*H10-F10)/2 -> 19 | K10: =E10*C10+(D10-C10)*F10+G10*H10 -> 592 | L10: =L9+1 -> 8 | M10: =A10 -> 2.6857143 | N10: =N9 -> 2.6431927 | O10: =M10-N10 -> 0.042521633 | P10: =O10*O10 -> 0.0018080893 | Q10: 2.3928571
A11: =(K11/10000*2500)/(E11/100)*10/1000+B11 -> 2.7892857 | B11: =B10 -> 0.57142857 | C11: =C6 -> 5.5 | D11: =D6+1 -> 21 | E11: =E10 -> 70 | F11: =F10 -> 12 | G11: 5 | H11: 10 | I11: =D11-C11-G11 -> 10.5 | J11: =(E11-2*H11-F11)/2 -> 19 | K11: =E11*C11+(D11-C11)*F11+G11*H11 -> 621 | L11: =L10+1 -> 9 | M11: =A11 -> 2.7892857 | N11: =N10 -> 2.6431927 | O11: =M11-N11 -> 0.14609306 | P11: =O11*O11 -> 0.021343183 | Q11: 2.4047619
A12: =(K12/10000*2500)/(E12/100)*10/1000+B12 -> 2.8928571 | B12: =B11 -> 0.57142857 | C12: =C7 -> 6 | D12: =D7+1 -> 21 | E12: =E11 -> 70 | F12: =F11 -> 12 | G12: 5 | H12: 10 | I12: =D12-C12-G12 -> 10 | J12: =(E12-2*H12-F12)/2 -> 19 | K12: =E12*C12+(D12-C12)*F12+G12*H12 -> 650 | L12: =L11+1 -> 10 | M12: =A12 -> 2.8928571 | N12: =N11 -> 2.6431927 | O12: =M12-N12 -> 0.24966449 | P12: =O12*O12 -> 0.062332358 | Q12: 2.4117063
A13: =(K13/10000*2500)/(E13/100)*10/1000+B13 -> 2.5214286 | B13: =B12 -> 0.57142857 | C13: =C3 -> 4 | D13: =D3+2 -> 22 | E13: =E12 -> 70 | F13: =F12 -> 12 | G13: 5 | H13: 10 | I13: =D13-C13-G13 -> 13 | J13: =(E13-2*H13-F13)/2 -> 19 | K13: =E13*C13+(D13-C13)*F13+G13*H13 -> 546 | L13: =L12+1 -> 11 | M13: =A13 -> 2.5214286 | N13: =N12 -> 2.6431927 | O13: =M13-N13 -> -0.12176408 | P13: =O13*O13 -> 0.014826491 | Q13: 2.4170168
A14: =(K14/10000*2500)/(E14/100)*10/1000+B14 -> 2.625 | B14: =B13 -> 0.57142857 | C14: =C4 -> 4.5 | D14: =D4+2 -> 22 | E14: =E13 -> 70 | F14: =F13 -> 12 | G14: 5 | H14: 10 | I14: =D14-C14-G14 -> 12.5 | J14: =(E14-2*H14-F14)/2 -> 19 | K14: =E14*C14+(D14-C14)*F14+G14*H14 -> 575 | L14: =L13+1 -> 12 | M14: =A14 -> 2.625 | N14: =N13 -> 2.6431927 | O14: =M14-N14 -> -0.018192653 | P14: =O14*O14 -> 0.00033097261 | Q14: 2.4235412
A15: =(K15/10000*2500)/(E15/100)*10/1000+B15 -> 2.7285714 | B15: =B14 -> 0.57142857 | C15: =C5 -> 5 | D15: =D5+2 -> 22 | E15: =E14 -> 70 | F15: =F14 -> 12 | G15: 5 | H15: 10 | I15: =D15-C15-G15 -> 12 | J15: =(E15-2*H15-F15)/2 -> 19 | K15: =E15*C15+(D15-C15)*F15+G15*H15 -> 604 | L15: =L14+1 -> 13 | M15: =A15 -> 2.7285714 | N15: =N14 -> 2.6431927 | O15: =M15-N15 -> 0.085378776 | P15: =O15*O15 -> 0.0072895354 | Q15: 2.4325397
A16: =(K16/10000*2500)/(E16/100)*10/1000+B16 -> 2.8321429 | B16: =B15 -> 0.57142857 | C16: =C6 -> 5.5 | D16: =D6+2 -> 22 | E16: =E15 -> 70 | F16: =F15 -> 12 | G16: 5 | H16: 10 | I16: =D16-C16-G16 -> 11.5 | J16: =(E16-2*H16-F16)/2 -> 19 | K16: =E16*C16+(D16-C16)*F16+G16*H16 -> 633 | L16: =L15+1 -> 14 | M16: =A16 -> 2.8321429 | N16: =N15 -> 2.6431927 | O16: =M16-N16 -> 0.1889502 | P16: =O16*O16 -> 0.03570218 | Q16: 2.4357143
A17: =(K17/10000*2500)/(E17/100)*10/1000+B17 -> 2.9357143 | B17: =B16 -> 0.57142857 | C17: =C7 -> 6 | D17: =D7+2 -> 22 | E17: =E16 -> 70 | F17: =F16 -> 12 | G17: 5 | H17: 10 | I17: =D17-C17-G17 -> 11 | J17: =(E17-2*H17-F17)/2 -> 19 | K17: =E17*C17+(D17-C17)*F17+G17*H17 -> 662 | L17: =L16+1 -> 15 | M17: =A17 -> 2.9357143 | N17: =N16 -> 2.6431927 | O17: =M17-N17 -> 0.29252163 | P17: =O17*O17 -> 0.085568906 | Q17: 2.4429074
A18: =(K18/10000*2500)/(E18/100)*10/1000+B18 -> 2.3928571 | B18: =B17 -> 0.57142857 | C18: =C3 -> 4 | D18: =D3-1 -> 19 | E18: =E17 -> 70 | F18: =F17 -> 12 | G18: 5 | H18: 10 | I18: =D18-C18-G18 -> 10 | J18: =(E18-2*H18-F18)/2 -> 19 | K18: =E18*C18+(D18-C18)*F18+G18*H18 -> 510 | L18: =L17+1 -> 16 | M18: =A18 -> 2.3928571 | N18: =N17 -> 2.6431927 | O18: =M18-N18 -> -0.25033551 | P18: =O18*O18 -> 0.062667867 | Q18: 2.4482402
A19: =(K19/10000*2500)/(E19/100)*10/1000+B19 -> 2.4964286 | B19: =B18 -> 0.57142857 | C19: =C4 -> 4.5 | D19: =D4-1 -> 19 | E19: =E18 -> 70 | F19: =F18 -> 12 | G19: 5 | H19: 10 | I19: =D19-C19-G19 -> 9.5 | J19: =(E19-2*H19-F19)/2 -> 19 | K19: =E19*C19+(D19-C19)*F19+G19*H19 -> 539 | L19: =L18+1 -> 17 | M19: =A19 -> 2.4964286 | N19: =N18 -> 2.6431927 | O19: =M19-N19 -> -0.14676408 | P19: =O19*O19 -> 0.021539696 | Q19: 2.453373
A20: =(K20/10000*2500)/(E20/100)*10/1000+B20 -> 2.6 | B20: =B19 -> 0.57142857 | C20: =C5 -> 5 | D20: =D5-1 -> 19 | E20: =E19 -> 70 | F20: =F19 -> 12 | G20: 5 | H20: 10 | I20: =D20-C20-G20 -> 9 | J20: =(E20-2*H20-F20)/2 -> 19 | K20: =E20*C20+(D20-C20)*F20+G20*H20 -> 568 | L20: =L19+1 -> 18 | M20: =A20 -> 2.6 | N20: =N19 -> 2.6431927 | O20: =M20-N20 -> -0.043192653 | P20: =O20*O20 -> 0.0018656052 | Q20: 2.4535714
A21: =(K21/10000*2500)/(E21/100)*10/1000+B21 -> 2.7035714 | B21: =B20 -> 0.57142857 | C21: =C6 -> 5.5 | D21: =D6-1 -> 19 | E21: =E20 -> 70 | F21: =F20 -> 12 | G21: 5 | H21: 10 | I21: =D21-C21-G21 -> 8.5 | J21: =(E21-2*H21-F21)/2 -> 19 | K21: =E21*C21+(D21-C21)*F21+G21*H21 -> 597 | L21: =L20+1 -> 19 | M21: =A21 -> 2.7035714 | N21: =N20 -> 2.6431927 | O21: =M21-N21 -> 0.060378776 | P21: =O21*O21 -> 0.0036455966 | Q21: 2.4611345
A22: =(K22/10000*2500)/(E22/100)*10/1000+B22 -> 2.8071429 | B22: =B21 -> 0.57142857 | C22: =C7 -> 6 | D22: =D7-1 -> 19 | E22: =E21 -> 70 | F22: =F21 -> 12 | G22: 5 | H22: 10 | I22: =D22-C22-G22 -> 8 | J22: =(E22-2*H22-F22)/2 -> 19 | K22: =E22*C22+(D22-C22)*F22+G22*H22 -> 626 | L22: =L21+1 -> 20 | M22: =A22 -> 2.8071429 | N22: =N21 -> 2.6431927 | O22: =M22-N22 -> 0.1639502 | P22: =O22*O22 -> 0.02687967 | Q22: 2.4645445
A23: =(K23/10000*2500)/(E23/100)*10/1000+B23 -> 2.35 | B23: =B22 -> 0.57142857 | C23: =C3 -> 4 | D23: =D3-2 -> 18 | E23: =E22 -> 70 | F23: =F22 -> 12 | G23: 5 | H23: 10 | I23: =D23-C23-G23 -> 9 | J23: =(E23-2*H23-F23)/2 -> 19 | K23: =E23*C23+(D23-C23)*F23+G23*H23 -> 498 | L23: =L22+1 -> 21 | M23: =A23 -> 2.35 | N23: =N22 -> 2.6431927 | O23: =M23-N23 -> -0.29319265 | P23: =O23*O23 -> 0.085961932 | Q23: 2.4657948
A24: =(K24/10000*2500)/(E24/100)*10/1000+B24 -> 2.4535714 | B24: =B23 -> 0.57142857 | C24: =C4 -> 4.5 | D24: =D4-2 -> 18 | E24: =E23 -> 70 | F24: =F23 -> 12 | G24: 5 | H24: 10 | I24: =D24-C24-G24 -> 8.5 | J24: =(E24-2*H24-F24)/2 -> 19 | K24: =E24*C24+(D24-C24)*F24+G24*H24 -> 527 | L24: =L23+1 -> 22 | M24: =A24 -> 2.4535714 | N24: =N23 -> 2.6431927 | O24: =M24-N24 -> -0.18962122 | P24: =O24*O24 -> 0.035956209 | Q24: 2.4742063
A25: =(K25/10000*2500)/(E25/100)*10/1000+B25 -> 2.5571429 | B25: =B24 -> 0.57142857 | C25: =C5 -> 5 | D25: =D5-2 -> 18 | E25: =E24 -> 70 | F25: =F24 -> 12 | G25: 5 | H25: 10 | I25: =D25-C25-G25 -> 8 | J25: =(E25-2*H25-F25)/2 -> 19 | K25: =E25*C25+(D25-C25)*F25+G25*H25 -> 556 | L25: =L24+1 -> 23 | M25: =A25 -> 2.5571429 | N25: =N24 -> 2.6431927 | O25: =M25-N25 -> -0.086049796 | P25: =O25*O25 -> 0.0074045673 | Q25: 2.4758403
A26: =(K26/10000*2500)/(E26/100)*10/1000+B26 -> 2.6607143 | B26: =B25 -> 0.57142857 | C26: =C6 -> 5.5 | D26: =D6-2 -> 18 | E26: =E25 -> 70 | F26: =F25 -> 12 | G26: 5 | H26: 10 | I26: =D26-C26-G26 -> 7.5 | J26: =(E26-2*H26-F26)/2 -> 19 | K26: =E26*C26+(D26-C26)*F26+G26*H26 -> 585 | L26: =L25+1 -> 24 | M26: =A26 -> 2.6607143 | N26: =N25 -> 2.6431927 | O26: =M26-N26 -> 0.017521633 | P26: =O26*O26 -> 0.00030700763 | Q26: 2.4785714
A27: =(K27/10000*2500)/(E27/100)*10/1000+B27 -> 2.7642857 | B27: =B26 -> 0.57142857 | C27: =C7 -> 6 | D27: =D7-2 -> 18 | E27: =E26 -> 70 | F27: =F26 -> 12 | G27: 5 | H27: 10 | I27: =D27-C27-G27 -> 7 | J27: =(E27-2*H27-F27)/2 -> 19 | K27: =E27*C27+(D27-C27)*F27+G27*H27 -> 614 | L27: =L26+1 -> 25 | M27: =A27 -> 2.7642857 | N27: =N26 -> 2.6431927 | O27: =M27-N27 -> 0.12109306 | P27: =O27*O27 -> 0.01466353 | Q27: 2.485161
L28: =L27+1 -> 26 | M28: =A31 -> 2.4235412 | N28: =N27 -> 2.6431927 | O28: =M28-N28 -> -0.21965141 | P28: =O28*O28 -> 0.04824674 | Q28: 2.4917184
A29: P. Forjado | B29: Aligeramiento | C29: h0 | D29: h | E29: b | F29: b0 | G29: h1 | H29: b1 | I29: h2 | J29: b2 | K29: Area | L29: =L28+1 -> 27 | M29: =A32 -> 2.5274145 | N29: =N28 -> 2.6431927 | O29: =M29-N29 -> -0.11577817 | P29: =O29*O29 -> 0.013404584 | Q29: 2.4950397
A30: kN/m2 | B30: kN/m2 | C30: cm | D30: cm | E30: cm | F30: cm | G30: cm | H30: cm | I30: cm | J30: cm | K30: cm2 | L30: =L29+1 -> 28 | M30: =A33 -> 2.6312877 | N30: =N29 -> 2.6431927 | O30: =M30-N30 -> -0.011904926 | P30: =O30*O30 -> 0.00014172727 | Q30: 2.4964286
A31: =(K31/10000*2500)/(E31/100)*10/1000+B31 -> 2.4235412 | B31: =I145 -> 0.57142857 | C31: =C3 -> 4 | D31: =D3 -> 20 | E31: =E3+1 -> 71 | F31: =F3 -> 12 | G31: 5 | H31: 10 | I31: =D31-C31-G31 -> 11 | J31: =(E31-2*H31-F31)/2 -> 19.5 | K31: =E31*C31+(D31-C31)*F31+G31*H31 -> 526 | L31: =L30+1 -> 29 | M31: =A34 -> 2.735161 | N31: =N30 -> 2.6431927 | O31: =M31-N31 -> 0.091968313 | P31: =O31*O31 -> 0.0084581706 | Q31: 2.5052521
A32: =(K32/10000*2500)/(E32/100)*10/1000+B32 -> 2.5274145 | B32: =B31 -> 0.57142857 | C32: =C4 -> 4.5 | D32: =D4 -> 20 | E32: =E31 -> 71 | F32: =F4 -> 12 | G32: 5 | H32: 10 | I32: =D32-C32-G32 -> 10.5 | J32: =(E32-2*H32-F32)/2 -> 19.5 | K32: =E32*C32+(D32-C32)*F32+G32*H32 -> 555.5 | L32: =L31+1 -> 30 | M32: =A35 -> 2.8390342 | N32: =N31 -> 2.6431927 | O32: =M32-N32 -> 0.19584155 | P32: =O32*O32 -> 0.038353914 | Q32: 2.5080228
A33: =(K33/10000*2500)/(E33/100)*10/1000+B33 -> 2.6312877 | B33: =B32 -> 0.57142857 | C33: =C5 -> 5 | D33: =D5 -> 20 | E33: =E32 -> 71 | F33: =F5 -> 12 | G33: 5 | H33: 10 | I33: =D33-C33-G33 -> 10 | J33: =(E33-2*H33-F33)/2 -> 19.5 | K33: =E33*C33+(D33-C33)*F33+G33*H33 -> 585 | L33: =L32+1 -> 31 | M33: =A36 -> 2.4657948 | N33: =N32 -> 2.6431927 | O33: =M33-N33 -> -0.17739788 | P33: =O33*O33 -> 0.031470009 | Q33: 2.5080483
A34: =(K34/10000*2500)/(E34/100)*10/1000+B34 -> 2.735161 | B34: =B33 -> 0.57142857 | C34: =C6 -> 5.5 | D34: =D6 -> 20 | E34: =E33 -> 71 | F34: =F6 -> 12 | G34: 5 | H34: 10 | I34: =D34-C34-G34 -> 9.5 | J34: =(E34-2*H34-F34)/2 -> 19.5 | K34: =E34*C34+(D34-C34)*F34+G34*H34 -> 614.5 | L34: =L33+1 -> 32 | M34: =A37 -> 2.569668 | N34: =N33 -> 2.6431927 | O34: =M34-N34 -> -0.073524645 | P34: =O34*O34 -> 0.0054058734 | Q34: 2.515873
A35: =(K35/10000*2500)/(E35/100)*10/1000+B35 -> 2.8390342 | B35: =B34 -> 0.57142857 | C35: =C7 -> 6 | D35: =D7 -> 20 | E35: =E34 -> 71 | F35: =F7 -> 12 | G35: 5 | H35: 10 | I35: =D35-C35-G35 -> 9 | J35: =(E35-2*H35-F35)/2 -> 19.5 | K35: =E35*C35+(D35-C35)*F35+G35*H35 -> 644 | L35: =L34+1 -> 33 | M35: =A38 -> 2.6735412 | N35: =N34 -> 2.6431927 | O35: =M35-N35 -> 0.030348595 | P35: =O35*O35 -> 0.00092103721 | Q35: 2.519958
A36: =(K36/10000*2500)/(E36/100)*10/1000+B36 -> 2.4657948 | B36: =B35 -> 0.57142857 | C36: =C8 -> 4 | D36: =D8 -> 21 | E36: =E35 -> 71 | F36: =F8 -> 12 | G36: 5 | H36: 10 | I36: =D36-C36-G36 -> 12 | J36: =(E36-2*H36-F36)/2 -> 19.5 | K36: =E36*C36+(D36-C36)*F36+G36*H36 -> 538 | L36: =L35+1 -> 34 | M36: =A39 -> 2.7774145 | N36: =N35 -> 2.6431927 | O36: =M36-N36 -> 0.13422183 | P36: =O36*O36 -> 0.018015501 | Q36: 2.5214286
A37: =(K37/10000*2500)/(E37/100)*10/1000+B37 -> 2.569668 | B37: =B36 -> 0.57142857 | C37: =C9 -> 4.5 | D37: =D9 -> 21 | E37: =E36 -> 71 | F37: =F9 -> 12 | G37: 5 | H37: 10 | I37: =D37-C37-G37 -> 11.5 | J37: =(E37-2*H37-F37)/2 -> 19.5 | K37: =E37*C37+(D37-C37)*F37+G37*H37 -> 567.5 | L37: =L36+1 -> 35 | M37: =A40 -> 2.8812877 | N37: =N36 -> 2.6431927 | O37: =M37-N37 -> 0.23809507 | P37: =O37*O37 -> 0.056689264 | Q37: 2.5274145
A38: =(K38/10000*2500)/(E38/100)*10/1000+B38 -> 2.6735412 | B38: =B37 -> 0.57142857 | C38: =C10 -> 5 | D38: =D10 -> 21 | E38: =E37 -> 71 | F38: =F10 -> 12 | G38: 5 | H38: 10 | I38: =D38-C38-G38 -> 11 | J38: =(E38-2*H38-F38)/2 -> 19.5 | K38: =E38*C38+(D38-C38)*F38+G38*H38 -> 597 | L38: =L37+1 -> 36 | M38: =A41 -> 2.5080483 | N38: =N37 -> 2.6431927 | O38: =M38-N38 -> -0.13514436 | P38: =O38*O38 -> 0.018263999 | Q38: 2.5351967
A39: =(K39/10000*2500)/(E39/100)*10/1000+B39 -> 2.7774145 | B39: =B38 -> 0.57142857 | C39: =C11 -> 5.5 | D39: =D11 -> 21 | E39: =E38 -> 71 | F39: =F11 -> 12 | G39: 5 | H39: 10 | I39: =D39-C39-G39 -> 10.5 | J39: =(E39-2*H39-F39)/2 -> 19.5 | K39: =E39*C39+(D39-C39)*F39+G39*H39 -> 626.5 | L39: =L38+1 -> 37 | M39: =A42 -> 2.6119215 | N39: =N38 -> 2.6431927 | O39: =M39-N39 -> -0.031271123 | P39: =O39*O39 -> 0.00097788316 | Q39: 2.5367063
A40: =(K40/10000*2500)/(E40/100)*10/1000+B40 -> 2.8812877 | B40: =B39 -> 0.57142857 | C40: =C12 -> 6 | D40: =D12 -> 21 | E40: =E39 -> 71 | F40: =F12 -> 12 | G40: 5 | H40: 10 | I40: =D40-C40-G40 -> 10 | J40: =(E40-2*H40-F40)/2 -> 19.5 | K40: =E40*C40+(D40-C40)*F40+G40*H40 -> 656 | L40: =L39+1 -> 38 | M40: =A43 -> 2.7157948 | N40: =N39 -> 2.6431927 | O40: =M40-N40 -> 0.072602116 | P40: =O40*O40 -> 0.0052710672 | Q40: 2.5392857
A41: =(K41/10000*2500)/(E41/100)*10/1000+B41 -> 2.5080483 | B41: =B40 -> 0.57142857 | C41: =C13 -> 4 | D41: =D13 -> 22 | E41: =E40 -> 71 | F41: =F13 -> 12 | G41: 5 | H41: 10 | I41: =D41-C41-G41 -> 13 | J41: =(E41-2*H41-F41)/2 -> 19.5 | K41: =E41*C41+(D41-C41)*F41+G41*H41 -> 550 | L41: =L40+1 -> 39 | M41: =A44 -> 2.819668 | N41: =N40 -> 2.6431927 | O41: =M41-N41 -> 0.17647536 | P41: =O41*O41 -> 0.031143551 | Q41: 2.5467807
A42: =(K42/10000*2500)/(E42/100)*10/1000+B42 -> 2.6119215 | B42: =B41 -> 0.57142857 | C42: =C14 -> 4.5 | D42: =D14 -> 22 | E42: =E41 -> 71 | F42: =F14 -> 12 | G42: 5 | H42: 10 | I42: =D42-C42-G42 -> 12.5 | J42: =(E42-2*H42-F42)/2 -> 19.5 | K42: =E42*C42+(D42-C42)*F42+G42*H42 -> 579.5 | L42: =L41+1 -> 40 | M42: =A45 -> 2.9235412 | N42: =N41 -> 2.6431927 | O42: =M42-N42 -> 0.28034859 | P42: =O42*O42 -> 0.078595335 | Q42: 2.5493697
A43: =(K43/10000*2500)/(E43/100)*10/1000+B43 -> 2.7157948 | B43: =B42 -> 0.57142857 | C43: =C15 -> 5 | D43: =D15 -> 22 | E43: =E42 -> 71 | F43: =F15 -> 12 | G43: 5 | H43: 10 | I43: =D43-C43-G43 -> 12 | J43: =(E43-2*H43-F43)/2 -> 19.5 | K43: =E43*C43+(D43-C43)*F43+G43*H43 -> 609 | L43: =L42+1 -> 41 | M43: =A46 -> 2.3812877 | N43: =N42 -> 2.6431927 | O43: =M43-N43 -> -0.26190493 | P43: =O43*O43 -> 0.06859419 | Q43: 2.551501
... A52: =(K52/10000*2500)/(E52/100)*10/1000+B52 -> 2.4429074 | B52: =B51 -> 0.57142857 | C52: =C24 -> 4.5 | D52: =D24 -> 18 | E52: =E51 -> 71 | F52: =F24 -> 12 | G52: 5 | H52: 10 | I52: =D52-C52-G52 -> 8.5 | J52: =(E52-2*H52-F52)/2 -> 19.5 | K52: =E52*C52+(D52-C52)*F52+G52*H52 -> 531.5 | L52: =L51+1 -> 50 | M52: =A55 -> 2.7545272 | N52: =N51 -> 2.6431927 | O52: =M52-N52 -> 0.11133451 | P52: =O52*O52 -> 0.012395373 | Q52: 2.5890342
A53: =(K53/10000*2500)/(E53/100)*10/1000+B53 -> 2.5467807 | B53: =B52 -> 0.57142857 | C53: =C25 -> 5 | D53: =D25 -> 18 | E53: =E52 -> 71 | F53: =F25 -> 12 | G53: 5 | H53: 10 | I53: =D53-C53-G53 -> 8 | J53: =(E53-2*H53-F53)/2 -> 19.5 | K53: =E53*C53+(D53-C53)*F53+G53*H53 -> 561 | L53: =L52+1 -> 51 | M53: =A59 -> 2.4117063 | N53: =N52 -> 2.6431927 | O53: =M53-N53 -> -0.2314863 | P53: =O53*O53 -> 0.053585909 | Q53: 2.5949793
A54: =(K54/10000*2500)/(E54/100)*10/1000+B54 -> 2.6506539 | B54: =B53 -> 0.57142857 | C54: =C26 -> 5.5 | D54: =D26 -> 18 | E54: =E53 -> 71 | F54: =F26 -> 12 | G54: 5 | H54: 10 | I54: =D54-C54-G54 -> 7.5 | J54: =(E54-2*H54-F54)/2 -> 19.5 | K54: =E54*C54+(D54-C54)*F54+G54*H54 -> 590.5 | L54: =L53+1 -> 52 | M54: =A60 -> 2.515873 | N54: =N53 -> 2.6431927 | O54: =M54-N54 -> -0.12731964 | P54: =O54*O54 -> 0.01621029 | Q54: 2.5992063
A55: =(K55/10000*2500)/(E55/100)*10/1000+B55 -> 2.7545272 | B55: =B54 -> 0.57142857 | C55: =C27 -> 6 | D55: =D27 -> 18 | E55: =E54 -> 71 | F55: =F27 -> 12 | G55: 5 | H55: 10 | I55: =D55-C55-G55 -> 7 | J55: =(E55-2*H55-F55)/2 -> 19.5 | K55: =E55*C55+(D55-C55)*F55+G55*H55 -> 620 | L55: =L54+1 -> 53 | M55: =A61 -> 2.6200397 | N55: =N54 -> 2.6431927 | O55: =M55-N55 -> -0.02315297 | P55: =O55*O55 -> 0.00053606002 | Q55: 2.6
L56: =L55+1 -> 54 | M56: =A62 -> 2.7242063 | N56: =N55 -> 2.6431927 | O56: =M56-N56 -> 0.081013697 | P56: =O56*O56 -> 0.006563219 | Q56: 2.6081933
A57: P. Forjado | B57: Aligeramiento | C57: h0 | D57: h | E57: b | F57: b0 | G57: h1 | H57: b1 | I57: h2 | J57: b2 | K57: Area | L57: =L56+1 -> 55 | M57: =A63 -> 2.828373 | N57: =N56 -> 2.6431927 | O57: =M57-N57 -> 0.18518036 | P57: =O57*O57 -> 0.034291767 | Q57: 2.6112836
A58: kN/m2 | B58: kN/m2 | C58: cm | D58: cm | E58: cm | F58: cm | G58: cm | H58: cm | I58: cm | J58: cm | K58: cm2 | L58: =L57+1 -> 56 | M58: =A64 -> 2.453373 | N58: =N57 -> 2.6431927 | O58: =M58-N58 -> -0.18981964 | P58: =O58*O58 -> 0.036031495 | Q58: 2.6119215
A59: =(K59/10000*2500)/(E59/100)*10/1000+B59 -> 2.4117063 | B59: =I145 -> 0.57142857 | C59: =C31 -> 4 | D59: =D3 -> 20 | E59: =E3+2 -> 72 | F59: =F3 -> 12 | G59: 5 | H59: 10 | I59: =D59-C59-G59 -> 11 | J59: =(E59-2*H59-F59)/2 -> 20 | K59: =E59*C59+(D59-C59)*F59+G59*H59 -> 530 | L59: =L58+1 -> 57 | M59: =A65 -> 2.5575397 | N59: =N58 -> 2.6431927 | O59: =M59-N59 -> -0.08565297 | P59: =O59*O59 -> 0.0073364313 | Q59: 2.6200397
A60: =(K60/10000*2500)/(E60/100)*10/1000+B60 -> 2.515873 | B60: =B59 -> 0.57142857 | C60: =C32 -> 4.5 | D60: =D4 -> 20 | E60: =E59 -> 72 | F60: =F4 -> 12 | G60: 5 | H60: 10 | I60: =D60-C60-G60 -> 10.5 | J60: =(E60-2*H60-F60)/2 -> 20 | K60: =E60*C60+(D60-C60)*F60+G60*H60 -> 560 | L60: =L59+1 -> 58 | M60: =A66 -> 2.6617063 | N60: =N59 -> 2.6431927 | O60: =M60-N60 -> 0.018513697 | P60: =O60*O60 -> 0.00034275696 | Q60: 2.6228992
A61: =(K61/10000*2500)/(E61/100)*10/1000+B61 -> 2.6200397 | B61: =B60 -> 0.57142857 | C61: =C33 -> 5 | D61: =D5 -> 20 | E61: =E60 -> 72 | F61: =F5 -> 12 | G61: 5 | H61: 10 | I61: =D61-C61-G61 -> 10 | J61: =(E61-2*H61-F61)/2 -> 20 | K61: =E61*C61+(D61-C61)*F61+G61*H61 -> 590 | L61: =L60+1 -> 59 | M61: =A67 -> 2.765873 | N61: =N60 -> 2.6431927 | O61: =M61-N61 -> 0.12268036 | P61: =O61*O61 -> 0.015050472 | Q61: 2.625
A62: =(K62/10000*2500)/(E62/100)*10/1000+B62 -> 2.7242063 | B62: =B61 -> 0.57142857 | C62: =C34 -> 5.5 | D62: =D6 -> 20 | E62: =E61 -> 72 | F62: =F6 -> 12 | G62: 5 | H62: 10 | I62: =D62-C62-G62 -> 9.5 | J62: =(E62-2*H62-F62)/2 -> 20 | K62: =E62*C62+(D62-C62)*F62+G62*H62 -> 620 | L62: =L61+1 -> 60 | M62: =A68 -> 2.8700397 | N62: =N61 -> 2.6431927 | O62: =M62-N62 -> 0.22684703 | P62: =O62*O62 -> 0.051459575 | Q62: 2.6312877
A63: =(K63/10000*2500)/(E63/100)*10/1000+B63 -> 2.828373 | B63: =B62 -> 0.57142857 | C63: =C35 -> 6 | D63: =D7 -> 20 | E63: =E62 -> 72 | F63: =F7 -> 12 | G63: 5 | H63: 10 | I63: =D63-C63-G63 -> 9 | J63: =(E63-2*H63-F63)/2 -> 20 | K63: =E63*C63+(D63-C63)*F63+G63*H63 -> 650 | L63: =L62+1 -> 61 | M63: =A69 -> 2.4950397 | N63: =N62 -> 2.6431927 | O63: =M63-N63 -> -0.14815297 | P63: =O63*O63 -> 0.021949303 | Q63: 2.6384576
A64: =(K64/10000*2500)/(E64/100)*10/1000+B64 -> 2.453373 | B64: =B63 -> 0.57142857 | C64: =C36 -> 4 | D64: =D8 -> 21 | E64: =E63 -> 72 | F64: =F8 -> 12 | G64: 5 | H64: 10 | I64: =D64-C64-G64 -> 12 | J64: =(E64-2*H64-F64)/2 -> 20 | K64: =E64*C64+(D64-C64)*F64+G64*H64 -> 542 | L64: =L63+1 -> 62 | M64: =A70 -> 2.5992063 | N64: =N63 -> 2.6431927 | O64: =M64-N64 -> -0.043986303 | P64: =O64*O64 -> 0.0019347949 | Q64: 2.640873
A65: =(K65/10000*2500)/(E65/100)*10/1000+B65 -> 2.5575397 | B65: =B64 -> 0.57142857 | C65: =C37 -> 4.5 | D65: =D9 -> 21 | E65: =E64 -> 72 | F65: =F9 -> 12 | G65: 5 | H65: 10 | I65: =D65-C65-G65 -> 11.5 | J65: =(E65-2*H65-F65)/2 -> 20 | K65: =E65*C65+(D65-C65)*F65+G65*H65 -> 572 | L65: =L64+1 -> 63 | M65: =A71 -> 2.703373 | N65: =N64 -> 2.6431927 | O65: =M65-N65 -> 0.060180363 | P65: =O65*O65 -> 0.0036216761 | Q65: 2.6428571
A66: =(K66/10000*2500)/(E66/100)*10/1000+B66 -> 2.6617063 | B66: =B65 -> 0.57142857 | C66: =C38 -> 5 | D66: =D10 -> 21 | E66: =E65 -> 72 | F66: =F10 -> 12 | G66: 5 | H66: 10 | I66: =D66-C66-G66 -> 11 | J66: =(E66-2*H66-F66)/2 -> 20 | K66: =E66*C66+(D66-C66)*F66+G66*H66 -> 602 | L66: =L65+1 -> 64 | M66: =A72 -> 2.8075397 | N66: =N65 -> 2.6431927 | O66: =M66-N66 -> 0.16434703 | P66: =O66*O66 -> 0.027009946 | Q66: 2.6506539
A67: =(K67/10000*2500)/(E67/100)*10/1000+B67 -> 2.765873 | B67: =B66 -> 0.57142857 | C67: =C39 -> 5.5 | D67: =D11 -> 21 | E67: =E66 -> 72 | F67: =F11 -> 12 | G67: 5 | H67: 10 | I67: =D67-C67-G67 -> 10.5 | J67: =(E67-2*H67-F67)/2 -> 20 | K67: =E67*C67+(D67-C67)*F67+G67*H67 -> 632 | L67: =L66+1 -> 65 | M67: =A73 -> 2.9117063 | N67: =N66 -> 2.6431927 | O67: =M67-N67 -> 0.2685137 | P67: =O67*O67 -> 0.072099605 | Q67: 2.6523109
A68: =(K68/10000*2500)/(E68/100)*10/1000+B68 -> 2.8700397 | B68: =B67 -> 0.57142857 | C68: =C40 -> 6 | D68: =D12 -> 21 | E68: =E67 -> 72 | F68: =F12 -> 12 | G68: 5 | H68: 10 | I68: =D68-C68-G68 -> 10 | J68: =(E68-2*H68-F68)/2 -> 20 | K68: =E68*C68+(D68-C68)*F68+G68*H68 -> 662 | L68: =L67+1 -> 66 | M68: =A74 -> 2.3700397 | N68: =N67 -> 2.6431927 | O68: =M68-N68 -> -0.27315297 | P68: =O68*O68 -> 0.074612545 | Q68: 2.6547619
A69: =(K69/10000*2500)/(E69/100)*10/1000+B69 -> 2.4950397 | B69: =B68 -> 0.57142857 | C69: =C41 -> 4 | D69: =D13 -> 22 | E69: =E68 -> 72 | F69: =F13 -> 12 | G69: 5 | H69: 10 | I69: =D69-C69-G69 -> 13 | J69: =(E69-2*H69-F69)/2 -> 20 | K69: =E69*C69+(D69-C69)*F69+G69*H69 -> 554 | L69: =L68+1 -> 67 | M69: =A75 -> 2.4742063 | N69: =N68 -> 2.6431927 | O69: =M69-N69 -> -0.1689863 | P69: =O69*O69 -> 0.028556371 | Q69: 2.6607143
A70: =(K70/10000*2500)/(E70/100)*10/1000+B70 -> 2.5992063 | B70: =B69 -> 0.57142857 | C70: =C42 -> 4.5 | D70: =D14 -> 22 | E70: =E69 -> 72 | F70: =F14 -> 12 | G70: 5 | H70: 10 | I70: =D70-C70-G70 -> 12.5 | J70: =(E70-2*H70-F70)/2 -> 20 | K70: =E70*C70+(D70-C70)*F70+G70*H70 -> 584 | L70: =L69+1 -> 68 | M70: =A76 -> 2.578373 | N70: =N69 -> 2.6431927 | O70: =M70-N70 -> -0.064819637 | P70: =O70*O70 -> 0.0042015853 | Q70: 2.6617063
A71: =(K71/10000*2500)/(E71/100)*10/1000+B71 -> 2.703373 | B71: =B70 -> 0.57142857 | C71: =C43 -> 5 | D71: =D15 -> 22 | E71: =E70 -> 72 | F71: =F15 -> 12 | G71: 5 | H71: 10 | I71: =D71-C71-G71 -> 12 | J71: =(E71-2*H71-F71)/2 -> 20 | K71: =E71*C71+(D71-C71)*F71+G71*H71 -> 614 | L71: =L70+1 -> 69 | M71: =A77 -> 2.6825397 | N71: =N70 -> 2.6431927 | O71: =M71-N71 -> 0.03934703 | P71: =O71*O71 -> 0.0015481888 | Q71: 2.6670168
... A77: =(K77/10000*2500)/(E77/100)*10/1000+B77 -> 2.6825397 | B77: =B76 -> 0.57142857 | C77: =C49 -> 5.5 | D77: =D21 -> 19 | E77: =E76 -> 72 | F77: =F21 -> 12 | G77: 5 | H77: 10 | I77: =D77-C77-G77 -> 8.5 | J77: =(E77-2*H77-F77)/2 -> 20 | K77: =E77*C77+(D77-C77)*F77+G77*H77 -> 608 | L77: =L76+1 -> 75 | M77: =A83 -> 2.7450397 | N77: =N76 -> 2.6431927 | O77: =M77-N77 -> 0.10184703 | P77: =O77*O77 -> 0.010372817 | Q77: 2.6929074
A78: =(K78/10000*2500)/(E78/100)*10/1000+B78 -> 2.7867063 | B78: =B77 -> 0.57142857 | C78: =C50 -> 6 | D78: =D22 -> 19 | E78: =E77 -> 72 | F78: =F22 -> 12 | G78: 5 | H78: 10 | I78: =D78-C78-G78 -> 8 | J78: =(E78-2*H78-F78)/2 -> 20 | K78: =E78*C78+(D78-C78)*F78+G78*H78 -> 638 | L78: =L77+1 -> 76 | M78: =A87 -> 2.4482402 | N78: =N77 -> 2.6431927 | O78: =M78-N78 -> -0.19495249 | P78: =O78*O78 -> 0.038006472 | Q78: 2.6982402
A79: =(K79/10000*2500)/(E79/100)*10/1000+B79 -> 2.328373 | B79: =B78 -> 0.57142857 | C79: =C51 -> 4 | D79: =D23 -> 18 | E79: =E78 -> 72 | F79: =F23 -> 12 | G79: 5 | H79: 10 | I79: =D79-C79-G79 -> 9 | J79: =(E79-2*H79-F79)/2 -> 20 | K79: =E79*C79+(D79-C79)*F79+G79*H79 -> 506 | L79: =L78+1 -> 77 | M79: =A88 -> 2.551501 | N79: =N78 -> 2.6431927 | O79: =M79-N79 -> -0.091691617 | P79: =O79*O79 -> 0.0084073527 | Q79: 2.703373
A80: =(K80/10000*2500)/(E80/100)*10/1000+B80 -> 2.4325397 | B80: =B79 -> 0.57142857 | C80: =C52 -> 4.5 | D80: =D24 -> 18 | E80: =E79 -> 72 | F80: =F24 -> 12 | G80: 5 | H80: 10 | I80: =D80-C80-G80 -> 8.5 | J80: =(E80-2*H80-F80)/2 -> 20 | K80: =E80*C80+(D80-C80)*F80+G80*H80 -> 536 | L80: =L79+1 -> 78 | M80: =A89 -> 2.6547619 | N80: =N79 -> 2.6431927 | O80: =M80-N80 -> 0.011569252 | P80: =O80*O80 -> 0.00013384759 | Q80: 2.7035714
A81: =(K81/10000*2500)/(E81/100)*10/1000+B81 -> 2.5367063 | B81: =B80 -> 0.57142857 | C81: =C53 -> 5 | D81: =D25 -> 18 | E81: =E80 -> 72 | F81: =F25 -> 12 | G81: 5 | H81: 10 | I81: =D81-C81-G81 -> 8 | J81: =(E81-2*H81-F81)/2 -> 20 | K81: =E81*C81+(D81-C81)*F81+G81*H81 -> 566 | L81: =L80+1 -> 79 | M81: =A90 -> 2.7580228 | N81: =N80 -> 2.6431927 | O81: =M81-N81 -> 0.11483012 | P81: =O81*O81 -> 0.013185957 | Q81: 2.7111345
A82: =(K82/10000*2500)/(E82/100)*10/1000+B82 -> 2.640873 | B82: =B81 -> 0.57142857 | C82: =C54 -> 5.5 | D82: =D26 -> 18 | E82: =E81 -> 72 | F82: =F26 -> 12 | G82: 5 | H82: 10 | I82: =D82-C82-G82 -> 7.5 | J82: =(E82-2*H82-F82)/2 -> 20 | K82: =E82*C82+(D82-C82)*F82+G82*H82 -> 596 | L82: =L81+1 -> 80 | M82: =A91 -> 2.8612836 | N82: =N81 -> 2.6431927 | O82: =M82-N82 -> 0.21809099 | P82: =O82*O82 -> 0.04756368 | Q82: 2.7145445
A83: =(K83/10000*2500)/(E83/100)*10/1000+B83 -> 2.7450397 | B83: =B82 -> 0.57142857 | C83: =C55 -> 6 | D83: =D27 -> 18 | E83: =E82 -> 72 | F83: =F27 -> 12 | G83: 5 | H83: 10 | I83: =D83-C83-G83 -> 7 | J83: =(E83-2*H83-F83)/2 -> 20 | K83: =E83*C83+(D83-C83)*F83+G83*H83 -> 626 | L83: =L82+1 -> 81 | M83: =A92 -> 2.4917184 | N83: =N82 -> 2.6431927 | O83: =M83-N83 -> -0.15147423 | P83: =O83*O83 -> 0.022944441 | Q83: 2.7157948
L84: =L83+1 -> 82 | M84: =A93 -> 2.5949793 | N84: =N83 -> 2.6431927 | O84: =M84-N84 -> -0.048213357 | P84: =O84*O84 -> 0.0023245278 | Q84: 2.7242063
A85: P. Forjado | B85: Aligeramiento | C85: h0 | D85: h | E85: b | F85: b0 | G85: h1 | H85: b1 | I85: h2 | J85: b2 | K85: Area | L85: =L84+1 -> 83 | M85: =A94 -> 2.6982402 | N85: =N84 -> 2.6431927 | O85: =M85-N85 -> 0.055047513 | P85: =O85*O85 -> 0.0030302287 | Q85: 2.7258403
A86: kN/m2 | B86: kN/m2 | C86: cm | D86: cm | E86: cm | F86: cm | G86: cm | H86: cm | I86: cm | J86: cm | K86: cm2 | L86: =L85+1 -> 84 | M86: =A95 -> 2.801501 | N86: =N85 -> 2.6431927 | O86: =M86-N86 -> 0.15830838 | P86: =O86*O86 -> 0.025061544 | Q86: 2.7285714
A87: =(K87/10000*2500)/(E87/100)*10/1000+B87 -> 2.4482402 | B87: =I145 -> 0.57142857 | C87: =C59 -> 4 | D87: =D3 -> 20 | E87: =E3-1 -> 69 | F87: =F3 -> 12 | G87: 5 | H87: 10 | I87: =D87-C87-G87 -> 11 | J87: =(E87-2*H87-F87)/2 -> 18.5 | K87: =E87*C87+(D87-C87)*F87+G87*H87 -> 518 | L87: =L86+1 -> 85 | M87: =A96 -> 2.9047619 | N87: =N86 -> 2.6431927 | O87: =M87-N87 -> 0.26156925 | P87: =O87*O87 -> 0.068418474 | Q87: 2.735161
A88: =(K88/10000*2500)/(E88/100)*10/1000+B88 -> 2.551501 | B88: =B87 -> 0.57142857 | C88: =C60 -> 4.5 | D88: =D4 -> 20 | E88: =E87 -> 69 | F88: =F4 -> 12 | G88: 5 | H88: 10 | I88: =D88-C88-G88 -> 10.5 | J88: =(E88-2*H88-F88)/2 -> 18.5 | K88: =E88*C88+(D88-C88)*F88+G88*H88 -> 546.5 | L88: =L87+1 -> 86 | M88: =A97 -> 2.5351967 | N88: =N87 -> 2.6431927 | O88: =M88-N88 -> -0.10799597 | P88: =O88*O88 -> 0.011663129 | Q88: 2.7417184
A89: =(K89/10000*2500)/(E89/100)*10/1000+B89 -> 2.6547619 | B89: =B88 -> 0.57142857 | C89: =C61 -> 5 | D89: =D5 -> 20 | E89: =E88 -> 69 | F89: =F5 -> 12 | G89: 5 | H89: 10 | I89: =D89-C89-G89 -> 10 | J89: =(E89-2*H89-F89)/2 -> 18.5 | K89: =E89*C89+(D89-C89)*F89+G89*H89 -> 575 | L89: =L88+1 -> 87 | M89: =A98 -> 2.6384576 | N89: =N88 -> 2.6431927 | O89: =M89-N89 -> -0.0047350957 | P89: =O89*O89 -> 2.2421131e-05 | Q89: 2.7450397
A90: =(K90/10000*2500)/(E90/100)*10/1000+B90 -> 2.7580228 | B90: =B89 -> 0.57142857 | C90: =C62 -> 5.5 | D90: =D6 -> 20 | E90: =E89 -> 69 | F90: =F6 -> 12 | G90: 5 | H90: 10 | I90: =D90-C90-G90 -> 9.5 | J90: =(E90-2*H90-F90)/2 -> 18.5 | K90: =E90*C90+(D90-C90)*F90+G90*H90 -> 603.5 | L90: =L89+1 -> 88 | M90: =A99 -> 2.7417184 | N90: =N89 -> 2.6431927 | O90: =M90-N90 -> 0.098525774 | P90: =O90*O90 -> 0.0097073281 | Q90: 2.7464286
A91: =(K91/10000*2500)/(E91/100)*10/1000+B91 -> 2.8612836 | B91: =B90 -> 0.57142857 | C91: =C63 -> 6 | D91: =D7 -> 20 | E91: =E90 -> 69 | F91: =F7 -> 12 | G91: 5 | H91: 10 | I91: =D91-C91-G91 -> 9 | J91: =(E91-2*H91-F91)/2 -> 18.5 | K91: =E91*C91+(D91-C91)*F91+G91*H91 -> 632 | L91: =L90+1 -> 89 | M91: =A100 -> 2.8449793 | N91: =N90 -> 2.6431927 | O91: =M91-N91 -> 0.20178664 | P91: =O91*O91 -> 0.040717849 | Q91: 2.7545272
A92: =(K92/10000*2500)/(E92/100)*10/1000+B92 -> 2.4917184 | B92: =B91 -> 0.57142857 | C92: =C64 -> 4 | D92: =D8 -> 21 | E92: =E91 -> 69 | F92: =F8 -> 12 | G92: 5 | H92: 10 | I92: =D92-C92-G92 -> 12 | J92: =(E92-2*H92-F92)/2 -> 18.5 | K92: =E92*C92+(D92-C92)*F92+G92*H92 -> 530 | L92: =L91+1 -> 90 | M92: =A101 -> 2.9482402 | N92: =N91 -> 2.6431927 | O92: =M92-N92 -> 0.30504751 | P92: =O92*O92 -> 0.093053985 | Q92: 2.7552521
A93: =(K93/10000*2500)/(E93/100)*10/1000+B93 -> 2.5949793 | B93: =B92 -> 0.57142857 | C93: =C65 -> 4.5 | D93: =D9 -> 21 | E93: =E92 -> 69 | F93: =F9 -> 12 | G93: 5 | H93: 10 | I93: =D93-C93-G93 -> 11.5 | J93: =(E93-2*H93-F93)/2 -> 18.5 | K93: =E93*C93+(D93-C93)*F93+G93*H93 -> 558.5 | L93: =L92+1 -> 91 | M93: =A102 -> 2.4047619 | N93: =N92 -> 2.6431927 | O93: =M93-N93 -> -0.23843075 | P93: =O93*O93 -> 0.056849222 | Q93: 2.7580228
A94: =(K94/10000*2500)/(E94/100)*10/1000+B94 -> 2.6982402 | B94: =B93 -> 0.57142857 | C94: =C66 -> 5 | D94: =D10 -> 21 | E94: =E93 -> 69 | F94: =F10 -> 12 | G94: 5 | H94: 10 | I94: =D94-C94-G94 -> 11 | J94: =(E94-2*H94-F94)/2 -> 18.5 | K94: =E94*C94+(D94-C94)*F94+G94*H94 -> 587 | L94: =L93+1 -> 92 | M94: =A103 -> 2.5080228 | N94: =N93 -> 2.6431927 | O94: =M94-N94 -> -0.13516988 | P94: =O94*O94 -> 0.018270896 | Q94: 2.7642857
A95: =(K95/10000*2500)/(E95/100)*10/1000+B95 -> 2.801501 | B95: =B94 -> 0.57142857 | C95: =C67 -> 5.5 | D95: =D11 -> 21 | E95: =E94 -> 69 | F95: =F11 -> 12 | G95: 5 | H95: 10 | I95: =D95-C95-G95 -> 10.5 | J95: =(E95-2*H95-F95)/2 -> 18.5 | K95: =E95*C95+(D95-C95)*F95+G95*H95 -> 615.5 | L95: =L94+1 -> 93 | M95: =A104 -> 2.6112836 | N95: =N94 -> 2.6431927 | O95: =M95-N95 -> -0.031909009 | P95: =O95*O95 -> 0.0010181848 | Q95: 2.765873
A96: =(K96/10000*2500)/(E96/100)*10/1000+B96 -> 2.9047619 | B96: =B95 -> 0.57142857 | C96: =C68 -> 6 | D96: =D12 -> 21 | E96: =E95 -> 69 | F96: =F12 -> 12 | G96: 5 | H96: 10 | I96: =D96-C96-G96 -> 10 | J96: =(E96-2*H96-F96)/2 -> 18.5 | K96: =E96*C96+(D96-C96)*F96+G96*H96 -> 644 | L96: =L95+1 -> 94 | M96: =A105 -> 2.7145445 | N96: =N95 -> 2.6431927 | O96: =M96-N96 -> 0.071351861 | P96: =O96*O96 -> 0.005091088 | Q96: 2.769958
A97: =(K97/10000*2500)/(E97/100)*10/1000+B97 -> 2.5351967 | B97: =B96 -> 0.57142857 | C97: =C69 -> 4 | D97: =D13 -> 22 | E97: =E96 -> 69 | F97: =F13 -> 12 | G97: 5 | H97: 10 | I97: =D97-C97-G97 -> 13 | J97: =(E97-2*H97-F97)/2 -> 18.5 | K97: =E97*C97+(D97-C97)*F97+G97*H97 -> 542 | L97: =L96+1 -> 95 | M97: =A106 -> 2.8178054 | N97: =N96 -> 2.6431927 | O97: =M97-N97 -> 0.17461273 | P97: =O97*O97 -> 0.030489606 | Q97: 2.7743271
A98: =(K98/10000*2500)/(E98/100)*10/1000+B98 -> 2.6384576 | B98: =B97 -> 0.57142857 | C98: =C70 -> 4.5 | D98: =D14 -> 22 | E98: =E97 -> 69 | F98: =F14 -> 12 | G98: 5 | H98: 10 | I98: =D98-C98-G98 -> 12.5 | J98: =(E98-2*H98-F98)/2 -> 18.5 | K98: =E98*C98+(D98-C98)*F98+G98*H98 -> 570.5 | L98: =L97+1 -> 96 | M98: =A107 -> 2.3612836 | N98: =N97 -> 2.6431927 | O98: =M98-N98 -> -0.28190901 | P98: =O98*O98 -> 0.079472689 | Q98: 2.7774145
A99: =(K99/10000*2500)/(E99/100)*10/1000+B99 -> 2.7417184 | B99: =B98 -> 0.57142857 | C99: =C71 -> 5 | D99: =D15 -> 22 | E99: =E98 -> 69 | F99: =F15 -> 12 | G99: 5 | H99: 10 | I99: =D99-C99-G99 -> 12 | J99: =(E99-2*H99-F99)/2 -> 18.5 | K99: =E99*C99+(D99-C99)*F99+G99*H99 -> 599 | L99: =L98+1 -> 97 | M99: =A108 -> 2.4645445 | N99: =N98 -> 2.6431927 | O99: =M99-N99 -> -0.17864814 | P99: =O99*O99 -> 0.031915158 | Q99: 2.7846639
... A102: =(K102/10000*2500)/(E102/100)*10/1000+B102 -> 2.4047619 | B102: =B101 -> 0.57142857 | C102: =C74 -> 4 | D102: =D18 -> 19 | E102: =E101 -> 69 | F102: =F18 -> 12 | G102: 5 | H102: 10 | I102: =D102-C102-G102 -> 10 | J102: =(E102-2*H102-F102)/2 -> 18.5 | K102: =E102*C102+(D102-C102)*F102+G102*H102 -> 506 | L102: =L101+1 -> 100 | M102: =A111 -> 2.7743271 | N102: =N101 -> 2.6431927 | O102: =M102-N102 -> 0.13113447 | P102: =O102*O102 -> 0.017196249 | Q102: 2.7967807
A103: =(K103/10000*2500)/(E103/100)*10/1000+B103 -> 2.5080228 | B103: =B102 -> 0.57142857 | C103: =C75 -> 4.5 | D103: =D19 -> 19 | E103: =E102 -> 69 | F103: =F19 -> 12 | G103: 5 | H103: 10 | I103: =D103-C103-G103 -> 9.5 | J103: =(E103-2*H103-F103)/2 -> 18.5 | K103: =E103*C103+(D103-C103)*F103+G103*H103 -> 534.5 | L103: =L102+1 -> 101 | M103: =A115 -> 2.4611345 | N103: =N102 -> 2.6431927 | O103: =M103-N103 -> -0.1820582 | P103: =O103*O103 -> 0.033145188 | Q103: 2.801501
A104: =(K104/10000*2500)/(E104/100)*10/1000+B104 -> 2.6112836 | B104: =B103 -> 0.57142857 | C104: =C76 -> 5 | D104: =D20 -> 19 | E104: =E103 -> 69 | F104: =F20 -> 12 | G104: 5 | H104: 10 | I104: =D104-C104-G104 -> 9 | J104: =(E104-2*H104-F104)/2 -> 18.5 | K104: =E104*C104+(D104-C104)*F104+G104*H104 -> 563 | L104: =L103+1 -> 102 | M104: =A116 -> 2.5640756 | N104: =N103 -> 2.6431927 | O104: =M104-N104 -> -0.079117022 | P104: =O104*O104 -> 0.0062595032 | Q104: 2.8071429
A105: =(K105/10000*2500)/(E105/100)*10/1000+B105 -> 2.7145445 | B105: =B104 -> 0.57142857 | C105: =C77 -> 5.5 | D105: =D21 -> 19 | E105: =E104 -> 69 | F105: =F21 -> 12 | G105: 5 | H105: 10 | I105: =D105-C105-G105 -> 8.5 | J105: =(E105-2*H105-F105)/2 -> 18.5 | K105: =E105*C105+(D105-C105)*F105+G105*H105 -> 591.5 | L105: =L104+1 -> 103 | M105: =A117 -> 2.6670168 | N105: =N104 -> 2.6431927 | O105: =M105-N105 -> 0.023824154 | P105: =O105*O105 -> 0.00056759032 | Q105: 2.8075397
A106: =(K106/10000*2500)/(E106/100)*10/1000+B106 -> 2.8178054 | B106: =B105 -> 0.57142857 | C106: =C78 -> 6 | D106: =D22 -> 19 | E106: =E105 -> 69 | F106: =F22 -> 12 | G106: 5 | H106: 10 | I106: =D106-C106-G106 -> 8 | J106: =(E106-2*H106-F106)/2 -> 18.5 | K106: =E106*C106+(D106-C106)*F106+G106*H106 -> 620 | L106: =L105+1 -> 104 | M106: =A118 -> 2.769958 | N106: =N105 -> 2.6431927 | O106: =M106-N106 -> 0.12676533 | P106: =O106*O106 -> 0.016069449 | Q106: 2.8140756
A107: =(K107/10000*2500)/(E107/100)*10/1000+B107 -> 2.3612836 | B107: =B106 -> 0.57142857 | C107: =C79 -> 4 | D107: =D23 -> 18 | E107: =E106 -> 69 | F107: =F23 -> 12 | G107: 5 | H107: 10 | I107: =D107-C107-G107 -> 9 | J107: =(E107-2*H107-F107)/2 -> 18.5 | K107: =E107*C107+(D107-C107)*F107+G107*H107 -> 494 | L107: =L106+1 -> 105 | M107: =A119 -> 2.8728992 | N107: =N106 -> 2.6431927 | O107: =M107-N107 -> 0.22970651 | P107: =O107*O107 -> 0.052765079 | Q107: 2.8178054
A108: =(K108/10000*2500)/(E108/100)*10/1000+B108 -> 2.4645445 | B108: =B107 -> 0.57142857 | C108: =C80 -> 4.5 | D108: =D24 -> 18 | E108: =E107 -> 69 | F108: =F24 -> 12 | G108: 5 | H108: 10 | I108: =D108-C108-G108 -> 8.5 | J108: =(E108-2*H108-F108)/2 -> 18.5 | K108: =E108*C108+(D108-C108)*F108+G108*H108 -> 522.5 | L108: =L107+1 -> 106 | M108: =A120 -> 2.5052521 | N108: =N107 -> 2.6431927 | O108: =M108-N108 -> -0.13794055 | P108: =O108*O108 -> 0.019027596 | Q108: 2.819668
A109: =(K109/10000*2500)/(E109/100)*10/1000+B109 -> 2.5678054 | B109: =B108 -> 0.57142857 | C109: =C81 -> 5 | D109: =D25 -> 18 | E109: =E108 -> 69 | F109: =F25 -> 12 | G109: 5 | H109: 10 | I109: =D109-C109-G109 -> 8 | J109: =(E109-2*H109-F109)/2 -> 18.5 | K109: =E109*C109+(D109-C109)*F109+G109*H109 -> 551 | L109: =L108+1 -> 107 | M109: =A121 -> 2.6081933 | N109: =N108 -> 2.6431927 | O109: =M109-N109 -> -0.034999375 | P109: =O109*O109 -> 0.0012249563 | Q109: 2.828373
A110: =(K110/10000*2500)/(E110/100)*10/1000+B110 -> 2.6710663 | B110: =B109 -> 0.57142857 | C110: =C82 -> 5.5 | D110: =D26 -> 18 | E110: =E109 -> 69 | F110: =F26 -> 12 | G110: 5 | H110: 10 | I110: =D110-C110-G110 -> 7.5 | J110: =(E110-2*H110-F110)/2 -> 18.5 | K110: =E110*C110+(D110-C110)*F110+G110*H110 -> 579.5 | L110: =L109+1 -> 108 | M110: =A122 -> 2.7111345 | N110: =N109 -> 2.6431927 | O110: =M110-N110 -> 0.067941801 | P110: =O110*O110 -> 0.0046160883 | Q110: 2.8287815
A111: =(K111/10000*2500)/(E111/100)*10/1000+B111 -> 2.7743271 | B111: =B110 -> 0.57142857 | C111: =C83 -> 6 | D111: =D27 -> 18 | E111: =E110 -> 69 | F111: =F27 -> 12 | G111: 5 | H111: 10 | I111: =D111-C111-G111 -> 7 | J111: =(E111-2*H111-F111)/2 -> 18.5 | K111: =E111*C111+(D111-C111)*F111+G111*H111 -> 608 | L111: =L110+1 -> 109 | M111: =A123 -> 2.8140756 | N111: =N110 -> 2.6431927 | O111: =M111-N111 -> 0.17088298 | P111: =O111*O111 -> 0.029200992 | Q111: 2.8321429
L112: =L111+1 -> 110 | M112: =A124 -> 2.9170168 | N112: =N111 -> 2.6431927 | O112: =M112-N112 -> 0.27382415 | P112: =O112*O112 -> 0.074979667 | Q112: 2.8390342
A113: P. Forjado | B113: Aligeramiento | C113: h0 | D113: h | E113: b | F113: b0 | G113: h1 | H113: b1 | I113: h2 | J113: b2 | K113: Area | L113: =L112+1 -> 111 | M113: =A125 -> 2.5493697 | N113: =N112 -> 2.6431927 | O113: =M113-N113 -> -0.093822905 | P113: =O113*O113 -> 0.0088027375 | Q113: 2.8449793
A114: kN/m2 | B114: kN/m2 | C114: cm | D114: cm | E114: cm | F114: cm | G114: cm | H114: cm | I114: cm | J114: cm | K114: cm2 | L114: =L113+1 -> 112 | M114: =A126 -> 2.6523109 | N114: =N113 -> 2.6431927 | O114: =M114-N114 -> 0.0091182717 | P114: =O114*O114 -> 8.3142879e-05 | Q114: 2.85
A115: =(K115/10000*2500)/(E115/100)*10/1000+B115 -> 2.4611345 | B115: =I145 -> 0.57142857 | C115: =C87 -> 4 | D115: =D31 -> 20 | E115: =E3-2 -> 68 | F115: =F3 -> 12 | G115: 5 | H115: 10 | I115: =D115-C115-G115 -> 11 | J115: =(E115-2*H115-F115)/2 -> 18 | K115: =E115*C115+(D115-C115)*F115+G115*H115 -> 514 | L115: =L114+1 -> 113 | M115: =A127 -> 2.7552521 | N115: =N114 -> 2.6431927 | O115: =M115-N115 -> 0.11205945 | P115: =O115*O115 -> 0.01255732 | Q115: 2.8581933
...

Sheet Canto 15
A1: P. Forjado | B1: Aligeramiento | C1: h0 | D1: h | E1: b | F1: b0 | G1: h1 | H1: b1 | I1: h2 | J1: b2 | K1: Area | L1: Nº de Orden | M1: Valores | N1: Media | O1: Desv. | P1: Des2 | Q1: Valores
A2: kN/m2 | B2: kN/m2 | C2: cm | D2: cm | E2: cm | F2: cm | G2: cm | H2: cm | I2: cm | J2: cm | K2: cm2 | L2: - | M2: kN/m2 | N2: kN/m2 | O2: kN/m2 | P2: - | Q2: kN/m2
A3: =(K3/10000*2500)/(E3/100)*10/1000+B3 -> 2.1642857 | B3: =I145 -> 0.51428571 | C3: =C4-0.5 -> 4 | D3: =C144 -> 15 | E3: =D144 -> 70 | F3: =E144 -> 12 | G3: 5 | H3: 10 | I3: =D3-C3-G3 -> 6 | J3: =(E3-2*H3-F3)/2 -> 19 | K3: =E3*C3+(D3-C3)*F3+G3*H3 -> 462 | L3: =1 -> 1 | M3: =A3 -> 2.1642857 | N3: =M129 -> 2.3716766 | O3: =M3-N3 -> -0.20739084 | P3: =O3*O3 -> 0.043010962 | Q3: 2.0628968
A4: =(K4/10000*2500)/(E4/100)*10/1000+B4 -> 2.2678571 | B4: =B3 -> 0.51428571 | C4: =C5-0.5 -> 4.5 | D4: =D3 -> 15 | E4: =E3 -> 70 | F4: =F3 -> 12 | G4: 5 | H4: 10 | I4: =D4-C4-G4 -> 5.5 | J4: =(E4-2*H4-F4)/2 -> 19 | K4: =E4*C4+(D4-C4)*F4+G4*H4 -> 491 | L4: =L3+1 -> 2 | M4: =A4 -> 2.2678571 | N4: =N3 -> 2.3716766 | O4: =M4-N4 -> -0.10381941 | P4: =O4*O4 -> 0.010778471 | Q4: 2.0706237
A5: =(K5/10000*2500)/(E5/100)*10/1000+B5 -> 2.3714286 | B5: =B4 -> 0.51428571 | C5: =B144 -> 5 | D5: =D4 -> 15 | E5: =E4 -> 70 | F5: =F4 -> 12 | G5: 5 | H5: 10 | I5: =D5-C5-G5 -> 5 | J5: =(E5-2*H5-F5)/2 -> 19 | K5: =E5*C5+(D5-C5)*F5+G5*H5 -> 520 | L5: =L4+1 -> 3 | M5: =A5 -> 2.3714286 | N5: =N4 -> 2.3716766 | O5: =M5-N5 -> -0.0002479855 | P5: =O5*O5 -> 6.1496807e-08 | Q5: 2.0785714
A6: =(K6/10000*2500)/(E6/100)*10/1000+B6 -> 2.475 | B6: =B5 -> 0.51428571 | C6: =C5+0.5 -> 5.5 | D6: =D5 -> 15 | E6: =E5 -> 70 | F6: =F5 -> 12 | G6: 5 | H6: 10 | I6: =D6-C6-G6 -> 4.5 | J6: =(E6-2*H6-F6)/2 -> 19 | K6: =E6*C6+(D6-C6)*F6+G6*H6 -> 549 | L6: =L5+1 -> 4 | M6: =A6 -> 2.475 | N6: =N5 -> 2.3716766 | O6: =M6-N6 -> 0.10332344 | P6: =O6*O6 -> 0.010675734 | Q6: 2.0867495
A7: =(K7/10000*2500)/(E7/100)*10/1000+B7 -> 2.5785714 | B7: =B6 -> 0.51428571 | C7: =C6+0.5 -> 6 | D7: =D6 -> 15 | E7: =E6 -> 70 | F7: =F6 -> 12 | G7: 5 | H7: 10 | I7: =D7-C7-G7 -> 4 | J7: =(E7-2*H7-F7)/2 -> 19 | K7: =E7*C7+(D7-C7)*F7+G7*H7 -> 578 | L7: =L6+1 -> 5 | M7: =A7 -> 2.5785714 | N7: =N6 -> 2.3716766 | O7: =M7-N7 -> 0.20689487 | P7: =O7*O7 -> 0.042805488 | Q7: 2.0951681
A8: =(K8/10000*2500)/(E8/100)*10/1000+B8 -> 2.2071429 | B8: =B7 -> 0.51428571 | C8: =C3 -> 4 | D8: =D3+1 -> 16 | E8: =E7 -> 70 | F8: =F7 -> 12 | G8: 5 | H8: 10 | I8: =D8-C8-G8 -> 7 | J8: =(E8-2*H8-F8)/2 -> 19 | K8: =E8*C8+(D8-C8)*F8+G8*H8 -> 474 | L8: =L7+1 -> 6 | M8: =A8 -> 2.2071429 | N8: =N7 -> 2.3716766 | O8: =M8-N8 -> -0.1645337 | P8: =O8*O8 -> 0.027071338 | Q8: 2.1045635
A9: =(K9/10000*2500)/(E9/100)*10/1000+B9 -> 2.3107143 | B9: =B8 -> 0.51428571 | C9: =C4 -> 4.5 | D9: =D4+1 -> 16 | E9: =E8 -> 70 | F9: =F8 -> 12 | G9: 5 | H9: 10 | I9: =D9-C9-G9 -> 6.5 | J9: =(E9-2*H9-F9)/2 -> 19 | K9: =E9*C9+(D9-C9)*F9+G9*H9 -> 503 | L9: =L8+1 -> 7 | M9: =A9 -> 2.3107143 | N9: =N8 -> 2.3716766 | O9: =M9-N9 -> -0.060962271 | P9: =O9*O9 -> 0.0037163985 | Q9: 2.1128773
A10: =(K10/10000*2500)/(E10/100)*10/1000+B10 -> 2.4142857 | B10: =B9 -> 0.51428571 | C10: =C5 -> 5 | D10: =D5+1 -> 16 | E10: =E9 -> 70 | F10: =F9 -> 12 | G10: 5 | H10: 10 | I10: =D10-C10-G10 -> 6 | J10: =(E10-2*H10-F10)/2 -> 19 | K10: =E10*C10+(D10-C10)*F10+G10*H10 -> 532 | L10: =L9+1 -> 8 | M10: =A10 -> 2.4142857 | N10: =N9 -> 2.3716766 | O10: =M10-N10 -> 0.042609157 | P10: =O10*O10 -> 0.0018155403 | Q10: 2.1214286
A11: =(K11/10000*2500)/(E11/100)*10/1000+B11 -> 2.5178571 | B11: =B10 -> 0.51428571 | C11: =C6 -> 5.5 | D11: =D6+1 -> 16 | E11: =E10 -> 70 | F11: =F10 -> 12 | G11: 5 | H11: 10 | I11: =D11-C11-G11 -> 5.5 | J11: =(E11-2*H11-F11)/2 -> 19 | K11: =E11*C11+(D11-C11)*F11+G11*H11 -> 561 | L11: =L10+1 -> 9 | M11: =A11 -> 2.5178571 | N11: =N10 -> 2.3716766 | O11: =M11-N11 -> 0.14618059 | P11: =O11*O11 -> 0.021368764 | Q11: 2.1302277
A12: =(K12/10000*2500)/(E12/100)*10/1000+B12 -> 2.6214286 | B12: =B11 -> 0.51428571 | C12: =C7 -> 6 | D12: =D7+1 -> 16 | E12: =E11 -> 70 | F12: =F11 -> 12 | G12: 5 | H12: 10 | I12: =D12-C12-G12 -> 5 | J12: =(E12-2*H12-F12)/2 -> 19 | K12: =E12*C12+(D12-C12)*F12+G12*H12 -> 590 | L12: =L11+1 -> 10 | M12: =A12 -> 2.6214286 | N12: =N11 -> 2.3716766 | O12: =M12-N12 -> 0.24975201 | P12: =O12*O12 -> 0.062376069 | Q12: 2.1392857
A13: =(K13/10000*2500)/(E13/100)*10/1000+B13 -> 2.25 | B13: =B12 -> 0.51428571 | C13: =C3 -> 4 | D13: =D3+2 -> 17 | E13: =E12 -> 70 | F13: =F12 -> 12 | G13: 5 | H13: 10 | I13: =D13-C13-G13 -> 8 | J13: =(E13-2*H13-F13)/2 -> 19 | K13: =E13*C13+(D13-C13)*F13+G13*H13 -> 486 | L13: =L12+1 -> 11 | M13: =A13 -> 2.25 | N13: =N12 -> 2.3716766 | O13: =M13-N13 -> -0.12167656 | P13: =O13*O13 -> 0.014805185 | Q13: 2.1462302
A14: =(K14/10000*2500)/(E14/100)*10/1000+B14 -> 2.3535714 | B14: =B13 -> 0.51428571 | C14: =C4 -> 4.5 | D14: =D4+2 -> 17 | E14: =E13 -> 70 | F14: =F13 -> 12 | G14: 5 | H14: 10 | I14: =D14-C14-G14 -> 7.5 | J14: =(E14-2*H14-F14)/2 -> 19 | K14: =E14*C14+(D14-C14)*F14+G14*H14 -> 515 | L14: =L13+1 -> 12 | M14: =A14 -> 2.3535714 | N14: =N13 -> 2.3716766 | O14: =M14-N14 -> -0.018105128 | P14: =O14*O14 -> 0.00032779567 | Q14: 2.1551308
A15: =(K15/10000*2500)/(E15/100)*10/1000+B15 -> 2.4571429 | B15: =B14 -> 0.51428571 | C15: =C5 -> 5 | D15: =D5+2 -> 17 | E15: =E14 -> 70 | F15: =F14 -> 12 | G15: 5 | H15: 10 | I15: =D15-C15-G15 -> 7 | J15: =(E15-2*H15-F15)/2 -> 19 | K15: =E15*C15+(D15-C15)*F15+G15*H15 -> 544 | L15: =L14+1 -> 13 | M15: =A15 -> 2.4571429 | N15: =N14 -> 2.3716766 | O15: =M15-N15 -> 0.0854663 | P15: =O15*O15 -> 0.0073044885 | Q15: 2.1642857
A16: =(K16/10000*2500)/(E16/100)*10/1000+B16 -> 2.5607143 | B16: =B15 -> 0.51428571 | C16: =C6 -> 5.5 | D16: =D6+2 -> 17 | E16: =E15 -> 70 | F16: =F15 -> 12 | G16: 5 | H16: 10 | I16: =D16-C16-G16 -> 6.5 | J16: =(E16-2*H16-F16)/2 -> 19 | K16: =E16*C16+(D16-C16)*F16+G16*H16 -> 573 | L16: =L15+1 -> 14 | M16: =A16 -> 2.5607143 | N16: =N15 -> 2.3716766 | O16: =M16-N16 -> 0.18903773 | P16: =O16*O16 -> 0.035735263 | Q16: 2.1670635
A17: =(K17/10000*2500)/(E17/100)*10/1000+B17 -> 2.6642857 | B17: =B16 -> 0.51428571 | C17: =C7 -> 6 | D17: =D7+2 -> 17 | E17: =E16 -> 70 | F17: =F16 -> 12 | G17: 5 | H17: 10 | I17: =D17-C17-G17 -> 6 | J17: =(E17-2*H17-F17)/2 -> 19 | K17: =E17*C17+(D17-C17)*F17+G17*H17 -> 602 | L17: =L16+1 -> 15 | M17: =A17 -> 2.6642857 | N17: =N16 -> 2.3716766 | O17: =M17-N17 -> 0.29260916 | P17: =O17*O17 -> 0.085620119 | Q17: 2.173706
A18: =(K18/10000*2500)/(E18/100)*10/1000+B18 -> 2.1214286 | B18: =B17 -> 0.51428571 | C18: =C3 -> 4 | D18: =D3-1 -> 14 | E18: =E17 -> 70 | F18: =F17 -> 12 | G18: 5 | H18: 10 | I18: =D18-C18-G18 -> 5 | J18: =(E18-2*H18-F18)/2 -> 19 | K18: =E18*C18+(D18-C18)*F18+G18*H18 -> 450 | L18: =L17+1 -> 16 | M18: =A18 -> 2.1214286 | N18: =N17 -> 2.3716766 | O18: =M18-N18 -> -0.25024799 | P18: =O18*O18 -> 0.062624054 | Q18: 2.174497
A19: =(K19/10000*2500)/(E19/100)*10/1000+B19 -> 2.225 | B19: =B18 -> 0.51428571 | C19: =C4 -> 4.5 | D19: =D4-1 -> 14 | E19: =E18 -> 70 | F19: =F18 -> 12 | G19: 5 | H19: 10 | I19: =D19-C19-G19 -> 4.5 | J19: =(E19-2*H19-F19)/2 -> 19 | K19: =E19*C19+(D19-C19)*F19+G19*H19 -> 479 | L19: =L18+1 -> 17 | M19: =A19 -> 2.225 | N19: =N18 -> 2.3716766 | O19: =M19-N19 -> -0.14667656 | P19: =O19*O19 -> 0.021514012 | Q19: 2.1821429
A20: =(K20/10000*2500)/(E20/100)*10/1000+B20 -> 2.3285714 | B20: =B19 -> 0.51428571 | C20: =C5 -> 5 | D20: =D5-1 -> 14 | E20: =E19 -> 70 | F20: =F19 -> 12 | G20: 5 | H20: 10 | I20: =D20-C20-G20 -> 4 | J20: =(E20-2*H20-F20)/2 -> 19 | K20: =E20*C20+(D20-C20)*F20+G20*H20 -> 508 | L20: =L19+1 -> 18 | M20: =A20 -> 2.3285714 | N20: =N19 -> 2.3716766 | O20: =M20-N20 -> -0.043105128 | P20: =O20*O20 -> 0.0018580521 | Q20: 2.1834034
A21: =(K21/10000*2500)/(E21/100)*10/1000+B21 -> 2.4321429 | B21: =B20 -> 0.51428571 | C21: =C6 -> 5.5 | D21: =D6-1 -> 14 | E21: =E20 -> 70 | F21: =F20 -> 12 | G21: 5 | H21: 10 | I21: =D21-C21-G21 -> 3.5 | J21: =(E21-2*H21-F21)/2 -> 19 | K21: =E21*C21+(D21-C21)*F21+G21*H21 -> 537 | L21: =L20+1 -> 19 | M21: =A21 -> 2.4321429 | N21: =N20 -> 2.3716766 | O21: =M21-N21 -> 0.0604663 | P21: =O21*O21 -> 0.0036561735 | Q21: 2.1878968
A22: =(K22/10000*2500)/(E22/100)*10/1000+B22 -> 2.5357143 | B22: =B21 -> 0.51428571 | C22: =C7 -> 6 | D22: =D7-1 -> 14 | E22: =E21 -> 70 | F22: =F21 -> 12 | G22: 5 | H22: 10 | I22: =D22-C22-G22 -> 3 | J22: =(E22-2*H22-F22)/2 -> 19 | K22: =E22*C22+(D22-C22)*F22+G22*H22 -> 566 | L22: =L21+1 -> 20 | M22: =A22 -> 2.5357143 | N22: =N21 -> 2.3716766 | O22: =M22-N22 -> 0.16403773 | P22: =O22*O22 -> 0.026908376 | Q22: 2.1900104
A23: =(K23/10000*2500)/(E23/100)*10/1000+B23 -> 2.0785714 | B23: =B22 -> 0.51428571 | C23: =C3 -> 4 | D23: =D3-2 -> 13 | E23: =E22 -> 70 | F23: =F22 -> 12 | G23: 5 | H23: 10 | I23: =D23-C23-G23 -> 4 | J23: =(E23-2*H23-F23)/2 -> 19 | K23: =E23*C23+(D23-C23)*F23+G23*H23 -> 438 | L23: =L22+1 -> 21 | M23: =A23 -> 2.0785714 | N23: =N22 -> 2.3716766 | O23: =M23-N23 -> -0.29310513 | P23: =O23*O23 -> 0.085910616 | Q23: 2.1973843
A24: =(K24/10000*2500)/(E24/100)*10/1000+B24 -> 2.1821429 | B24: =B23 -> 0.51428571 | C24: =C4 -> 4.5 | D24: =D4-2 -> 13 | E24: =E23 -> 70 | F24: =F23 -> 12 | G24: 5 | H24: 10 | I24: =D24-C24-G24 -> 3.5 | J24: =(E24-2*H24-F24)/2 -> 19 | K24: =E24*C24+(D24-C24)*F24+G24*H24 -> 467 | L24: =L23+1 -> 22 | M24: =A24 -> 2.1821429 | N24: =N23 -> 2.3716766 | O24: =M24-N24 -> -0.1895337 | P24: =O24*O24 -> 0.035923023 | Q24: 2.1981092
A25: =(K25/10000*2500)/(E25/100)*10/1000+B25 -> 2.2857143 | B25: =B24 -> 0.51428571 | C25: =C5 -> 5 | D25: =D5-2 -> 13 | E25: =E24 -> 70 | F25: =F24 -> 12 | G25: 5 | H25: 10 | I25: =D25-C25-G25 -> 3 | J25: =(E25-2*H25-F25)/2 -> 19 | K25: =E25*C25+(D25-C25)*F25+G25*H25 -> 496 | L25: =L24+1 -> 23 | M25: =A25 -> 2.2857143 | N25: =N24 -> 2.3716766 | O25: =M25-N25 -> -0.085962271 | P25: =O25*O25 -> 0.0073895121 | Q25: 2.2071429
A26: =(K26/10000*2500)/(E26/100)*10/1000+B26 -> 2.3892857 | B26: =B25 -> 0.51428571 | C26: =C6 -> 5.5 | D26: =D6-2 -> 13 | E26: =E25 -> 70 | F26: =F25 -> 12 | G26: 5 | H26: 10 | I26: =D26-C26-G26 -> 2.5 | J26: =(E26-2*H26-F26)/2 -> 19 | K26: =E26*C26+(D26-C26)*F26+G26*H26 -> 525 | L26: =L25+1 -> 24 | M26: =A26 -> 2.3892857 | N26: =N25 -> 2.3716766 | O26: =M26-N26 -> 0.017609157 | P26: =O26*O26 -> 0.00031008242 | Q26: 2.2087302
A27: =(K27/10000*2500)/(E27/100)*10/1000+B27 -> 2.4928571 | B27: =B26 -> 0.51428571 | C27: =C7 -> 6 | D27: =D7-2 -> 13 | E27: =E26 -> 70 | F27: =F26 -> 12 | G27: 5 | H27: 10 | I27: =D27-C27-G27 -> 2 | J27: =(E27-2*H27-F27)/2 -> 19 | K27: =E27*C27+(D27-C27)*F27+G27*H27 -> 554 | L27: =L26+1 -> 25 | M27: =A27 -> 2.4928571 | N27: =N26 -> 2.3716766 | O27: =M27-N27 -> 0.12118059 | P27: =O27*O27 -> 0.014684734 | Q27: 2.2167505
L28: =L27+1 -> 26 | M28: =A31 -> 2.1551308 | N28: =N27 -> 2.3716766 | O28: =M28-N28 -> -0.21654577 | P28: =O28*O28 -> 0.046892071 | Q28: 2.2171843
A29: P. Forjado | B29: Aligeramiento | C29: h0 | D29: h | E29: b | F29: b0 | G29: h1 | H29: b1 | I29: h2 | J29: b2 | K29: Area | L29: =L28+1 -> 27 | M29: =A32 -> 2.259004 | N29: =N28 -> 2.3716766 | O29: =M29-N29 -> -0.11267253 | P29: =O29*O29 -> 0.0126951 | Q29: 2.225
A30: kN/m2 | B30: kN/m2 | C30: cm | D30: cm | E30: cm | F30: cm | G30: cm | H30: cm | I30: cm | J30: cm | K30: cm2 | L30: =L29+1 -> 28 | M30: =A33 -> 2.3628773 | N30: =N29 -> 2.3716766 | O30: =M30-N30 -> -0.0087992933 | P30: =O30*O30 -> 7.7427563e-05 | Q30: 2.227521
A31: =(K31/10000*2500)/(E31/100)*10/1000+B31 -> 2.1551308 | B31: =I145 -> 0.51428571 | C31: =C3 -> 4 | D31: =D3 -> 15 | E31: =E3+1 -> 71 | F31: =F3 -> 12 | G31: 5 | H31: 10 | I31: =D31-C31-G31 -> 6 | J31: =(E31-2*H31-F31)/2 -> 19.5 | K31: =E31*C31+(D31-C31)*F31+G31*H31 -> 466 | L31: =L30+1 -> 29 | M31: =A34 -> 2.4667505 | N31: =N30 -> 2.3716766 | O31: =M31-N31 -> 0.095073946 | P31: =O31*O31 -> 0.0090390552 | Q31: 2.2295635
A32: =(K32/10000*2500)/(E32/100)*10/1000+B32 -> 2.259004 | B32: =B31 -> 0.51428571 | C32: =C4 -> 4.5 | D32: =D4 -> 15 | E32: =E31 -> 71 | F32: =F4 -> 12 | G32: 5 | H32: 10 | I32: =D32-C32-G32 -> 5.5 | J32: =(E32-2*H32-F32)/2 -> 19.5 | K32: =E32*C32+(D32-C32)*F32+G32*H32 -> 495.5 | L32: =L31+1 -> 30 | M32: =A35 -> 2.5706237 | N32: =N31 -> 2.3716766 | O32: =M32-N32 -> 0.19894719 | P32: =O32*O32 -> 0.039579983 | Q32: 2.2334886
A33: =(K33/10000*2500)/(E33/100)*10/1000+B33 -> 2.3628773 | B33: =B32 -> 0.51428571 | C33: =C5 -> 5 | D33: =D5 -> 15 | E33: =E32 -> 71 | F33: =F5 -> 12 | G33: 5 | H33: 10 | I33: =D33-C33-G33 -> 5 | J33: =(E33-2*H33-F33)/2 -> 19.5 | K33: =E33*C33+(D33-C33)*F33+G33*H33 -> 525 | L33: =L32+1 -> 31 | M33: =A36 -> 2.1973843 | N33: =N32 -> 2.3716766 | O33: =M33-N33 -> -0.17429225 | P33: =O33*O33 -> 0.030377789 | Q33: 2.2396378
A34: =(K34/10000*2500)/(E34/100)*10/1000+B34 -> 2.4667505 | B34: =B33 -> 0.51428571 | C34: =C6 -> 5.5 | D34: =D6 -> 15 | E34: =E33 -> 71 | F34: =F6 -> 12 | G34: 5 | H34: 10 | I34: =D34-C34-G34 -> 4.5 | J34: =(E34-2*H34-F34)/2 -> 19.5 | K34: =E34*C34+(D34-C34)*F34+G34*H34 -> 554.5 | L34: =L33+1 -> 32 | M34: =A37 -> 2.3012575 | N34: =N33 -> 2.3716766 | O34: =M34-N34 -> -0.070419012 | P34: =O34*O34 -> 0.0049588372 | Q34: 2.2422269
A35: =(K35/10000*2500)/(E35/100)*10/1000+B35 -> 2.5706237 | B35: =B34 -> 0.51428571 | C35: =C7 -> 6 | D35: =D7 -> 15 | E35: =E34 -> 71 | F35: =F7 -> 12 | G35: 5 | H35: 10 | I35: =D35-C35-G35 -> 4 | J35: =(E35-2*H35-F35)/2 -> 19.5 | K35: =E35*C35+(D35-C35)*F35+G35*H35 -> 584 | L35: =L34+1 -> 33 | M35: =A38 -> 2.4051308 | N35: =N34 -> 2.3716766 | O35: =M35-N35 -> 0.033454228 | P35: =O35*O35 -> 0.0011191854 | Q35: 2.25
A36: =(K36/10000*2500)/(E36/100)*10/1000+B36 -> 2.1973843 | B36: =B35 -> 0.51428571 | C36: =C8 -> 4 | D36: =D8 -> 16 | E36: =E35 -> 71 | F36: =F8 -> 12 | G36: 5 | H36: 10 | I36: =D36-C36-G36 -> 7 | J36: =(E36-2*H36-F36)/2 -> 19.5 | K36: =E36*C36+(D36-C36)*F36+G36*H36 -> 478 | L36: =L35+1 -> 34 | M36: =A39 -> 2.509004 | N36: =N35 -> 2.3716766 | O36: =M36-N36 -> 0.13732747 | P36: =O36*O36 -> 0.018858833 | Q36: 2.2503968
A37: =(K37/10000*2500)/(E37/100)*10/1000+B37 -> 2.3012575 | B37: =B36 -> 0.51428571 | C37: =C9 -> 4.5 | D37: =D9 -> 16 | E37: =E36 -> 71 | F37: =F9 -> 12 | G37: 5 | H37: 10 | I37: =D37-C37-G37 -> 6.5 | J37: =(E37-2*H37-F37)/2 -> 19.5 | K37: =E37*C37+(D37-C37)*F37+G37*H37 -> 507.5 | L37: =L36+1 -> 35 | M37: =A40 -> 2.6128773 | N37: =N36 -> 2.3716766 | O37: =M37-N37 -> 0.24120071 | P37: =O37*O37 -> 0.058177781 | Q37: 2.259004
A38: =(K38/10000*2500)/(E38/100)*10/1000+B38 -> 2.4051308 | B38: =B37 -> 0.51428571 | C38: =C10 -> 5 | D38: =D10 -> 16 | E38: =E37 -> 71 | F38: =F10 -> 12 | G38: 5 | H38: 10 | I38: =D38-C38-G38 -> 6 | J38: =(E38-2*H38-F38)/2 -> 19.5 | K38: =E38*C38+(D38-C38)*F38+G38*H38 -> 537 | L38: =L37+1 -> 36 | M38: =A41 -> 2.2396378 | N38: =N37 -> 2.3716766 | O38: =M38-N38 -> -0.13203873 | P38: =O38*O38 -> 0.017434226 | Q38: 2.2606625
A39: =(K39/10000*2500)/(E39/100)*10/1000+B39 -> 2.509004 | B39: =B38 -> 0.51428571 | C39: =C11 -> 5.5 | D39: =D11 -> 16 | E39: =E38 -> 71 | F39: =F11 -> 12 | G39: 5 | H39: 10 | I39: =D39-C39-G39 -> 5.5 | J39: =(E39-2*H39-F39)/2 -> 19.5 | K39: =E39*C39+(D39-C39)*F39+G39*H39 -> 566.5 | L39: =L38+1 -> 37 | M39: =A42 -> 2.3435111 | N39: =N38 -> 2.3716766 | O39: =M39-N39 -> -0.028165491 | P39: =O39*O39 -> 0.00079329486 | Q39: 2.2678571
A40: =(K40/10000*2500)/(E40/100)*10/1000+B40 -> 2.6128773 | B40: =B39 -> 0.51428571 | C40: =C12 -> 6 | D40: =D12 -> 16 | E40: =E39 -> 71 | F40: =F12 -> 12 | G40: 5 | H40: 10 | I40: =D40-C40-G40 -> 5 | J40: =(E40-2*H40-F40)/2 -> 19.5 | K40: =E40*C40+(D40-C40)*F40+G40*H40 -> 596 | L40: =L39+1 -> 38 | M40: =A43 -> 2.4473843 | N40: =N39 -> 2.3716766 | O40: =M40-N40 -> 0.075707749 | P40: =O40*O40 -> 0.0057316632 | Q40: 2.2712302
A41: =(K41/10000*2500)/(E41/100)*10/1000+B41 -> 2.2396378 | B41: =B40 -> 0.51428571 | C41: =C13 -> 4 | D41: =D13 -> 17 | E41: =E40 -> 71 | F41: =F13 -> 12 | G41: 5 | H41: 10 | I41: =D41-C41-G41 -> 8 | J41: =(E41-2*H41-F41)/2 -> 19.5 | K41: =E41*C41+(D41-C41)*F41+G41*H41 -> 490 | L41: =L40+1 -> 39 | M41: =A44 -> 2.5512575 | N41: =N40 -> 2.3716766 | O41: =M41-N41 -> 0.17958099 | P41: =O41*O41 -> 0.032249331 | Q41: 2.2716387
A42: =(K42/10000*2500)/(E42/100)*10/1000+B42 -> 2.3435111 | B42: =B41 -> 0.51428571 | C42: =C14 -> 4.5 | D42: =D14 -> 17 | E42: =E41 -> 71 | F42: =F14 -> 12 | G42: 5 | H42: 10 | I42: =D42-C42-G42 -> 7.5 | J42: =(E42-2*H42-F42)/2 -> 19.5 | K42: =E42*C42+(D42-C42)*F42+G42*H42 -> 519.5 | L42: =L41+1 -> 40 | M42: =A45 -> 2.6551308 | N42: =N41 -> 2.3716766 | O42: =M42-N42 -> 0.28345423 | P42: =O42*O42 -> 0.080346299 | Q42: 2.2769669
A43: =(K43/10000*2500)/(E43/100)*10/1000+B43 -> 2.4473843 | B43: =B42 -> 0.51428571 | C43: =C15 -> 5 | D43: =D15 -> 17 | E43: =E42 -> 71 | F43: =F15 -> 12 | G43: 5 | H43: 10 | I43: =D43-C43-G43 -> 7 | J43: =(E43-2*H43-F43)/2 -> 19.5 | K43: =E43*C43+(D43-C43)*F43+G43*H43 -> 549 | L43: =L42+1 -> 41 | M43: =A46 -> 2.1128773 | N43: =N42 -> 2.3716766 | O43: =M43-N43 -> -0.25879929 | P43: =O43*O43 -> 0.066977074 | Q43: 2.2783702
... A52: =(K52/10000*2500)/(E52/100)*10/1000+B52 -> 2.174497 | B52: =B51 -> 0.51428571 | C52: =C24 -> 4.5 | D52: =D24 -> 13 | E52: =E51 -> 71 | F52: =F24 -> 12 | G52: 5 | H52: 10 | I52: =D52-C52-G52 -> 3.5 | J52: =(E52-2*H52-F52)/2 -> 19.5 | K52: =E52*C52+(D52-C52)*F52+G52*H52 -> 471.5 | L52: =L51+1 -> 50 | M52: =A55 -> 2.4861167 | N52: =N51 -> 2.3716766 | O52: =M52-N52 -> 0.11444014 | P52: =O52*O52 -> 0.013096546 | Q52: 2.3204451
A53: =(K53/10000*2500)/(E53/100)*10/1000+B53 -> 2.2783702 | B53: =B52 -> 0.51428571 | C53: =C25 -> 5 | D53: =D25 -> 13 | E53: =E52 -> 71 | F53: =F25 -> 12 | G53: 5 | H53: 10 | I53: =D53-C53-G53 -> 3 | J53: =(E53-2*H53-F53)/2 -> 19.5 | K53: =E53*C53+(D53-C53)*F53+G53*H53 -> 501 | L53: =L52+1 -> 51 | M53: =A59 -> 2.1462302 | N53: =N52 -> 2.3716766 | O53: =M53-N53 -> -0.2254464 | P53: =O53*O53 -> 0.050826078 | Q53: 2.3206237
A54: =(K54/10000*2500)/(E54/100)*10/1000+B54 -> 2.3822435 | B54: =B53 -> 0.51428571 | C54: =C26 -> 5.5 | D54: =D26 -> 13 | E54: =E53 -> 71 | F54: =F26 -> 12 | G54: 5 | H54: 10 | I54: =D54-C54-G54 -> 2.5 | J54: =(E54-2*H54-F54)/2 -> 19.5 | K54: =E54*C54+(D54-C54)*F54+G54*H54 -> 530.5 | L54: =L53+1 -> 52 | M54: =A60 -> 2.2503968 | N54: =N53 -> 2.3716766 | O54: =M54-N54 -> -0.12127973 | P54: =O54*O54 -> 0.014708773 | Q54: 2.3285714
A55: =(K55/10000*2500)/(E55/100)*10/1000+B55 -> 2.4861167 | B55: =B54 -> 0.51428571 | C55: =C27 -> 6 | D55: =D27 -> 13 | E55: =E54 -> 71 | F55: =F27 -> 12 | G55: 5 | H55: 10 | I55: =D55-C55-G55 -> 2 | J55: =(E55-2*H55-F55)/2 -> 19.5 | K55: =E55*C55+(D55-C55)*F55+G55*H55 -> 560 | L55: =L54+1 -> 53 | M55: =A61 -> 2.3545635 | N55: =N54 -> 2.3716766 | O55: =M55-N55 -> -0.017113065 | P55: =O55*O55 -> 0.00029285699 | Q55: 2.3304622
L56: =L55+1 -> 54 | M56: =A62 -> 2.4587302 | N56: =N55 -> 2.3716766 | O56: =M56-N56 -> 0.087053602 | P56: =O56*O56 -> 0.0075783296 | Q56: 2.3337302
A57: P. Forjado | B57: Aligeramiento | C57: h0 | D57: h | E57: b | F57: b0 | G57: h1 | H57: b1 | I57: h2 | J57: b2 | K57: Area | L57: =L56+1 -> 55 | M57: =A63 -> 2.5628968 | N57: =N56 -> 2.3716766 | O57: =M57-N57 -> 0.19122027 | P57: =O57*O57 -> 0.036565191 | Q57: 2.3367495
A58: kN/m2 | B58: kN/m2 | C58: cm | D58: cm | E58: cm | F58: cm | G58: cm | H58: cm | I58: cm | J58: cm | K58: cm2 | L58: =L57+1 -> 56 | M58: =A64 -> 2.1878968 | N58: =N57 -> 2.3716766 | O58: =M58-N58 -> -0.18377973 | P58: =O58*O58 -> 0.03377499 | Q58: 2.3435111
A59: =(K59/10000*2500)/(E59/100)*10/1000+B59 -> 2.1462302 | B59: =I145 -> 0.51428571 | C59: =C31 -> 4 | D59: =D3 -> 15 | E59: =E3+2 -> 72 | F59: =F3 -> 12 | G59: 5 | H59: 10 | I59: =D59-C59-G59 -> 6 | J59: =(E59-2*H59-F59)/2 -> 20 | K59: =E59*C59+(D59-C59)*F59+G59*H59 -> 470 | L59: =L58+1 -> 57 | M59: =A65 -> 2.2920635 | N59: =N58 -> 2.3716766 | O59: =M59-N59 -> -0.079613065 | P59: =O59*O59 -> 0.0063382401 | Q59: 2.3451681
A60: =(K60/10000*2500)/(E60/100)*10/1000+B60 -> 2.2503968 | B60: =B59 -> 0.51428571 | C60: =C32 -> 4.5 | D60: =D4 -> 15 | E60: =E59 -> 72 | F60: =F4 -> 12 | G60: 5 | H60: 10 | I60: =D60-C60-G60 -> 5.5 | J60: =(E60-2*H60-F60)/2 -> 20 | K60: =E60*C60+(D60-C60)*F60+G60*H60 -> 500 | L60: =L59+1 -> 58 | M60: =A66 -> 2.3962302 | N60: =N59 -> 2.3716766 | O60: =M60-N60 -> 0.024553602 | P60: =O60*O60 -> 0.00060287936 | Q60: 2.3535714
A61: =(K61/10000*2500)/(E61/100)*10/1000+B61 -> 2.3545635 | B61: =B60 -> 0.51428571 | C61: =C33 -> 5 | D61: =D5 -> 15 | E61: =E60 -> 72 | F61: =F5 -> 12 | G61: 5 | H61: 10 | I61: =D61-C61-G61 -> 5 | J61: =(E61-2*H61-F61)/2 -> 20 | K61: =E61*C61+(D61-C61)*F61+G61*H61 -> 530 | L61: =L60+1 -> 59 | M61: =A67 -> 2.5003968 | N61: =N60 -> 2.3716766 | O61: =M61-N61 -> 0.12872027 | P61: =O61*O61 -> 0.016568908 | Q61: 2.3545635
A62: =(K62/10000*2500)/(E62/100)*10/1000+B62 -> 2.4587302 | B62: =B61 -> 0.51428571 | C62: =C34 -> 5.5 | D62: =D6 -> 15 | E62: =E61 -> 72 | F62: =F6 -> 12 | G62: 5 | H62: 10 | I62: =D62-C62-G62 -> 4.5 | J62: =(E62-2*H62-F62)/2 -> 20 | K62: =E62*C62+(D62-C62)*F62+G62*H62 -> 560 | L62: =L61+1 -> 60 | M62: =A68 -> 2.6045635 | N62: =N61 -> 2.3716766 | O62: =M62-N62 -> 0.23288694 | P62: =O62*O62 -> 0.054236325 | Q62: 2.3628773
A63: =(K63/10000*2500)/(E63/100)*10/1000+B63 -> 2.5628968 | B63: =B62 -> 0.51428571 | C63: =C35 -> 6 | D63: =D7 -> 15 | E63: =E62 -> 72 | F63: =F7 -> 12 | G63: 5 | H63: 10 | I63: =D63-C63-G63 -> 4 | J63: =(E63-2*H63-F63)/2 -> 20 | K63: =E63*C63+(D63-C63)*F63+G63*H63 -> 590 | L63: =L62+1 -> 61 | M63: =A69 -> 2.2295635 | N63: =N62 -> 2.3716766 | O63: =M63-N63 -> -0.14211306 | P63: =O63*O63 -> 0.020196123 | Q63: 2.3639234
A64: =(K64/10000*2500)/(E64/100)*10/1000+B64 -> 2.1878968 | B64: =B63 -> 0.51428571 | C64: =C36 -> 4 | D64: =D8 -> 16 | E64: =E63 -> 72 | F64: =F8 -> 12 | G64: 5 | H64: 10 | I64: =D64-C64-G64 -> 7 | J64: =(E64-2*H64-F64)/2 -> 20 | K64: =E64*C64+(D64-C64)*F64+G64*H64 -> 482 | L64: =L63+1 -> 62 | M64: =A70 -> 2.3337302 | N64: =N63 -> 2.3716766 | O64: =M64-N64 -> -0.037946398 | P64: =O64*O64 -> 0.0014399291 | Q64: 2.3714286
A65: =(K65/10000*2500)/(E65/100)*10/1000+B65 -> 2.2920635 | B65: =B64 -> 0.51428571 | C65: =C37 -> 4.5 | D65: =D9 -> 16 | E65: =E64 -> 72 | F65: =F9 -> 12 | G65: 5 | H65: 10 | I65: =D65-C65-G65 -> 6.5 | J65: =(E65-2*H65-F65)/2 -> 20 | K65: =E65*C65+(D65-C65)*F65+G65*H65 -> 512 | L65: =L64+1 -> 63 | M65: =A71 -> 2.4378968 | N65: =N64 -> 2.3716766 | O65: =M65-N65 -> 0.066220268 | P65: =O65*O65 -> 0.004385124 | Q65: 2.3745798
A66: =(K66/10000*2500)/(E66/100)*10/1000+B66 -> 2.3962302 | B66: =B65 -> 0.51428571 | C66: =C38 -> 5 | D66: =D10 -> 16 | E66: =E65 -> 72 | F66: =F10 -> 12 | G66: 5 | H66: 10 | I66: =D66-C66-G66 -> 6 | J66: =(E66-2*H66-F66)/2 -> 20 | K66: =E66*C66+(D66-C66)*F66+G66*H66 -> 542 | L66: =L65+1 -> 64 | M66: =A72 -> 2.5420635 | N66: =N65 -> 2.3716766 | O66: =M66-N66 -> 0.17038694 | P66: =O66*O66 -> 0.029031708 | Q66: 2.3753968
A67: =(K67/10000*2500)/(E67/100)*10/1000+B67 -> 2.5003968 | B67: =B66 -> 0.51428571 | C67: =C39 -> 5.5 | D67: =D11 -> 16 | E67: =E66 -> 72 | F67: =F11 -> 12 | G67: 5 | H67: 10 | I67: =D67-C67-G67 -> 5.5 | J67: =(E67-2*H67-F67)/2 -> 20 | K67: =E67*C67+(D67-C67)*F67+G67*H67 -> 572 | L67: =L66+1 -> 65 | M67: =A73 -> 2.6462302 | N67: =N66 -> 2.3716766 | O67: =M67-N67 -> 0.2745536 | P67: =O67*O67 -> 0.07537968 | Q67: 2.3802277
A68: =(K68/10000*2500)/(E68/100)*10/1000+B68 -> 2.6045635 | B68: =B67 -> 0.51428571 | C68: =C40 -> 6 | D68: =D12 -> 16 | E68: =E67 -> 72 | F68: =F12 -> 12 | G68: 5 | H68: 10 | I68: =D68-C68-G68 -> 5 | J68: =(E68-2*H68-F68)/2 -> 20 | K68: =E68*C68+(D68-C68)*F68+G68*H68 -> 602 | L68: =L67+1 -> 66 | M68: =A74 -> 2.1045635 | N68: =N67 -> 2.3716766 | O68: =M68-N68 -> -0.26711306 | P68: =O68*O68 -> 0.071349389 | Q68: 2.3822435
A69: =(K69/10000*2500)/(E69/100)*10/1000+B69 -> 2.2295635 | B69: =B68 -> 0.51428571 | C69: =C41 -> 4 | D69: =D13 -> 17 | E69: =E68 -> 72 | F69: =F13 -> 12 | G69: 5 | H69: 10 | I69: =D69-C69-G69 -> 8 | J69: =(E69-2*H69-F69)/2 -> 20 | K69: =E69*C69+(D69-C69)*F69+G69*H69 -> 494 | L69: =L68+1 -> 67 | M69: =A75 -> 2.2087302 | N69: =N68 -> 2.3716766 | O69: =M69-N69 -> -0.1629464 | P69: =O69*O69 -> 0.026551529 | Q69: 2.3892857
A70: =(K70/10000*2500)/(E70/100)*10/1000+B70 -> 2.3337302 | B70: =B69 -> 0.51428571 | C70: =C42 -> 4.5 | D70: =D14 -> 17 | E70: =E69 -> 72 | F70: =F14 -> 12 | G70: 5 | H70: 10 | I70: =D70-C70-G70 -> 7.5 | J70: =(E70-2*H70-F70)/2 -> 20 | K70: =E70*C70+(D70-C70)*F70+G70*H70 -> 524 | L70: =L69+1 -> 68 | M70: =A76 -> 2.3128968 | N70: =N69 -> 2.3716766 | O70: =M70-N70 -> -0.058779732 | P70: =O70*O70 -> 0.0034550568 | Q70: 2.3892857
A71: =(K71/10000*2500)/(E71/100)*10/1000+B71 -> 2.4378968 | B71: =B70 -> 0.51428571 | C71: =C43 -> 5 | D71: =D15 -> 17 | E71: =E70 -> 72 | F71: =F15 -> 12 | G71: 5 | H71: 10 | I71: =D71-C71-G71 -> 7 | J71: =(E71-2*H71-F71)/2 -> 20 | K71: =E71*C71+(D71-C71)*F71+G71*H71 -> 554 | L71: =L70+1 -> 69 | M71: =A77 -> 2.4170635 | N71: =N70 -> 2.3716766 | O71: =M71-N71 -> 0.045386935 | P71: =O71*O71 -> 0.0020599739 | Q71: 2.3962302
... A77: =(K77/10000*2500)/(E77/100)*10/1000+B77 -> 2.4170635 | B77: =B76 -> 0.51428571 | C77: =C49 -> 5.5 | D77: =D21 -> 14 | E77: =E76 -> 72 | F77: =F21 -> 12 | G77: 5 | H77: 10 | I77: =D77-C77-G77 -> 3.5 | J77: =(E77-2*H77-F77)/2 -> 20 | K77: =E77*C77+(D77-C77)*F77+G77*H77 -> 548 | L77: =L76+1 -> 75 | M77: =A83 -> 2.4795635 | N77: =N76 -> 2.3716766 | O77: =M77-N77 -> 0.10788694 | P77: =O77*O77 -> 0.011639591 | Q77: 2.423706
A78: =(K78/10000*2500)/(E78/100)*10/1000+B78 -> 2.5212302 | B78: =B77 -> 0.51428571 | C78: =C50 -> 6 | D78: =D22 -> 14 | E78: =E77 -> 72 | F78: =F22 -> 12 | G78: 5 | H78: 10 | I78: =D78-C78-G78 -> 3 | J78: =(E78-2*H78-F78)/2 -> 20 | K78: =E78*C78+(D78-C78)*F78+G78*H78 -> 578 | L78: =L77+1 -> 76 | M78: =A87 -> 2.173706 | N78: =N77 -> 2.3716766 | O78: =M78-N78 -> -0.19797055 | P78: =O78*O78 -> 0.03919234 | Q78: 2.424497
A79: =(K79/10000*2500)/(E79/100)*10/1000+B79 -> 2.0628968 | B79: =B78 -> 0.51428571 | C79: =C51 -> 4 | D79: =D23 -> 13 | E79: =E78 -> 72 | F79: =F23 -> 12 | G79: 5 | H79: 10 | I79: =D79-C79-G79 -> 4 | J79: =(E79-2*H79-F79)/2 -> 20 | K79: =E79*C79+(D79-C79)*F79+G79*H79 -> 446 | L79: =L78+1 -> 77 | M79: =A88 -> 2.2769669 | N79: =N78 -> 2.3716766 | O79: =M79-N79 -> -0.094709683 | P79: =O79*O79 -> 0.0089699241 | Q79: 2.4321429
A80: =(K80/10000*2500)/(E80/100)*10/1000+B80 -> 2.1670635 | B80: =B79 -> 0.51428571 | C80: =C52 -> 4.5 | D80: =D24 -> 13 | E80: =E79 -> 72 | F80: =F24 -> 12 | G80: 5 | H80: 10 | I80: =D80-C80-G80 -> 3.5 | J80: =(E80-2*H80-F80)/2 -> 20 | K80: =E80*C80+(D80-C80)*F80+G80*H80 -> 476 | L80: =L79+1 -> 78 | M80: =A89 -> 2.3802277 | N80: =N79 -> 2.3716766 | O80: =M80-N80 -> 0.0085511863 | P80: =O80*O80 -> 7.3122788e-05 | Q80: 2.4334034
A81: =(K81/10000*2500)/(E81/100)*10/1000+B81 -> 2.2712302 | B81: =B80 -> 0.51428571 | C81: =C53 -> 5 | D81: =D25 -> 13 | E81: =E80 -> 72 | F81: =F25 -> 12 | G81: 5 | H81: 10 | I81: =D81-C81-G81 -> 3 | J81: =(E81-2*H81-F81)/2 -> 20 | K81: =E81*C81+(D81-C81)*F81+G81*H81 -> 506 | L81: =L80+1 -> 79 | M81: =A90 -> 2.4834886 | N81: =N80 -> 2.3716766 | O81: =M81-N81 -> 0.11181206 | P81: =O81*O81 -> 0.012501936 | Q81: 2.4378968
A82: =(K82/10000*2500)/(E82/100)*10/1000+B82 -> 2.3753968 | B82: =B81 -> 0.51428571 | C82: =C54 -> 5.5 | D82: =D26 -> 13 | E82: =E81 -> 72 | F82: =F26 -> 12 | G82: 5 | H82: 10 | I82: =D82-C82-G82 -> 2.5 | J82: =(E82-2*H82-F82)/2 -> 20 | K82: =E82*C82+(D82-C82)*F82+G82*H82 -> 536 | L82: =L81+1 -> 80 | M82: =A91 -> 2.5867495 | N82: =N81 -> 2.3716766 | O82: =M82-N82 -> 0.21507293 | P82: =O82*O82 -> 0.046256363 | Q82: 2.4400104
A83: =(K83/10000*2500)/(E83/100)*10/1000+B83 -> 2.4795635 | B83: =B82 -> 0.51428571 | C83: =C55 -> 6 | D83: =D27 -> 13 | E83: =E82 -> 72 | F83: =F27 -> 12 | G83: 5 | H83: 10 | I83: =D83-C83-G83 -> 2 | J83: =(E83-2*H83-F83)/2 -> 20 | K83: =E83*C83+(D83-C83)*F83+G83*H83 -> 566 | L83: =L82+1 -> 81 | M83: =A92 -> 2.2171843 | N83: =N82 -> 2.3716766 | O83: =M83-N83 -> -0.15449229 | P83: =O83*O83 -> 0.023867868 | Q83: 2.4473843
L84: =L83+1 -> 82 | M84: =A93 -> 2.3204451 | N84: =N83 -> 2.3716766 | O84: =M84-N84 -> -0.051231422 | P84: =O84*O84 -> 0.0026246586 | Q84: 2.4481092
A85: P. Forjado | B85: Aligeramiento | C85: h0 | D85: h | E85: b | F85: b0 | G85: h1 | H85: b1 | I85: h2 | J85: b2 | K85: Area | L85: =L84+1 -> 83 | M85: =A94 -> 2.423706 | N85: =N84 -> 2.3716766 | O85: =M85-N85 -> 0.052029447 | P85: =O85*O85 -> 0.0027070634 | Q85: 2.4571429
A86: kN/m2 | B86: kN/m2 | C86: cm | D86: cm | E86: cm | F86: cm | G86: cm | H86: cm | I86: cm | J86: cm | K86: cm2 | L86: =L85+1 -> 84 | M86: =A95 -> 2.5269669 | N86: =N85 -> 2.3716766 | O86: =M86-N86 -> 0.15529032 | P86: =O86*O86 -> 0.024115082 | Q86: 2.4587302
A87: =(K87/10000*2500)/(E87/100)*10/1000+B87 -> 2.173706 | B87: =I145 -> 0.51428571 | C87: =C59 -> 4 | D87: =D3 -> 15 | E87: =E3-1 -> 69 | F87: =F3 -> 12 | G87: 5 | H87: 10 | I87: =D87-C87-G87 -> 6 | J87: =(E87-2*H87-F87)/2 -> 18.5 | K87: =E87*C87+(D87-C87)*F87+G87*H87 -> 458 | L87: =L86+1 -> 85 | M87: =A96 -> 2.6302277 | N87: =N86 -> 2.3716766 | O87: =M87-N87 -> 0.25855119 | P87: =O87*O87 -> 0.066848716 | Q87: 2.4667505
A88: =(K88/10000*2500)/(E88/100)*10/1000+B88 -> 2.2769669 | B88: =B87 -> 0.51428571 | C88: =C60 -> 4.5 | D88: =D4 -> 15 | E88: =E87 -> 69 | F88: =F4 -> 12 | G88: 5 | H88: 10 | I88: =D88-C88-G88 -> 5.5 | J88: =(E88-2*H88-F88)/2 -> 18.5 | K88: =E88*C88+(D88-C88)*F88+G88*H88 -> 486.5 | L88: =L87+1 -> 86 | M88: =A97 -> 2.2606625 | N88: =N87 -> 2.3716766 | O88: =M88-N88 -> -0.11101403 | P88: =O88*O88 -> 0.012324115 | Q88: 2.4671843
A89: =(K89/10000*2500)/(E89/100)*10/1000+B89 -> 2.3802277 | B89: =B88 -> 0.51428571 | C89: =C61 -> 5 | D89: =D5 -> 15 | E89: =E88 -> 69 | F89: =F5 -> 12 | G89: 5 | H89: 10 | I89: =D89-C89-G89 -> 5 | J89: =(E89-2*H89-F89)/2 -> 18.5 | K89: =E89*C89+(D89-C89)*F89+G89*H89 -> 515 | L89: =L88+1 -> 87 | M89: =A98 -> 2.3639234 | N89: =N88 -> 2.3716766 | O89: =M89-N89 -> -0.0077531615 | P89: =O89*O89 -> 6.0111513e-05 | Q89: 2.475
A90: =(K90/10000*2500)/(E90/100)*10/1000+B90 -> 2.4834886 | B90: =B89 -> 0.51428571 | C90: =C62 -> 5.5 | D90: =D6 -> 15 | E90: =E89 -> 69 | F90: =F6 -> 12 | G90: 5 | H90: 10 | I90: =D90-C90-G90 -> 4.5 | J90: =(E90-2*H90-F90)/2 -> 18.5 | K90: =E90*C90+(D90-C90)*F90+G90*H90 -> 543.5 | L90: =L89+1 -> 88 | M90: =A99 -> 2.4671843 | N90: =N89 -> 2.3716766 | O90: =M90-N90 -> 0.095507708 | P90: =O90*O90 -> 0.0091217223 | Q90: 2.477521
A91: =(K91/10000*2500)/(E91/100)*10/1000+B91 -> 2.5867495 | B91: =B90 -> 0.51428571 | C91: =C63 -> 6 | D91: =D7 -> 15 | E91: =E90 -> 69 | F91: =F7 -> 12 | G91: 5 | H91: 10 | I91: =D91-C91-G91 -> 4 | J91: =(E91-2*H91-F91)/2 -> 18.5 | K91: =E91*C91+(D91-C91)*F91+G91*H91 -> 572 | L91: =L90+1 -> 89 | M91: =A100 -> 2.5704451 | N91: =N90 -> 2.3716766 | O91: =M91-N91 -> 0.19876858 | P91: =O91*O91 -> 0.039508947 | Q91: 2.4795635
A92: =(K92/10000*2500)/(E92/100)*10/1000+B92 -> 2.2171843 | B92: =B91 -> 0.51428571 | C92: =C64 -> 4 | D92: =D8 -> 16 | E92: =E91 -> 69 | F92: =F8 -> 12 | G92: 5 | H92: 10 | I92: =D92-C92-G92 -> 7 | J92: =(E92-2*H92-F92)/2 -> 18.5 | K92: =E92*C92+(D92-C92)*F92+G92*H92 -> 470 | L92: =L91+1 -> 90 | M92: =A101 -> 2.673706 | N92: =N91 -> 2.3716766 | O92: =M92-N92 -> 0.30202945 | P92: =O92*O92 -> 0.091221787 | Q92: 2.4834886
A93: =(K93/10000*2500)/(E93/100)*10/1000+B93 -> 2.3204451 | B93: =B92 -> 0.51428571 | C93: =C65 -> 4.5 | D93: =D9 -> 16 | E93: =E92 -> 69 | F93: =F9 -> 12 | G93: 5 | H93: 10 | I93: =D93-C93-G93 -> 6.5 | J93: =(E93-2*H93-F93)/2 -> 18.5 | K93: =E93*C93+(D93-C93)*F93+G93*H93 -> 498.5 | L93: =L92+1 -> 91 | M93: =A102 -> 2.1302277 | N93: =N92 -> 2.3716766 | O93: =M93-N93 -> -0.24144881 | P93: =O93*O93 -> 0.05829753 | Q93: 2.4861167
A94: =(K94/10000*2500)/(E94/100)*10/1000+B94 -> 2.423706 | B94: =B93 -> 0.51428571 | C94: =C66 -> 5 | D94: =D10 -> 16 | E94: =E93 -> 69 | F94: =F10 -> 12 | G94: 5 | H94: 10 | I94: =D94-C94-G94 -> 6 | J94: =(E94-2*H94-F94)/2 -> 18.5 | K94: =E94*C94+(D94-C94)*F94+G94*H94 -> 527 | L94: =L93+1 -> 92 | M94: =A103 -> 2.2334886 | N94: =N93 -> 2.3716766 | O94: =M94-N94 -> -0.13818794 | P94: =O94*O94 -> 0.019095908 | Q94: 2.4922269
A95: =(K95/10000*2500)/(E95/100)*10/1000+B95 -> 2.5269669 | B95: =B94 -> 0.51428571 | C95: =C67 -> 5.5 | D95: =D11 -> 16 | E95: =E94 -> 69 | F95: =F11 -> 12 | G95: 5 | H95: 10 | I95: =D95-C95-G95 -> 5.5 | J95: =(E95-2*H95-F95)/2 -> 18.5 | K95: =E95*C95+(D95-C95)*F95+G95*H95 -> 555.5 | L95: =L94+1 -> 93 | M95: =A104 -> 2.3367495 | N95: =N94 -> 2.3716766 | O95: =M95-N95 -> -0.034927075 | P95: =O95*O95 -> 0.0012199005 | Q95: 2.4928571
A96: =(K96/10000*2500)/(E96/100)*10/1000+B96 -> 2.6302277 | B96: =B95 -> 0.51428571 | C96: =C68 -> 6 | D96: =D12 -> 16 | E96: =E95 -> 69 | F96: =F12 -> 12 | G96: 5 | H96: 10 | I96: =D96-C96-G96 -> 5 | J96: =(E96-2*H96-F96)/2 -> 18.5 | K96: =E96*C96+(D96-C96)*F96+G96*H96 -> 584 | L96: =L95+1 -> 94 | M96: =A105 -> 2.4400104 | N96: =N95 -> 2.3716766 | O96: =M96-N96 -> 0.068333795 | P96: =O96*O96 -> 0.0046695075 | Q96: 2.499793
A97: =(K97/10000*2500)/(E97/100)*10/1000+B97 -> 2.2606625 | B97: =B96 -> 0.51428571 | C97: =C69 -> 4 | D97: =D13 -> 17 | E97: =E96 -> 69 | F97: =F13 -> 12 | G97: 5 | H97: 10 | I97: =D97-C97-G97 -> 8 | J97: =(E97-2*H97-F97)/2 -> 18.5 | K97: =E97*C97+(D97-C97)*F97+G97*H97 -> 482 | L97: =L96+1 -> 95 | M97: =A106 -> 2.5432712 | N97: =N96 -> 2.3716766 | O97: =M97-N97 -> 0.17159466 | P97: =O97*O97 -> 0.029444729 | Q97: 2.5003968
A98: =(K98/10000*2500)/(E98/100)*10/1000+B98 -> 2.3639234 | B98: =B97 -> 0.51428571 | C98: =C70 -> 4.5 | D98: =D14 -> 17 | E98: =E97 -> 69 | F98: =F14 -> 12 | G98: 5 | H98: 10 | I98: =D98-C98-G98 -> 7.5 | J98: =(E98-2*H98-F98)/2 -> 18.5 | K98: =E98*C98+(D98-C98)*F98+G98*H98 -> 510.5 | L98: =L97+1 -> 96 | M98: =A107 -> 2.0867495 | N98: =N97 -> 2.3716766 | O98: =M98-N98 -> -0.28492707 | P98: =O98*O98 -> 0.081183438 | Q98: 2.5069328
A99: =(K99/10000*2500)/(E99/100)*10/1000+B99 -> 2.4671843 | B99: =B98 -> 0.51428571 | C99: =C71 -> 5 | D99: =D15 -> 17 | E99: =E98 -> 69 | F99: =F15 -> 12 | G99: 5 | H99: 10 | I99: =D99-C99-G99 -> 7 | J99: =(E99-2*H99-F99)/2 -> 18.5 | K99: =E99*C99+(D99-C99)*F99+G99*H99 -> 539 | L99: =L98+1 -> 97 | M99: =A108 -> 2.1900104 | N99: =N98 -> 2.3716766 | O99: =M99-N99 -> -0.1816662 | P99: =O99*O99 -> 0.03300261 | Q99: 2.509004
... A102: =(K102/10000*2500)/(E102/100)*10/1000+B102 -> 2.1302277 | B102: =B101 -> 0.51428571 | C102: =C74 -> 4 | D102: =D18 -> 14 | E102: =E101 -> 69 | F102: =F18 -> 12 | G102: 5 | H102: 10 | I102: =D102-C102-G102 -> 5 | J102: =(E102-2*H102-F102)/2 -> 18.5 | K102: =E102*C102+(D102-C102)*F102+G102*H102 -> 446 | L102: =L101+1 -> 100 | M102: =A111 -> 2.499793 | N102: =N101 -> 2.3716766 | O102: =M102-N102 -> 0.1281164 | P102: =O102*O102 -> 0.016413813 | Q102: 2.5269669
A103: =(K103/10000*2500)/(E103/100)*10/1000+B103 -> 2.2334886 | B103: =B102 -> 0.51428571 | C103: =C75 -> 4.5 | D103: =D19 -> 14 | E103: =E102 -> 69 | F103: =F19 -> 12 | G103: 5 | H103: 10 | I103: =D103-C103-G103 -> 4.5 | J103: =(E103-2*H103-F103)/2 -> 18.5 | K103: =E103*C103+(D103-C103)*F103+G103*H103 -> 474.5 | L103: =L102+1 -> 101 | M103: =A115 -> 2.1834034 | N103: =N102 -> 2.3716766 | O103: =M103-N103 -> -0.1882732 | P103: =O103*O103 -> 0.035446796 | Q103: 2.5283702
A104: =(K104/10000*2500)/(E104/100)*10/1000+B104 -> 2.3367495 | B104: =B103 -> 0.51428571 | C104: =C76 -> 5 | D104: =D20 -> 14 | E104: =E103 -> 69 | F104: =F20 -> 12 | G104: 5 | H104: 10 | I104: =D104-C104-G104 -> 4 | J104: =(E104-2*H104-F104)/2 -> 18.5 | K104: =E104*C104+(D104-C104)*F104+G104*H104 -> 503 | L104: =L103+1 -> 102 | M104: =A116 -> 2.2863445 | N104: =N103 -> 2.3716766 | O104: =M104-N104 -> -0.085332019 | P104: =O104*O104 -> 0.0072815535 | Q104: 2.5357143
A105: =(K105/10000*2500)/(E105/100)*10/1000+B105 -> 2.4400104 | B105: =B104 -> 0.51428571 | C105: =C77 -> 5.5 | D105: =D21 -> 14 | E105: =E104 -> 69 | F105: =F21 -> 12 | G105: 5 | H105: 10 | I105: =D105-C105-G105 -> 3.5 | J105: =(E105-2*H105-F105)/2 -> 18.5 | K105: =E105*C105+(D105-C105)*F105+G105*H105 -> 531.5 | L105: =L104+1 -> 103 | M105: =A117 -> 2.3892857 | N105: =N104 -> 2.3716766 | O105: =M105-N105 -> 0.017609157 | P105: =O105*O105 -> 0.00031008242 | Q105: 2.5363445
A106: =(K106/10000*2500)/(E106/100)*10/1000+B106 -> 2.5432712 | B106: =B105 -> 0.51428571 | C106: =C78 -> 6 | D106: =D22 -> 14 | E106: =E105 -> 69 | F106: =F22 -> 12 | G106: 5 | H106: 10 | I106: =D106-C106-G106 -> 3 | J106: =(E106-2*H106-F106)/2 -> 18.5 | K106: =E106*C106+(D106-C106)*F106+G106*H106 -> 560 | L106: =L105+1 -> 104 | M106: =A118 -> 2.4922269 | N106: =N105 -> 2.3716766 | O106: =M106-N106 -> 0.12055033 | P106: =O106*O106 -> 0.014532383 | Q106: 2.5420635
A107: =(K107/10000*2500)/(E107/100)*10/1000+B107 -> 2.0867495 | B107: =B106 -> 0.51428571 | C107: =C79 -> 4 | D107: =D23 -> 13 | E107: =E106 -> 69 | F107: =F23 -> 12 | G107: 5 | H107: 10 | I107: =D107-C107-G107 -> 4 | J107: =(E107-2*H107-F107)/2 -> 18.5 | K107: =E107*C107+(D107-C107)*F107+G107*H107 -> 434 | L107: =L106+1 -> 105 | M107: =A119 -> 2.5951681 | N107: =N106 -> 2.3716766 | O107: =M107-N107 -> 0.22349151 | P107: =O107*O107 -> 0.049948455 | Q107: 2.5432712
A108: =(K108/10000*2500)/(E108/100)*10/1000+B108 -> 2.1900104 | B108: =B107 -> 0.51428571 | C108: =C80 -> 4.5 | D108: =D24 -> 13 | E108: =E107 -> 69 | F108: =F24 -> 12 | G108: 5 | H108: 10 | I108: =D108-C108-G108 -> 3.5 | J108: =(E108-2*H108-F108)/2 -> 18.5 | K108: =E108*C108+(D108-C108)*F108+G108*H108 -> 462.5 | L108: =L107+1 -> 106 | M108: =A120 -> 2.227521 | N108: =N107 -> 2.3716766 | O108: =M108-N108 -> -0.14415555 | P108: =O108*O108 -> 0.020780822 | Q108: 2.5510504
A109: =(K109/10000*2500)/(E109/100)*10/1000+B109 -> 2.2932712 | B109: =B108 -> 0.51428571 | C109: =C81 -> 5 | D109: =D25 -> 13 | E109: =E108 -> 69 | F109: =F25 -> 12 | G109: 5 | H109: 10 | I109: =D109-C109-G109 -> 3 | J109: =(E109-2*H109-F109)/2 -> 18.5 | K109: =E109*C109+(D109-C109)*F109+G109*H109 -> 491 | L109: =L108+1 -> 107 | M109: =A121 -> 2.3304622 | N109: =N108 -> 2.3716766 | O109: =M109-N109 -> -0.041214372 | P109: =O109*O109 -> 0.0016986245 | Q109: 2.5512575
A110: =(K110/10000*2500)/(E110/100)*10/1000+B110 -> 2.3965321 | B110: =B109 -> 0.51428571 | C110: =C82 -> 5.5 | D110: =D26 -> 13 | E110: =E109 -> 69 | F110: =F26 -> 12 | G110: 5 | H110: 10 | I110: =D110-C110-G110 -> 2.5 | J110: =(E110-2*H110-F110)/2 -> 18.5 | K110: =E110*C110+(D110-C110)*F110+G110*H110 -> 519.5 | L110: =L109+1 -> 108 | M110: =A122 -> 2.4334034 | N110: =N109 -> 2.3716766 | O110: =M110-N110 -> 0.061726804 | P110: =O110*O110 -> 0.0038101984 | Q110: 2.5607143
A111: =(K111/10000*2500)/(E111/100)*10/1000+B111 -> 2.499793 | B111: =B110 -> 0.51428571 | C111: =C83 -> 6 | D111: =D27 -> 13 | E111: =E110 -> 69 | F111: =F27 -> 12 | G111: 5 | H111: 10 | I111: =D111-C111-G111 -> 2 | J111: =(E111-2*H111-F111)/2 -> 18.5 | K111: =E111*C111+(D111-C111)*F111+G111*H111 -> 548 | L111: =L110+1 -> 109 | M111: =A123 -> 2.5363445 | N111: =N110 -> 2.3716766 | O111: =M111-N111 -> 0.16466798 | P111: =O111*O111 -> 0.027115544 | Q111: 2.5628968
L112: =L111+1 -> 110 | M112: =A124 -> 2.6392857 | N112: =N111 -> 2.3716766 | O112: =M112-N112 -> 0.26760916 | P112: =O112*O112 -> 0.071614661 | Q112: 2.5704451
A113: P. Forjado | B113: Aligeramiento | C113: h0 | D113: h | E113: b | F113: b0 | G113: h1 | H113: b1 | I113: h2 | J113: b2 | K113: Area | L113: =L112+1 -> 111 | M113: =A125 -> 2.2716387 | N113: =N112 -> 2.3716766 | O113: =M113-N113 -> -0.1000379 | P113: =O113*O113 -> 0.010007582 | Q113: 2.5706237
A114: kN/m2 | B114: kN/m2 | C114: cm | D114: cm | E114: cm | F114: cm | G114: cm | H114: cm | I114: cm | J114: cm | K114: cm2 | L114: =L113+1 -> 112 | M114: =A126 -> 2.3745798 | N114: =N113 -> 2.3716766 | O114: =M114-N114 -> 0.002903275 | P114: =O114*O114 -> 8.4290058e-06 | Q114: 2.5785714
