Workbook

Sheet Canto 35
A1: P. Forjado | B1: Aligeramiento | C1: h0 | D1: h | E1: b | F1: b0 | G1: h1 | H1: b1 | I1: h2 | J1: b2 | K1: Area | L1: Nº de Orden | M1: Valores | N1: Media | O1: Desv. | P1: Des2 | Q1: Valores
A2: kN/m2 | B2: kN/m2 | C2: cm | D2: cm | E2: cm | F2: cm | G2: cm | H2: cm | I2: cm | J2: cm | K2: cm2 | L2: - | M2: kN/m2 | N2: kN/m2 | O2: kN/m2 | P2: - | Q2: kN/m2
A3: =(K3/10000*2500)/(E3/100)*10/1000+B3 -> 3.4214286 | B3: =I145 -> 0.91428571 | C3: =C4-0.5 -> 4 | D3: =C144 -> 35 | E3: =D144 -> 70 | F3: =E144 -> 12 | G3: 5 | H3: 10 | I3: =D3-C3-G3 -> 26 | J3: =(E3-2*H3-F3)/2 -> 19 | K3: =E3*C3+(D3-C3)*F3+G3*H3 -> 702 | L3: =1 -> 1 | M3: =A3 -> 3.4214286 | N3: =M129 -> 3.6291695 | O3: =M3-N3 -> -0.20774094 | P3: =O3*O3 -> 0.043156298 | Q3: 3.2962302
A4: =(K4/10000*2500)/(E4/100)*10/1000+B4 -> 3.525 | B4: =B3 -> 0.91428571 | C4: =C5-0.5 -> 4.5 | D4: =D3 -> 35 | E4: =E3 -> 70 | F4: =F3 -> 12 | G4: 5 | H4: 10 | I4: =D4-C4-G4 -> 25.5 | J4: =(E4-2*H4-F4)/2 -> 19 | K4: =E4*C4+(D4-C4)*F4+G4*H4 -> 731 | L4: =L3+1 -> 2 | M4: =A4 -> 3.525 | N4: =N3 -> 3.6291695 | O4: =M4-N4 -> -0.10416951 | P4: =O4*O4 -> 0.010851287 | Q4: 3.3156942
A5: =(K5/10000*2500)/(E5/100)*10/1000+B5 -> 3.6285714 | B5: =B4 -> 0.91428571 | C5: =B144 -> 5 | D5: =D4 -> 35 | E5: =E4 -> 70 | F5: =F4 -> 12 | G5: 5 | H5: 10 | I5: =D5-C5-G5 -> 25 | J5: =(E5-2*H5-F5)/2 -> 19 | K5: =E5*C5+(D5-C5)*F5+G5*H5 -> 760 | L5: =L4+1 -> 3 | M5: =A5 -> 3.6285714 | N5: =N4 -> 3.6291695 | O5: =M5-N5 -> -0.00059808267 | P5: =O5*O5 -> 3.5770288e-07 | Q5: 3.3357143
A6: =(K6/10000*2500)/(E6/100)*10/1000+B6 -> 3.7321429 | B6: =B5 -> 0.91428571 | C6: =C5+0.5 -> 5.5 | D6: =D5 -> 35 | E6: =E5 -> 70 | F6: =F5 -> 12 | G6: 5 | H6: 10 | I6: =D6-C6-G6 -> 24.5 | J6: =(E6-2*H6-F6)/2 -> 19 | K6: =E6*C6+(D6-C6)*F6+G6*H6 -> 789 | L6: =L5+1 -> 4 | M6: =A6 -> 3.7321429 | N6: =N5 -> 3.6291695 | O6: =M6-N6 -> 0.10297335 | P6: =O6*O6 -> 0.01060351 | Q6: 3.3378968
A7: =(K7/10000*2500)/(E7/100)*10/1000+B7 -> 3.8357143 | B7: =B6 -> 0.91428571 | C7: =C6+0.5 -> 6 | D7: =D6 -> 35 | E7: =E6 -> 70 | F7: =F6 -> 12 | G7: 5 | H7: 10 | I7: =D7-C7-G7 -> 24 | J7: =(E7-2*H7-F7)/2 -> 19 | K7: =E7*C7+(D7-C7)*F7+G7*H7 -> 818 | L7: =L6+1 -> 5 | M7: =A7 -> 3.8357143 | N7: =N6 -> 3.6291695 | O7: =M7-N7 -> 0.20654477 | P7: =O7*O7 -> 0.042660744 | Q7: 3.3563147
A8: =(K8/10000*2500)/(E8/100)*10/1000+B8 -> 3.4642857 | B8: =B7 -> 0.91428571 | C8: =C3 -> 4 | D8: =D3+1 -> 36 | E8: =E7 -> 70 | F8: =F7 -> 12 | G8: 5 | H8: 10 | I8: =D8-C8-G8 -> 27 | J8: =(E8-2*H8-F8)/2 -> 19 | K8: =E8*C8+(D8-C8)*F8+G8*H8 -> 714 | L8: =L7+1 -> 6 | M8: =A8 -> 3.4642857 | N8: =N7 -> 3.6291695 | O8: =M8-N8 -> -0.1648838 | P8: =O8*O8 -> 0.027186666 | Q8: 3.3579477
A9: =(K9/10000*2500)/(E9/100)*10/1000+B9 -> 3.5678571 | B9: =B8 -> 0.91428571 | C9: =C4 -> 4.5 | D9: =D4+1 -> 36 | E9: =E8 -> 70 | F9: =F8 -> 12 | G9: 5 | H9: 10 | I9: =D9-C9-G9 -> 26.5 | J9: =(E9-2*H9-F9)/2 -> 19 | K9: =E9*C9+(D9-C9)*F9+G9*H9 -> 743 | L9: =L8+1 -> 7 | M9: =A9 -> 3.5678571 | N9: =N8 -> 3.6291695 | O9: =M9-N9 -> -0.061312368 | P9: =O9*O9 -> 0.0037592065 | Q9: 3.377521
A10: =(K10/10000*2500)/(E10/100)*10/1000+B10 -> 3.6714286 | B10: =B9 -> 0.91428571 | C10: =C5 -> 5 | D10: =D5+1 -> 36 | E10: =E9 -> 70 | F10: =F9 -> 12 | G10: 5 | H10: 10 | I10: =D10-C10-G10 -> 26 | J10: =(E10-2*H10-F10)/2 -> 19 | K10: =E10*C10+(D10-C10)*F10+G10*H10 -> 772 | L10: =L9+1 -> 8 | M10: =A10 -> 3.6714286 | N10: =N9 -> 3.6291695 | O10: =M10-N10 -> 0.04225906 | P10: =O10*O10 -> 0.0017858282 | Q10: 3.3785714
A11: =(K11/10000*2500)/(E11/100)*10/1000+B11 -> 3.775 | B11: =B10 -> 0.91428571 | C11: =C6 -> 5.5 | D11: =D6+1 -> 36 | E11: =E10 -> 70 | F11: =F10 -> 12 | G11: 5 | H11: 10 | I11: =D11-C11-G11 -> 25.5 | J11: =(E11-2*H11-F11)/2 -> 19 | K11: =E11*C11+(D11-C11)*F11+G11*H11 -> 801 | L11: =L10+1 -> 9 | M11: =A11 -> 3.775 | N11: =N10 -> 3.6291695 | O11: =M11-N11 -> 0.14583049 | P11: =O11*O11 -> 0.021266531 | Q11: 3.3795635
A12: =(K12/10000*2500)/(E12/100)*10/1000+B12 -> 3.8785714 | B12: =B11 -> 0.91428571 | C12: =C7 -> 6 | D12: =D7+1 -> 36 | E12: =E11 -> 70 | F12: =F11 -> 12 | G12: 5 | H12: 10 | I12: =D12-C12-G12 -> 25 | J12: =(E12-2*H12-F12)/2 -> 19 | K12: =E12*C12+(D12-C12)*F12+G12*H12 -> 830 | L12: =L11+1 -> 10 | M12: =A12 -> 3.8785714 | N12: =N11 -> 3.6291695 | O12: =M12-N12 -> 0.24940192 | P12: =O12*O12 -> 0.062201316 | Q12: 3.399793
A13: =(K13/10000*2500)/(E13/100)*10/1000+B13 -> 3.5071429 | B13: =B12 -> 0.91428571 | C13: =C3 -> 4 | D13: =D3+2 -> 37 | E13: =E12 -> 70 | F13: =F12 -> 12 | G13: 5 | H13: 10 | I13: =D13-C13-G13 -> 28 | J13: =(E13-2*H13-F13)/2 -> 19 | K13: =E13*C13+(D13-C13)*F13+G13*H13 -> 726 | L13: =L12+1 -> 11 | M13: =A13 -> 3.5071429 | N13: =N12 -> 3.6291695 | O13: =M13-N13 -> -0.12202665 | P13: =O13*O13 -> 0.014890504 | Q13: 3.4002012
A14: =(K14/10000*2500)/(E14/100)*10/1000+B14 -> 3.6107143 | B14: =B13 -> 0.91428571 | C14: =C4 -> 4.5 | D14: =D4+2 -> 37 | E14: =E13 -> 70 | F14: =F13 -> 12 | G14: 5 | H14: 10 | I14: =D14-C14-G14 -> 27.5 | J14: =(E14-2*H14-F14)/2 -> 19 | K14: =E14*C14+(D14-C14)*F14+G14*H14 -> 755 | L14: =L13+1 -> 12 | M14: =A14 -> 3.6107143 | N14: =N13 -> 3.6291695 | O14: =M14-N14 -> -0.018455226 | P14: =O14*O14 -> 0.00034059535 | Q14: 3.4003968
A15: =(K15/10000*2500)/(E15/100)*10/1000+B15 -> 3.7142857 | B15: =B14 -> 0.91428571 | C15: =C5 -> 5 | D15: =D5+2 -> 37 | E15: =E14 -> 70 | F15: =F14 -> 12 | G15: 5 | H15: 10 | I15: =D15-C15-G15 -> 27 | J15: =(E15-2*H15-F15)/2 -> 19 | K15: =E15*C15+(D15-C15)*F15+G15*H15 -> 784 | L15: =L14+1 -> 13 | M15: =A15 -> 3.7142857 | N15: =N14 -> 3.6291695 | O15: =M15-N15 -> 0.085116203 | P15: =O15*O15 -> 0.007244768 | Q15: 3.4195674
A16: =(K16/10000*2500)/(E16/100)*10/1000+B16 -> 3.8178571 | B16: =B15 -> 0.91428571 | C16: =C6 -> 5.5 | D16: =D6+2 -> 37 | E16: =E15 -> 70 | F16: =F15 -> 12 | G16: 5 | H16: 10 | I16: =D16-C16-G16 -> 26.5 | J16: =(E16-2*H16-F16)/2 -> 19 | K16: =E16*C16+(D16-C16)*F16+G16*H16 -> 813 | L16: =L15+1 -> 14 | M16: =A16 -> 3.8178571 | N16: =N15 -> 3.6291695 | O16: =M16-N16 -> 0.18868763 | P16: =O16*O16 -> 0.035603022 | Q16: 3.4212302
A17: =(K17/10000*2500)/(E17/100)*10/1000+B17 -> 3.9214286 | B17: =B16 -> 0.91428571 | C17: =C7 -> 6 | D17: =D7+2 -> 37 | E17: =E16 -> 70 | F17: =F16 -> 12 | G17: 5 | H17: 10 | I17: =D17-C17-G17 -> 26 | J17: =(E17-2*H17-F17)/2 -> 19 | K17: =E17*C17+(D17-C17)*F17+G17*H17 -> 842 | L17: =L16+1 -> 15 | M17: =A17 -> 3.9214286 | N17: =N16 -> 3.6291695 | O17: =M17-N17 -> 0.29225906 | P17: =O17*O17 -> 0.085415358 | Q17: 3.4214286
A18: =(K18/10000*2500)/(E18/100)*10/1000+B18 -> 3.3785714 | B18: =B17 -> 0.91428571 | C18: =C3 -> 4 | D18: =D3-1 -> 34 | E18: =E17 -> 70 | F18: =F17 -> 12 | G18: 5 | H18: 10 | I18: =D18-C18-G18 -> 25 | J18: =(E18-2*H18-F18)/2 -> 19 | K18: =E18*C18+(D18-C18)*F18+G18*H18 -> 690 | L18: =L17+1 -> 16 | M18: =A18 -> 3.3785714 | N18: =N17 -> 3.6291695 | O18: =M18-N18 -> -0.25059808 | P18: =O18*O18 -> 0.062799399 | Q18: 3.4216387
A19: =(K19/10000*2500)/(E19/100)*10/1000+B19 -> 3.4821429 | B19: =B18 -> 0.91428571 | C19: =C4 -> 4.5 | D19: =D4-1 -> 34 | E19: =E18 -> 70 | F19: =F18 -> 12 | G19: 5 | H19: 10 | I19: =D19-C19-G19 -> 24.5 | J19: =(E19-2*H19-F19)/2 -> 19 | K19: =E19*C19+(D19-C19)*F19+G19*H19 -> 719 | L19: =L18+1 -> 17 | M19: =A19 -> 3.4821429 | N19: =N18 -> 3.6291695 | O19: =M19-N19 -> -0.14702665 | P19: =O19*O19 -> 0.021616837 | Q19: 3.4392857
A20: =(K20/10000*2500)/(E20/100)*10/1000+B20 -> 3.5857143 | B20: =B19 -> 0.91428571 | C20: =C5 -> 5 | D20: =D5-1 -> 34 | E20: =E19 -> 70 | F20: =F19 -> 12 | G20: 5 | H20: 10 | I20: =D20-C20-G20 -> 24 | J20: =(E20-2*H20-F20)/2 -> 19 | K20: =E20*C20+(D20-C20)*F20+G20*H20 -> 748 | L20: =L19+1 -> 18 | M20: =A20 -> 3.5857143 | N20: =N19 -> 3.6291695 | O20: =M20-N20 -> -0.043455226 | P20: =O20*O20 -> 0.0018883566 | Q20: 3.4420635
A21: =(K21/10000*2500)/(E21/100)*10/1000+B21 -> 3.6892857 | B21: =B20 -> 0.91428571 | C21: =C6 -> 5.5 | D21: =D6-1 -> 34 | E21: =E20 -> 70 | F21: =F20 -> 12 | G21: 5 | H21: 10 | I21: =D21-C21-G21 -> 23.5 | J21: =(E21-2*H21-F21)/2 -> 19 | K21: =E21*C21+(D21-C21)*F21+G21*H21 -> 777 | L21: =L20+1 -> 19 | M21: =A21 -> 3.6892857 | N21: =N20 -> 3.6291695 | O21: =M21-N21 -> 0.060116203 | P21: =O21*O21 -> 0.0036139579 | Q21: 3.4424547
A22: =(K22/10000*2500)/(E22/100)*10/1000+B22 -> 3.7928571 | B22: =B21 -> 0.91428571 | C22: =C7 -> 6 | D22: =D7-1 -> 34 | E22: =E21 -> 70 | F22: =F21 -> 12 | G22: 5 | H22: 10 | I22: =D22-C22-G22 -> 23 | J22: =(E22-2*H22-F22)/2 -> 19 | K22: =E22*C22+(D22-C22)*F22+G22*H22 -> 806 | L22: =L21+1 -> 20 | M22: =A22 -> 3.7928571 | N22: =N21 -> 3.6291695 | O22: =M22-N22 -> 0.16368763 | P22: =O22*O22 -> 0.026793641 | Q22: 3.4432712
A23: =(K23/10000*2500)/(E23/100)*10/1000+B23 -> 3.3357143 | B23: =B22 -> 0.91428571 | C23: =C3 -> 4 | D23: =D3-2 -> 33 | E23: =E22 -> 70 | F23: =F22 -> 12 | G23: 5 | H23: 10 | I23: =D23-C23-G23 -> 24 | J23: =(E23-2*H23-F23)/2 -> 19 | K23: =E23*C23+(D23-C23)*F23+G23*H23 -> 678 | L23: =L22+1 -> 21 | M23: =A23 -> 3.3357143 | N23: =N22 -> 3.6291695 | O23: =M23-N23 -> -0.29345523 | P23: =O23*O23 -> 0.086115969 | Q23: 3.4595756
A24: =(K24/10000*2500)/(E24/100)*10/1000+B24 -> 3.4392857 | B24: =B23 -> 0.91428571 | C24: =C4 -> 4.5 | D24: =D4-2 -> 33 | E24: =E23 -> 70 | F24: =F23 -> 12 | G24: 5 | H24: 10 | I24: =D24-C24-G24 -> 23.5 | J24: =(E24-2*H24-F24)/2 -> 19 | K24: =E24*C24+(D24-C24)*F24+G24*H24 -> 707 | L24: =L23+1 -> 22 | M24: =A24 -> 3.4392857 | N24: =N23 -> 3.6291695 | O24: =M24-N24 -> -0.1898838 | P24: =O24*O24 -> 0.036055856 | Q24: 3.4618209
A25: =(K25/10000*2500)/(E25/100)*10/1000+B25 -> 3.5428571 | B25: =B24 -> 0.91428571 | C25: =C5 -> 5 | D25: =D5-2 -> 33 | E25: =E24 -> 70 | F25: =F24 -> 12 | G25: 5 | H25: 10 | I25: =D25-C25-G25 -> 23 | J25: =(E25-2*H25-F25)/2 -> 19 | K25: =E25*C25+(D25-C25)*F25+G25*H25 -> 736 | L25: =L24+1 -> 23 | M25: =A25 -> 3.5428571 | N25: =N24 -> 3.6291695 | O25: =M25-N25 -> -0.086312368 | P25: =O25*O25 -> 0.0074498249 | Q25: 3.4628968
A26: =(K26/10000*2500)/(E26/100)*10/1000+B26 -> 3.6464286 | B26: =B25 -> 0.91428571 | C26: =C6 -> 5.5 | D26: =D6-2 -> 33 | E26: =E25 -> 70 | F26: =F25 -> 12 | G26: 5 | H26: 10 | I26: =D26-C26-G26 -> 22.5 | J26: =(E26-2*H26-F26)/2 -> 19 | K26: =E26*C26+(D26-C26)*F26+G26*H26 -> 765 | L26: =L25+1 -> 24 | M26: =A26 -> 3.6464286 | N26: =N25 -> 3.6291695 | O26: =M26-N26 -> 0.01725906 | P26: =O26*O26 -> 0.00029787516 | Q26: 3.4642857
A27: =(K27/10000*2500)/(E27/100)*10/1000+B27 -> 3.75 | B27: =B26 -> 0.91428571 | C27: =C7 -> 6 | D27: =D7-2 -> 33 | E27: =E26 -> 70 | F27: =F26 -> 12 | G27: 5 | H27: 10 | I27: =D27-C27-G27 -> 22 | J27: =(E27-2*H27-F27)/2 -> 19 | K27: =E27*C27+(D27-C27)*F27+G27*H27 -> 794 | L27: =L26+1 -> 25 | M27: =A27 -> 3.75 | N27: =N26 -> 3.6291695 | O27: =M27-N27 -> 0.12083049 | P27: =O27*O27 -> 0.014600007 | Q27: 3.4657563
L28: =L27+1 -> 26 | M28: =A31 -> 3.4002012 | N28: =N27 -> 3.6291695 | O28: =M28-N28 -> -0.2289683 | P28: =O28*O28 -> 0.052426484 | Q28: 3.4804622
A29: P. Forjado | B29: Aligeramiento | C29: h0 | D29: h | E29: b | F29: b0 | G29: h1 | H29: b1 | I29: h2 | J29: b2 | K29: Area | L29: =L28+1 -> 27 | M29: =A32 -> 3.5040744 | N29: =N28 -> 3.6291695 | O29: =M29-N29 -> -0.12509506 | P29: =O29*O29 -> 0.015648775 | Q29: 3.4821429
A30: kN/m2 | B30: kN/m2 | C30: cm | D30: cm | E30: cm | F30: cm | G30: cm | H30: cm | I30: cm | J30: cm | K30: cm2 | L30: =L29+1 -> 28 | M30: =A33 -> 3.6079477 | N30: =N29 -> 3.6291695 | O30: =M30-N30 -> -0.021221825 | P30: =O30*O30 -> 0.00045036586 | Q30: 3.4837302
A31: =(K31/10000*2500)/(E31/100)*10/1000+B31 -> 3.4002012 | B31: =I145 -> 0.91428571 | C31: =C3 -> 4 | D31: =D3 -> 35 | E31: =E3+1 -> 71 | F31: =F3 -> 12 | G31: 5 | H31: 10 | I31: =D31-C31-G31 -> 26 | J31: =(E31-2*H31-F31)/2 -> 19.5 | K31: =E31*C31+(D31-C31)*F31+G31*H31 -> 706 | L31: =L30+1 -> 29 | M31: =A34 -> 3.7118209 | N31: =N30 -> 3.6291695 | O31: =M31-N31 -> 0.082651414 | P31: =O31*O31 -> 0.0068312563 | Q31: 3.4847082
A32: =(K32/10000*2500)/(E32/100)*10/1000+B32 -> 3.5040744 | B32: =B31 -> 0.91428571 | C32: =C4 -> 4.5 | D32: =D4 -> 35 | E32: =E31 -> 71 | F32: =F4 -> 12 | G32: 5 | H32: 10 | I32: =D32-C32-G32 -> 25.5 | J32: =(E32-2*H32-F32)/2 -> 19.5 | K32: =E32*C32+(D32-C32)*F32+G32*H32 -> 735.5 | L32: =L31+1 -> 30 | M32: =A35 -> 3.8156942 | N32: =N31 -> 3.6291695 | O32: =M32-N32 -> 0.18652465 | P32: =O32*O32 -> 0.034791446 | Q32: 3.4867495
A33: =(K33/10000*2500)/(E33/100)*10/1000+B33 -> 3.6079477 | B33: =B32 -> 0.91428571 | C33: =C5 -> 5 | D33: =D5 -> 35 | E33: =E32 -> 71 | F33: =F5 -> 12 | G33: 5 | H33: 10 | I33: =D33-C33-G33 -> 25 | J33: =(E33-2*H33-F33)/2 -> 19.5 | K33: =E33*C33+(D33-C33)*F33+G33*H33 -> 765 | L33: =L32+1 -> 31 | M33: =A36 -> 3.4424547 | N33: =N32 -> 3.6291695 | O33: =M33-N33 -> -0.18671478 | P33: =O33*O33 -> 0.03486241 | Q33: 3.5030538
A34: =(K34/10000*2500)/(E34/100)*10/1000+B34 -> 3.7118209 | B34: =B33 -> 0.91428571 | C34: =C6 -> 5.5 | D34: =D6 -> 35 | E34: =E33 -> 71 | F34: =F6 -> 12 | G34: 5 | H34: 10 | I34: =D34-C34-G34 -> 24.5 | J34: =(E34-2*H34-F34)/2 -> 19.5 | K34: =E34*C34+(D34-C34)*F34+G34*H34 -> 794.5 | L34: =L33+1 -> 32 | M34: =A37 -> 3.546328 | N34: =N33 -> 3.6291695 | O34: =M34-N34 -> -0.082841543 | P34: =O34*O34 -> 0.0068627213 | Q34: 3.5040744
A35: =(K35/10000*2500)/(E35/100)*10/1000+B35 -> 3.8156942 | B35: =B34 -> 0.91428571 | C35: =C7 -> 6 | D35: =D7 -> 35 | E35: =E34 -> 71 | F35: =F7 -> 12 | G35: 5 | H35: 10 | I35: =D35-C35-G35 -> 24 | J35: =(E35-2*H35-F35)/2 -> 19.5 | K35: =E35*C35+(D35-C35)*F35+G35*H35 -> 824 | L35: =L34+1 -> 33 | M35: =A38 -> 3.6502012 | N35: =N34 -> 3.6291695 | O35: =M35-N35 -> 0.021031696 | P35: =O35*O35 -> 0.00044233224 | Q35: 3.5045635
A36: =(K36/10000*2500)/(E36/100)*10/1000+B36 -> 3.4424547 | B36: =B35 -> 0.91428571 | C36: =C8 -> 4 | D36: =D8 -> 36 | E36: =E35 -> 71 | F36: =F8 -> 12 | G36: 5 | H36: 10 | I36: =D36-C36-G36 -> 27 | J36: =(E36-2*H36-F36)/2 -> 19.5 | K36: =E36*C36+(D36-C36)*F36+G36*H36 -> 718 | L36: =L35+1 -> 34 | M36: =A39 -> 3.7540744 | N36: =N35 -> 3.6291695 | O36: =M36-N36 -> 0.12490494 | P36: =O36*O36 -> 0.015601243 | Q36: 3.5071429
A37: =(K37/10000*2500)/(E37/100)*10/1000+B37 -> 3.546328 | B37: =B36 -> 0.91428571 | C37: =C9 -> 4.5 | D37: =D9 -> 36 | E37: =E36 -> 71 | F37: =F9 -> 12 | G37: 5 | H37: 10 | I37: =D37-C37-G37 -> 26.5 | J37: =(E37-2*H37-F37)/2 -> 19.5 | K37: =E37*C37+(D37-C37)*F37+G37*H37 -> 747.5 | L37: =L36+1 -> 35 | M37: =A40 -> 3.8579477 | N37: =N36 -> 3.6291695 | O37: =M37-N37 -> 0.22877817 | P37: =O37*O37 -> 0.052339453 | Q37: 3.5098739
A38: =(K38/10000*2500)/(E38/100)*10/1000+B38 -> 3.6502012 | B38: =B37 -> 0.91428571 | C38: =C10 -> 5 | D38: =D10 -> 36 | E38: =E37 -> 71 | F38: =F10 -> 12 | G38: 5 | H38: 10 | I38: =D38-C38-G38 -> 26 | J38: =(E38-2*H38-F38)/2 -> 19.5 | K38: =E38*C38+(D38-C38)*F38+G38*H38 -> 777 | L38: =L37+1 -> 36 | M38: =A41 -> 3.4847082 | N38: =N37 -> 3.6291695 | O38: =M38-N38 -> -0.14446126 | P38: =O38*O38 -> 0.020869056 | Q38: 3.5234406
A39: =(K39/10000*2500)/(E39/100)*10/1000+B39 -> 3.7540744 | B39: =B38 -> 0.91428571 | C39: =C11 -> 5.5 | D39: =D11 -> 36 | E39: =E38 -> 71 | F39: =F11 -> 12 | G39: 5 | H39: 10 | I39: =D39-C39-G39 -> 25.5 | J39: =(E39-2*H39-F39)/2 -> 19.5 | K39: =E39*C39+(D39-C39)*F39+G39*H39 -> 806.5 | L39: =L38+1 -> 37 | M39: =A42 -> 3.5885815 | N39: =N38 -> 3.6291695 | O39: =M39-N39 -> -0.040588022 | P39: =O39*O39 -> 0.0016473876 | Q39: 3.5245798
A40: =(K40/10000*2500)/(E40/100)*10/1000+B40 -> 3.8579477 | B40: =B39 -> 0.91428571 | C40: =C12 -> 6 | D40: =D12 -> 36 | E40: =E39 -> 71 | F40: =F12 -> 12 | G40: 5 | H40: 10 | I40: =D40-C40-G40 -> 25 | J40: =(E40-2*H40-F40)/2 -> 19.5 | K40: =E40*C40+(D40-C40)*F40+G40*H40 -> 836 | L40: =L39+1 -> 38 | M40: =A43 -> 3.6924547 | N40: =N39 -> 3.6291695 | O40: =M40-N40 -> 0.063285217 | P40: =O40*O40 -> 0.0040050187 | Q40: 3.525
...

Sheet Canto 30
A1: P. Forjado | B1: Aligeramiento | C1: h0 | D1: h | E1: b | F1: b0 | G1: h1 | H1: b1 | I1: h2 | J1: b2 | K1: Area | L1: Nº de Orden | M1: Valores | N1: Media | O1: Desv. | P1: Des2 | Q1: Valores
A2: kN/m2 | B2: kN/m2 | C2: cm | D2: cm | E2: cm | F2: cm | G2: cm | H2: cm | I2: cm | J2: cm | K2: cm2 | L2: - | M2: kN/m2 | N2: kN/m2 | O2: kN/m2 | P2: - | Q2: kN/m2
A3: =(K3/10000*2500)/(E3/100)*10/1000+B3 -> 3.0928571 | B3: =I145 -> 0.8 | C3: =C4-0.5 -> 4 | D3: =C144 -> 30 | E3: =D144 -> 70 | F3: =E144 -> 12 | G3: 5 | H3: 10 | I3: =D3-C3-G3 -> 21 | J3: =(E3-2*H3-F3)/2 -> 19 | K3: =E3*C3+(D3-C3)*F3+G3*H3 -> 642 | L3: =1 -> 1 | M3: =A3 -> 3.0928571 | N3: =M129 -> 3.3005106 | O3: =M3-N3 -> -0.20765342 | P3: =O3*O3 -> 0.043119941 | Q3: 2.9736111
A4: =(K4/10000*2500)/(E4/100)*10/1000+B4 -> 3.1964286 | B4: =B3 -> 0.8 | C4: =C5-0.5 -> 4.5 | D4: =D3 -> 30 | E4: =E3 -> 70 | F4: =F3 -> 12 | G4: 5 | H4: 10 | I4: =D4-C4-G4 -> 20.5 | J4: =(E4-2*H4-F4)/2 -> 19 | K4: =E4*C4+(D4-C4)*F4+G4*H4 -> 671 | L4: =L3+1 -> 2 | M4: =A4 -> 3.1964286 | N4: =N3 -> 3.3005106 | O4: =M4-N4 -> -0.10408199 | P4: =O4*O4 -> 0.01083306 | Q4: 2.9901408
A5: =(K5/10000*2500)/(E5/100)*10/1000+B5 -> 3.3 | B5: =B4 -> 0.8 | C5: =B144 -> 5 | D5: =D4 -> 30 | E5: =E4 -> 70 | F5: =F4 -> 12 | G5: 5 | H5: 10 | I5: =D5-C5-G5 -> 20 | J5: =(E5-2*H5-F5)/2 -> 19 | K5: =E5*C5+(D5-C5)*F5+G5*H5 -> 700 | L5: =L4+1 -> 3 | M5: =A5 -> 3.3 | N5: =N4 -> 3.3005106 | O5: =M5-N5 -> -0.00051055838 | P5: =O5*O5 -> 2.6066986e-07 | Q5: 3.0071429
A6: =(K6/10000*2500)/(E6/100)*10/1000+B6 -> 3.4035714 | B6: =B5 -> 0.8 | C6: =C5+0.5 -> 5.5 | D6: =D5 -> 30 | E6: =E5 -> 70 | F6: =F5 -> 12 | G6: 5 | H6: 10 | I6: =D6-C6-G6 -> 19.5 | J6: =(E6-2*H6-F6)/2 -> 19 | K6: =E6*C6+(D6-C6)*F6+G6*H6 -> 729 | L6: =L5+1 -> 4 | M6: =A6 -> 3.4035714 | N6: =N5 -> 3.3005106 | O6: =M6-N6 -> 0.10306087 | P6: =O6*O6 -> 0.010621543 | Q6: 3.0152778
A7: =(K7/10000*2500)/(E7/100)*10/1000+B7 -> 3.5071429 | B7: =B6 -> 0.8 | C7: =C6+0.5 -> 6 | D7: =D6 -> 30 | E7: =E6 -> 70 | F7: =F6 -> 12 | G7: 5 | H7: 10 | I7: =D7-C7-G7 -> 19 | J7: =(E7-2*H7-F7)/2 -> 19 | K7: =E7*C7+(D7-C7)*F7+G7*H7 -> 758 | L7: =L6+1 -> 5 | M7: =A7 -> 3.5071429 | N7: =N6 -> 3.3005106 | O7: =M7-N7 -> 0.2066323 | P7: =O7*O7 -> 0.042696907 | Q7: 3.0246377
A8: =(K8/10000*2500)/(E8/100)*10/1000+B8 -> 3.1357143 | B8: =B7 -> 0.8 | C8: =C3 -> 4 | D8: =D3+1 -> 31 | E8: =E7 -> 70 | F8: =F7 -> 12 | G8: 5 | H8: 10 | I8: =D8-C8-G8 -> 22 | J8: =(E8-2*H8-F8)/2 -> 19 | K8: =E8*C8+(D8-C8)*F8+G8*H8 -> 654 | L8: =L7+1 -> 6 | M8: =A8 -> 3.1357143 | N8: =N7 -> 3.3005106 | O8: =M8-N8 -> -0.16479627 | P8: =O8*O8 -> 0.027157811 | Q8: 3.0323944
A9: =(K9/10000*2500)/(E9/100)*10/1000+B9 -> 3.2392857 | B9: =B8 -> 0.8 | C9: =C4 -> 4.5 | D9: =D4+1 -> 31 | E9: =E8 -> 70 | F9: =F8 -> 12 | G9: 5 | H9: 10 | I9: =D9-C9-G9 -> 21.5 | J9: =(E9-2*H9-F9)/2 -> 19 | K9: =E9*C9+(D9-C9)*F9+G9*H9 -> 683 | L9: =L8+1 -> 7 | M9: =A9 -> 3.2392857 | N9: =N8 -> 3.3005106 | O9: =M9-N9 -> -0.061224844 | P9: =O9*O9 -> 0.0037484815 | Q9: 3.0426471
A10: =(K10/10000*2500)/(E10/100)*10/1000+B10 -> 3.3428571 | B10: =B9 -> 0.8 | C10: =C5 -> 5 | D10: =D5+1 -> 31 | E10: =E9 -> 70 | F10: =F9 -> 12 | G10: 5 | H10: 10 | I10: =D10-C10-G10 -> 21 | J10: =(E10-2*H10-F10)/2 -> 19 | K10: =E10*C10+(D10-C10)*F10+G10*H10 -> 712 | L10: =L9+1 -> 8 | M10: =A10 -> 3.3428571 | N10: =N9 -> 3.3005106 | O10: =M10-N10 -> 0.042346584 | P10: =O10*O10 -> 0.0017932332 | Q10: 3.05
A11: =(K11/10000*2500)/(E11/100)*10/1000+B11 -> 3.4464286 | B11: =B10 -> 0.8 | C11: =C6 -> 5.5 | D11: =D6+1 -> 31 | E11: =E10 -> 70 | F11: =F10 -> 12 | G11: 5 | H11: 10 | I11: =D11-C11-G11 -> 20.5 | J11: =(E11-2*H11-F11)/2 -> 19 | K11: =E11*C11+(D11-C11)*F11+G11*H11 -> 741 | L11: =L10+1 -> 9 | M11: =A11 -> 3.4464286 | N11: =N10 -> 3.3005106 | O11: =M11-N11 -> 0.14591801 | P11: =O11*O11 -> 0.021292067 | Q11: 3.0569444
A12: =(K12/10000*2500)/(E12/100)*10/1000+B12 -> 3.55 | B12: =B11 -> 0.8 | C12: =C7 -> 6 | D12: =D7+1 -> 31 | E12: =E11 -> 70 | F12: =F11 -> 12 | G12: 5 | H12: 10 | I12: =D12-C12-G12 -> 20 | J12: =(E12-2*H12-F12)/2 -> 19 | K12: =E12*C12+(D12-C12)*F12+G12*H12 -> 770 | L12: =L11+1 -> 10 | M12: =A12 -> 3.55 | N12: =N11 -> 3.3005106 | O12: =M12-N12 -> 0.24948944 | P12: =O12*O12 -> 0.062244981 | Q12: 3.0681159
A13: =(K13/10000*2500)/(E13/100)*10/1000+B13 -> 3.1785714 | B13: =B12 -> 0.8 | C13: =C3 -> 4 | D13: =D3+2 -> 32 | E13: =E12 -> 70 | F13: =F12 -> 12 | G13: 5 | H13: 10 | I13: =D13-C13-G13 -> 23 | J13: =(E13-2*H13-F13)/2 -> 19 | K13: =E13*C13+(D13-C13)*F13+G13*H13 -> 666 | L13: =L12+1 -> 11 | M13: =A13 -> 3.1785714 | N13: =N12 -> 3.3005106 | O13: =M13-N13 -> -0.12193913 | P13: =O13*O13 -> 0.014869151 | Q13: 3.0746479
A14: =(K14/10000*2500)/(E14/100)*10/1000+B14 -> 3.2821429 | B14: =B13 -> 0.8 | C14: =C4 -> 4.5 | D14: =D4+2 -> 32 | E14: =E13 -> 70 | F14: =F13 -> 12 | G14: 5 | H14: 10 | I14: =D14-C14-G14 -> 22.5 | J14: =(E14-2*H14-F14)/2 -> 19 | K14: =E14*C14+(D14-C14)*F14+G14*H14 -> 695 | L14: =L13+1 -> 12 | M14: =A14 -> 3.2821429 | N14: =N13 -> 3.3005106 | O14: =M14-N14 -> -0.018367701 | P14: =O14*O14 -> 0.00033737245 | Q14: 3.0777778
A15: =(K15/10000*2500)/(E15/100)*10/1000+B15 -> 3.3857143 | B15: =B14 -> 0.8 | C15: =C5 -> 5 | D15: =D5+2 -> 32 | E15: =E14 -> 70 | F15: =F14 -> 12 | G15: 5 | H15: 10 | I15: =D15-C15-G15 -> 22 | J15: =(E15-2*H15-F15)/2 -> 19 | K15: =E15*C15+(D15-C15)*F15+G15*H15 -> 724 | L15: =L14+1 -> 13 | M15: =A15 -> 3.3857143 | N15: =N14 -> 3.3005106 | O15: =M15-N15 -> 0.085203727 | P15: =O15*O15 -> 0.0072596752 | Q15: 3.0867647
A16: =(K16/10000*2500)/(E16/100)*10/1000+B16 -> 3.4892857 | B16: =B15 -> 0.8 | C16: =C6 -> 5.5 | D16: =D6+2 -> 32 | E16: =E15 -> 70 | F16: =F15 -> 12 | G16: 5 | H16: 10 | I16: =D16-C16-G16 -> 21.5 | J16: =(E16-2*H16-F16)/2 -> 19 | K16: =E16*C16+(D16-C16)*F16+G16*H16 -> 753 | L16: =L15+1 -> 14 | M16: =A16 -> 3.4892857 | N16: =N15 -> 3.3005106 | O16: =M16-N16 -> 0.18877516 | P16: =O16*O16 -> 0.035636059 | Q16: 3.0928571
A17: =(K17/10000*2500)/(E17/100)*10/1000+B17 -> 3.5928571 | B17: =B16 -> 0.8 | C17: =C7 -> 6 | D17: =D7+2 -> 32 | E17: =E16 -> 70 | F17: =F16 -> 12 | G17: 5 | H17: 10 | I17: =D17-C17-G17 -> 21 | J17: =(E17-2*H17-F17)/2 -> 19 | K17: =E17*C17+(D17-C17)*F17+G17*H17 -> 782 | L17: =L16+1 -> 15 | M17: =A17 -> 3.5928571 | N17: =N16 -> 3.3005106 | O17: =M17-N17 -> 0.29234658 | P17: =O17*O17 -> 0.085466525 | Q17: 3.0940141
A18: =(K18/10000*2500)/(E18/100)*10/1000+B18 -> 3.05 | B18: =B17 -> 0.8 | C18: =C3 -> 4 | D18: =D3-1 -> 29 | E18: =E17 -> 70 | F18: =F17 -> 12 | G18: 5 | H18: 10 | I18: =D18-C18-G18 -> 20 | J18: =(E18-2*H18-F18)/2 -> 19 | K18: =E18*C18+(D18-C18)*F18+G18*H18 -> 630 | L18: =L17+1 -> 16 | M18: =A18 -> 3.05 | N18: =N17 -> 3.3005106 | O18: =M18-N18 -> -0.25051056 | P18: =O18*O18 -> 0.06275554 | Q18: 3.0986111
A19: =(K19/10000*2500)/(E19/100)*10/1000+B19 -> 3.1535714 | B19: =B18 -> 0.8 | C19: =C4 -> 4.5 | D19: =D4-1 -> 29 | E19: =E18 -> 70 | F19: =F18 -> 12 | G19: 5 | H19: 10 | I19: =D19-C19-G19 -> 19.5 | J19: =(E19-2*H19-F19)/2 -> 19 | K19: =E19*C19+(D19-C19)*F19+G19*H19 -> 659 | L19: =L18+1 -> 17 | M19: =A19 -> 3.1535714 | N19: =N18 -> 3.3005106 | O19: =M19-N19 -> -0.14693913 | P19: =O19*O19 -> 0.021591108 | Q19: 3.1107143
A20: =(K20/10000*2500)/(E20/100)*10/1000+B20 -> 3.2571429 | B20: =B19 -> 0.8 | C20: =C5 -> 5 | D20: =D5-1 -> 29 | E20: =E19 -> 70 | F20: =F19 -> 12 | G20: 5 | H20: 10 | I20: =D20-C20-G20 -> 19 | J20: =(E20-2*H20-F20)/2 -> 19 | K20: =E20*C20+(D20-C20)*F20+G20*H20 -> 688 | L20: =L19+1 -> 18 | M20: =A20 -> 3.2571429 | N20: =N19 -> 3.3005106 | O20: =M20-N20 -> -0.043367701 | P20: =O20*O20 -> 0.0018807575 | Q20: 3.1115942
A21: =(K21/10000*2500)/(E21/100)*10/1000+B21 -> 3.3607143 | B21: =B20 -> 0.8 | C21: =C6 -> 5.5 | D21: =D6-1 -> 29 | E21: =E20 -> 70 | F21: =F20 -> 12 | G21: 5 | H21: 10 | I21: =D21-C21-G21 -> 18.5 | J21: =(E21-2*H21-F21)/2 -> 19 | K21: =E21*C21+(D21-C21)*F21+G21*H21 -> 717 | L21: =L20+1 -> 19 | M21: =A21 -> 3.3607143 | N21: =N20 -> 3.3005106 | O21: =M21-N21 -> 0.060203727 | P21: =O21*O21 -> 0.0036244888 | Q21: 3.1169014
A22: =(K22/10000*2500)/(E22/100)*10/1000+B22 -> 3.4642857 | B22: =B21 -> 0.8 | C22: =C7 -> 6 | D22: =D7-1 -> 29 | E22: =E21 -> 70 | F22: =F21 -> 12 | G22: 5 | H22: 10 | I22: =D22-C22-G22 -> 18 | J22: =(E22-2*H22-F22)/2 -> 19 | K22: =E22*C22+(D22-C22)*F22+G22*H22 -> 746 | L22: =L21+1 -> 20 | M22: =A22 -> 3.4642857 | N22: =N21 -> 3.3005106 | O22: =M22-N22 -> 0.16377516 | P22: =O22*O22 -> 0.026822302 | Q22: 3.1194444
A23: =(K23/10000*2500)/(E23/100)*10/1000+B23 -> 3.0071429 | B23: =B22 -> 0.8 | C23: =C3 -> 4 | D23: =D3-2 -> 28 | E23: =E22 -> 70 | F23: =F22 -> 12 | G23: 5 | H23: 10 | I23: =D23-C23-G23 -> 19 | J23: =(E23-2*H23-F23)/2 -> 19 | K23: =E23*C23+(D23-C23)*F23+G23*H23 -> 618 | L23: =L22+1 -> 21 | M23: =A23 -> 3.0071429 | N23: =N22 -> 3.3005106 | O23: =M23-N23 -> -0.2933677 | P23: =O23*O23 -> 0.086064608 | Q23: 3.1278986
A24: =(K24/10000*2500)/(E24/100)*10/1000+B24 -> 3.1107143 | B24: =B23 -> 0.8 | C24: =C4 -> 4.5 | D24: =D4-2 -> 28 | E24: =E23 -> 70 | F24: =F23 -> 12 | G24: 5 | H24: 10 | I24: =D24-C24-G24 -> 18.5 | J24: =(E24-2*H24-F24)/2 -> 19 | K24: =E24*C24+(D24-C24)*F24+G24*H24 -> 647 | L24: =L23+1 -> 22 | M24: =A24 -> 3.1107143 | N24: =N23 -> 3.3005106 | O24: =M24-N24 -> -0.18979627 | P24: =O24*O24 -> 0.036022625 | Q24: 3.1308824
A25: =(K25/10000*2500)/(E25/100)*10/1000+B25 -> 3.2142857 | B25: =B24 -> 0.8 | C25: =C5 -> 5 | D25: =D5-2 -> 28 | E25: =E24 -> 70 | F25: =F24 -> 12 | G25: 5 | H25: 10 | I25: =D25-C25-G25 -> 18 | J25: =(E25-2*H25-F25)/2 -> 19 | K25: =E25*C25+(D25-C25)*F25+G25*H25 -> 676 | L25: =L24+1 -> 23 | M25: =A25 -> 3.2142857 | N25: =N24 -> 3.3005106 | O25: =M25-N25 -> -0.086224844 | P25: =O25*O25 -> 0.0074347237 | Q25: 3.1357143
A26: =(K26/10000*2500)/(E26/100)*10/1000+B26 -> 3.3178571 | B26: =B25 -> 0.8 | C26: =C6 -> 5.5 | D26: =D6-2 -> 28 | E26: =E25 -> 70 | F26: =F25 -> 12 | G26: 5 | H26: 10 | I26: =D26-C26-G26 -> 17.5 | J26: =(E26-2*H26-F26)/2 -> 19 | K26: =E26*C26+(D26-C26)*F26+G26*H26 -> 705 | L26: =L25+1 -> 24 | M26: =A26 -> 3.3178571 | N26: =N25 -> 3.3005106 | O26: =M26-N26 -> 0.017346584 | P26: =O26*O26 -> 0.00030090399 | Q26: 3.1362676
A27: =(K27/10000*2500)/(E27/100)*10/1000+B27 -> 3.4214286 | B27: =B26 -> 0.8 | C27: =C7 -> 6 | D27: =D7-2 -> 28 | E27: =E26 -> 70 | F27: =F26 -> 12 | G27: 5 | H27: 10 | I27: =D27-C27-G27 -> 17 | J27: =(E27-2*H27-F27)/2 -> 19 | K27: =E27*C27+(D27-C27)*F27+G27*H27 -> 734 | L27: =L26+1 -> 25 | M27: =A27 -> 3.4214286 | N27: =N26 -> 3.3005106 | O27: =M27-N27 -> 0.12091801 | P27: =O27*O27 -> 0.014621166 | Q27: 3.1402778
L28: =L27+1 -> 26 | M28: =A31 -> 3.0746479 | N28: =N27 -> 3.3005106 | O28: =M28-N28 -> -0.22586267 | P28: =O28*O28 -> 0.051013946 | Q28: 3.1455882
A29: P. Forjado | B29: Aligeramiento | C29: h0 | D29: h | E29: b | F29: b0 | G29: h1 | H29: b1 | I29: h2 | J29: b2 | K29: Area | L29: =L28+1 -> 27 | M29: =A32 -> 3.1785211 | N29: =N28 -> 3.3005106 | O29: =M29-N29 -> -0.12198943 | P29: =O29*O29 -> 0.014881421 | Q29: 3.1535714
A30: kN/m2 | B30: kN/m2 | C30: cm | D30: cm | E30: cm | F30: cm | G30: cm | H30: cm | I30: cm | J30: cm | K30: cm2 | L30: =L29+1 -> 28 | M30: =A33 -> 3.2823944 | N30: =N29 -> 3.3005106 | O30: =M30-N30 -> -0.018116192 | P30: =O30*O30 -> 0.00032819642 | Q30: 3.1550725
A31: =(K31/10000*2500)/(E31/100)*10/1000+B31 -> 3.0746479 | B31: =I145 -> 0.8 | C31: =C3 -> 4 | D31: =D3 -> 30 | E31: =E3+1 -> 71 | F31: =F3 -> 12 | G31: 5 | H31: 10 | I31: =D31-C31-G31 -> 21 | J31: =(E31-2*H31-F31)/2 -> 19.5 | K31: =E31*C31+(D31-C31)*F31+G31*H31 -> 646 | L31: =L30+1 -> 29 | M31: =A34 -> 3.3862676 | N31: =N30 -> 3.3005106 | O31: =M31-N31 -> 0.085757047 | P31: =O31*O31 -> 0.0073542712 | Q31: 3.1591549
A32: =(K32/10000*2500)/(E32/100)*10/1000+B32 -> 3.1785211 | B32: =B31 -> 0.8 | C32: =C4 -> 4.5 | D32: =D4 -> 30 | E32: =E31 -> 71 | F32: =F4 -> 12 | G32: 5 | H32: 10 | I32: =D32-C32-G32 -> 20.5 | J32: =(E32-2*H32-F32)/2 -> 19.5 | K32: =E32*C32+(D32-C32)*F32+G32*H32 -> 675.5 | L32: =L31+1 -> 30 | M32: =A35 -> 3.4901408 | N32: =N31 -> 3.3005106 | O32: =M32-N32 -> 0.18963029 | P32: =O32*O32 -> 0.035959646 | Q32: 3.1611111
A33: =(K33/10000*2500)/(E33/100)*10/1000+B33 -> 3.2823944 | B33: =B32 -> 0.8 | C33: =C5 -> 5 | D33: =D5 -> 30 | E33: =E32 -> 71 | F33: =F5 -> 12 | G33: 5 | H33: 10 | I33: =D33-C33-G33 -> 20 | J33: =(E33-2*H33-F33)/2 -> 19.5 | K33: =E33*C33+(D33-C33)*F33+G33*H33 -> 705 | L33: =L32+1 -> 31 | M33: =A36 -> 3.1169014 | N33: =N32 -> 3.3005106 | O33: =M33-N33 -> -0.18360915 | P33: =O33*O33 -> 0.03371232 | Q33: 3.1713768
A34: =(K34/10000*2500)/(E34/100)*10/1000+B34 -> 3.3862676 | B34: =B33 -> 0.8 | C34: =C6 -> 5.5 | D34: =D6 -> 30 | E34: =E33 -> 71 | F34: =F6 -> 12 | G34: 5 | H34: 10 | I34: =D34-C34-G34 -> 19.5 | J34: =(E34-2*H34-F34)/2 -> 19.5 | K34: =E34*C34+(D34-C34)*F34+G34*H34 -> 734.5 | L34: =L33+1 -> 32 | M34: =A37 -> 3.2207746 | N34: =N33 -> 3.3005106 | O34: =M34-N34 -> -0.07973591 | P34: =O34*O34 -> 0.0063578154 | Q34: 3.175
A35: =(K35/10000*2500)/(E35/100)*10/1000+B35 -> 3.4901408 | B35: =B34 -> 0.8 | C35: =C7 -> 6 | D35: =D7 -> 30 | E35: =E34 -> 71 | F35: =F7 -> 12 | G35: 5 | H35: 10 | I35: =D35-C35-G35 -> 19 | J35: =(E35-2*H35-F35)/2 -> 19.5 | K35: =E35*C35+(D35-C35)*F35+G35*H35 -> 764 | L35: =L34+1 -> 33 | M35: =A38 -> 3.3246479 | N35: =N34 -> 3.3005106 | O35: =M35-N35 -> 0.024137329 | P35: =O35*O35 -> 0.00058261065 | Q35: 3.1785211
A36: =(K36/10000*2500)/(E36/100)*10/1000+B36 -> 3.1169014 | B36: =B35 -> 0.8 | C36: =C8 -> 4 | D36: =D8 -> 31 | E36: =E35 -> 71 | F36: =F8 -> 12 | G36: 5 | H36: 10 | I36: =D36-C36-G36 -> 22 | J36: =(E36-2*H36-F36)/2 -> 19.5 | K36: =E36*C36+(D36-C36)*F36+G36*H36 -> 658 | L36: =L35+1 -> 34 | M36: =A39 -> 3.4285211 | N36: =N35 -> 3.3005106 | O36: =M36-N36 -> 0.12801057 | P36: =O36*O36 -> 0.016386706 | Q36: 3.1785714
A37: =(K37/10000*2500)/(E37/100)*10/1000+B37 -> 3.2207746 | B37: =B36 -> 0.8 | C37: =C9 -> 4.5 | D37: =D9 -> 31 | E37: =E36 -> 71 | F37: =F9 -> 12 | G37: 5 | H37: 10 | I37: =D37-C37-G37 -> 21.5 | J37: =(E37-2*H37-F37)/2 -> 19.5 | K37: =E37*C37+(D37-C37)*F37+G37*H37 -> 687.5 | L37: =L36+1 -> 35 | M37: =A40 -> 3.5323944 | N37: =N36 -> 3.3005106 | O37: =M37-N37 -> 0.23188381 | P37: =O37*O37 -> 0.0537701 | Q37: 3.1819444
A38: =(K38/10000*2500)/(E38/100)*10/1000+B38 -> 3.3246479 | B38: =B37 -> 0.8 | C38: =C10 -> 5 | D38: =D10 -> 31 | E38: =E37 -> 71 | F38: =F10 -> 12 | G38: 5 | H38: 10 | I38: =D38-C38-G38 -> 21 | J38: =(E38-2*H38-F38)/2 -> 19.5 | K38: =E38*C38+(D38-C38)*F38+G38*H38 -> 717 | L38: =L37+1 -> 36 | M38: =A41 -> 3.1591549 | N38: =N37 -> 3.3005106 | O38: =M38-N38 -> -0.14135563 | P38: =O38*O38 -> 0.019981414 | Q38: 3.1897059
A39: =(K39/10000*2500)/(E39/100)*10/1000+B39 -> 3.4285211 | B39: =B38 -> 0.8 | C39: =C11 -> 5.5 | D39: =D11 -> 31 | E39: =E38 -> 71 | F39: =F11 -> 12 | G39: 5 | H39: 10 | I39: =D39-C39-G39 -> 20.5 | J39: =(E39-2*H39-F39)/2 -> 19.5 | K39: =E39*C39+(D39-C39)*F39+G39*H39 -> 746.5 | L39: =L38+1 -> 37 | M39: =A42 -> 3.2630282 | N39: =N38 -> 3.3005106 | O39: =M39-N39 -> -0.037482389 | P39: =O39*O39 -> 0.0014049295 | Q39: 3.1964286
A40: =(K40/10000*2500)/(E40/100)*10/1000+B40 -> 3.5323944 | B40: =B39 -> 0.8 | C40: =C12 -> 6 | D40: =D12 -> 31 | E40: =E39 -> 71 | F40: =F12 -> 12 | G40: 5 | H40: 10 | I40: =D40-C40-G40 -> 20 | J40: =(E40-2*H40-F40)/2 -> 19.5 | K40: =E40*C40+(D40-C40)*F40+G40*H40 -> 776 | L40: =L39+1 -> 38 | M40: =A43 -> 3.3669014 | N40: =N39 -> 3.3005106 | O40: =M40-N40 -> 0.06639085 | P40: =O40*O40 -> 0.004407745 | Q40: 3.1978873
...

Sheet Canto 25
A1: P. Forjado | B1: Aligeramiento | C1: h0 | D1: h | E1: b | F1: b0 | G1: h1 | H1: b1 | I1: h2 | J1: b2 | K1: Area | L1: Nº de Orden | M1: Valores | N1: Media | O1: Desv. | P1: Des2 | Q1: Valores
A2: kN/m2 | B2: kN/m2 | C2: cm | D2: cm | E2: cm | F2: cm | G2: cm | H2: cm | I2: cm | J2: cm | K2: cm2 | L2: - | M2: kN/m2 | N2: kN/m2 | O2: kN/m2 | P2: - | Q2: kN/m2
A3: =(K3/10000*2500)/(E3/100)*10/1000+B3 -> 2.7071429 | B3: =I145 -> 0.62857143 | C3: =C4-0.5 -> 4 | D3: =C144 -> 25 | E3: =D144 -> 70 | F3: =E144 -> 12 | G3: 5 | H3: 10 | I3: =D3-C3-G3 -> 16 | J3: =(E3-2*H3-F3)/2 -> 19 | K3: =E3*C3+(D3-C3)*F3+G3*H3 -> 582 | L3: =1 -> 1 | M3: =A3 -> 2.7071429 | N3: =M129 -> 2.9147087 | O3: =M3-N3 -> -0.20756589 | P3: =O3*O3 -> 0.043083599 | Q3: 2.5938492 | R3: 8 | S3: =2.515+0.05 -> 2.565
A4: =(K4/10000*2500)/(E4/100)*10/1000+B4 -> 2.8107143 | B4: =B3 -> 0.62857143 | C4: =C5-0.5 -> 4.5 | D4: =D3 -> 25 | E4: =E3 -> 70 | F4: =F3 -> 12 | G4: 5 | H4: 10 | I4: =D4-C4-G4 -> 15.5 | J4: =(E4-2*H4-F4)/2 -> 19 | K4: =E4*C4+(D4-C4)*F4+G4*H4 -> 611 | L4: =L3+1 -> 2 | M4: =A4 -> 2.8107143 | N4: =N3 -> 2.9147087 | O4: =M4-N4 -> -0.10399446 | P4: =O4*O4 -> 0.010814848 | Q4: 2.6074447 | S4: =S3+0.1 -> 2.665
A5: =(K5/10000*2500)/(E5/100)*10/1000+B5 -> 2.9142857 | B5: =B4 -> 0.62857143 | C5: =B144 -> 5 | D5: =D4 -> 25 | E5: =E4 -> 70 | F5: =F4 -> 12 | G5: 5 | H5: 10 | I5: =D5-C5-G5 -> 15 | J5: =(E5-2*H5-F5)/2 -> 19 | K5: =E5*C5+(D5-C5)*F5+G5*H5 -> 640 | L5: =L4+1 -> 3 | M5: =A5 -> 2.9142857 | N5: =N4 -> 2.9147087 | O5: =M5-N5 -> -0.00042303408 | P5: =O5*O5 -> 1.7895784e-07 | Q5: 2.6214286
A6: =(K6/10000*2500)/(E6/100)*10/1000+B6 -> 3.0178571 | B6: =B5 -> 0.62857143 | C6: =C5+0.5 -> 5.5 | D6: =D5 -> 25 | E6: =E5 -> 70 | F6: =F5 -> 12 | G6: 5 | H6: 10 | I6: =D6-C6-G6 -> 14.5 | J6: =(E6-2*H6-F6)/2 -> 19 | K6: =E6*C6+(D6-C6)*F6+G6*H6 -> 669 | L6: =L5+1 -> 4 | M6: =A6 -> 3.0178571 | N6: =N5 -> 2.9147087 | O6: =M6-N6 -> 0.10314839 | P6: =O6*O6 -> 0.010639591 | Q6: 2.6355159
A7: =(K7/10000*2500)/(E7/100)*10/1000+B7 -> 3.1214286 | B7: =B6 -> 0.62857143 | C7: =C6+0.5 -> 6 | D7: =D6 -> 25 | E7: =E6 -> 70 | F7: =F6 -> 12 | G7: 5 | H7: 10 | I7: =D7-C7-G7 -> 14 | J7: =(E7-2*H7-F7)/2 -> 19 | K7: =E7*C7+(D7-C7)*F7+G7*H7 -> 698 | L7: =L6+1 -> 5 | M7: =A7 -> 3.1214286 | N7: =N6 -> 2.9147087 | O7: =M7-N7 -> 0.20671982 | P7: =O7*O7 -> 0.042733085 | Q7: 2.6358178
A8: =(K8/10000*2500)/(E8/100)*10/1000+B8 -> 2.75 | B8: =B7 -> 0.62857143 | C8: =C3 -> 4 | D8: =D3+1 -> 26 | E8: =E7 -> 70 | F8: =F7 -> 12 | G8: 5 | H8: 10 | I8: =D8-C8-G8 -> 17 | J8: =(E8-2*H8-F8)/2 -> 19 | K8: =E8*C8+(D8-C8)*F8+G8*H8 -> 594 | L8: =L7+1 -> 6 | M8: =A8 -> 2.75 | N8: =N7 -> 2.9147087 | O8: =M8-N8 -> -0.16470875 | P8: =O8*O8 -> 0.027128972 | Q8: 2.6496982
A9: =(K9/10000*2500)/(E9/100)*10/1000+B9 -> 2.8535714 | B9: =B8 -> 0.62857143 | C9: =C4 -> 4.5 | D9: =D4+1 -> 26 | E9: =E8 -> 70 | F9: =F8 -> 12 | G9: 5 | H9: 10 | I9: =D9-C9-G9 -> 16.5 | J9: =(E9-2*H9-F9)/2 -> 19 | K9: =E9*C9+(D9-C9)*F9+G9*H9 -> 623 | L9: =L8+1 -> 7 | M9: =A9 -> 2.8535714 | N9: =N8 -> 2.9147087 | O9: =M9-N9 -> -0.06113732 | P9: =O9*O9 -> 0.0037377719 | Q9: 2.6506303
A10: =(K10/10000*2500)/(E10/100)*10/1000+B10 -> 2.9571429 | B10: =B9 -> 0.62857143 | C10: =C5 -> 5 | D10: =D5+1 -> 26 | E10: =E9 -> 70 | F10: =F9 -> 12 | G10: 5 | H10: 10 | I10: =D10-C10-G10 -> 16 | J10: =(E10-2*H10-F10)/2 -> 19 | K10: =E10*C10+(D10-C10)*F10+G10*H10 -> 652 | L10: =L9+1 -> 8 | M10: =A10 -> 2.9571429 | N10: =N9 -> 2.9147087 | O10: =M10-N10 -> 0.042434109 | P10: =O10*O10 -> 0.0018006536 | Q10: 2.6642857
A11: =(K11/10000*2500)/(E11/100)*10/1000+B11 -> 3.0607143 | B11: =B10 -> 0.62857143 | C11: =C6 -> 5.5 | D11: =D6+1 -> 26 | E11: =E10 -> 70 | F11: =F10 -> 12 | G11: 5 | H11: 10 | I11: =D11-C11-G11 -> 15.5 | J11: =(E11-2*H11-F11)/2 -> 19 | K11: =E11*C11+(D11-C11)*F11+G11*H11 -> 681 | L11: =L10+1 -> 9 | M11: =A11 -> 3.0607143 | N11: =N10 -> 2.9147087 | O11: =M11-N11 -> 0.14600554 | P11: =O11*O11 -> 0.021317617 | Q11: 2.6771825 | R11: 18
A12: =(K12/10000*2500)/(E12/100)*10/1000+B12 -> 3.1642857 | B12: =B11 -> 0.62857143 | C12: =C7 -> 6 | D12: =D7+1 -> 26 | E12: =E11 -> 70 | F12: =F11 -> 12 | G12: 5 | H12: 10 | I12: =D12-C12-G12 -> 15 | J12: =(E12-2*H12-F12)/2 -> 19 | K12: =E12*C12+(D12-C12)*F12+G12*H12 -> 710 | L12: =L11+1 -> 10 | M12: =A12 -> 3.1642857 | N12: =N11 -> 2.9147087 | O12: =M12-N12 -> 0.24957697 | P12: =O12*O12 -> 0.062288662 | Q12: 2.6792961
A13: =(K13/10000*2500)/(E13/100)*10/1000+B13 -> 2.7928571 | B13: =B12 -> 0.62857143 | C13: =C3 -> 4 | D13: =D3+2 -> 27 | E13: =E12 -> 70 | F13: =F12 -> 12 | G13: 5 | H13: 10 | I13: =D13-C13-G13 -> 18 | J13: =(E13-2*H13-F13)/2 -> 19 | K13: =E13*C13+(D13-C13)*F13+G13*H13 -> 606 | L13: =L12+1 -> 11 | M13: =A13 -> 2.7928571 | N13: =N12 -> 2.9147087 | O13: =M13-N13 -> -0.12185161 | P13: =O13*O13 -> 0.014847814 | Q13: 2.6919517
A14: =(K14/10000*2500)/(E14/100)*10/1000+B14 -> 2.8964286 | B14: =B13 -> 0.62857143 | C14: =C4 -> 4.5 | D14: =D4+2 -> 27 | E14: =E13 -> 70 | F14: =F13 -> 12 | G14: 5 | H14: 10 | I14: =D14-C14-G14 -> 17.5 | J14: =(E14-2*H14-F14)/2 -> 19 | K14: =E14*C14+(D14-C14)*F14+G14*H14 -> 635 | L14: =L13+1 -> 12 | M14: =A14 -> 2.8964286 | N14: =N13 -> 2.9147087 | O14: =M14-N14 -> -0.018280177 | P14: =O14*O14 -> 0.00033416487 | Q14: 2.6947479
A15: =(K15/10000*2500)/(E15/100)*10/1000+B15 -> 3 | B15: =B14 -> 0.62857143 | C15: =C5 -> 5 | D15: =D5+2 -> 27 | E15: =E14 -> 70 | F15: =F14 -> 12 | G15: 5 | H15: 10 | I15: =D15-C15-G15 -> 17 | J15: =(E15-2*H15-F15)/2 -> 19 | K15: =E15*C15+(D15-C15)*F15+G15*H15 -> 664 | L15: =L14+1 -> 13 | M15: =A15 -> 3 | N15: =N14 -> 2.9147087 | O15: =M15-N15 -> 0.085291252 | P15: =O15*O15 -> 0.0072745976 | Q15: 2.6980159
A16: =(K16/10000*2500)/(E16/100)*10/1000+B16 -> 3.1035714 | B16: =B15 -> 0.62857143 | C16: =C6 -> 5.5 | D16: =D6+2 -> 27 | E16: =E15 -> 70 | F16: =F15 -> 12 | G16: 5 | H16: 10 | I16: =D16-C16-G16 -> 16.5 | J16: =(E16-2*H16-F16)/2 -> 19 | K16: =E16*C16+(D16-C16)*F16+G16*H16 -> 693 | L16: =L15+1 -> 14 | M16: =A16 -> 3.1035714 | N16: =N15 -> 2.9147087 | O16: =M16-N16 -> 0.18886268 | P16: =O16*O16 -> 0.035669112 | Q16: 2.7071429
A17: =(K17/10000*2500)/(E17/100)*10/1000+B17 -> 3.2071429 | B17: =B16 -> 0.62857143 | C17: =C7 -> 6 | D17: =D7+2 -> 27 | E17: =E16 -> 70 | F17: =F16 -> 12 | G17: 5 | H17: 10 | I17: =D17-C17-G17 -> 16 | J17: =(E17-2*H17-F17)/2 -> 19 | K17: =E17*C17+(D17-C17)*F17+G17*H17 -> 722 | L17: =L16+1 -> 15 | M17: =A17 -> 3.2071429 | N17: =N16 -> 2.9147087 | O17: =M17-N17 -> 0.29243411 | P17: =O17*O17 -> 0.085517708 | Q17: 2.7113179
A18: =(K18/10000*2500)/(E18/100)*10/1000+B18 -> 2.6642857 | B18: =B17 -> 0.62857143 | C18: =C3 -> 4 | D18: =D3-1 -> 24 | E18: =E17 -> 70 | F18: =F17 -> 12 | G18: 5 | H18: 10 | I18: =D18-C18-G18 -> 15 | J18: =(E18-2*H18-F18)/2 -> 19 | K18: =E18*C18+(D18-C18)*F18+G18*H18 -> 570 | L18: =L17+1 -> 16 | M18: =A18 -> 2.6642857 | N18: =N17 -> 2.9147087 | O18: =M18-N18 -> -0.25042303 | P18: =O18*O18 -> 0.062711696 | Q18: 2.7188492
A19: =(K19/10000*2500)/(E19/100)*10/1000+B19 -> 2.7678571 | B19: =B18 -> 0.62857143 | C19: =C4 -> 4.5 | D19: =D4-1 -> 24 | E19: =E18 -> 70 | F19: =F18 -> 12 | G19: 5 | H19: 10 | I19: =D19-C19-G19 -> 14.5 | J19: =(E19-2*H19-F19)/2 -> 19 | K19: =E19*C19+(D19-C19)*F19+G19*H19 -> 599 | L19: =L18+1 -> 17 | M19: =A19 -> 2.7678571 | N19: =N18 -> 2.9147087 | O19: =M19-N19 -> -0.14685161 | P19: =O19*O19 -> 0.021565394 | Q19: 2.7227743
A20: =(K20/10000*2500)/(E20/100)*10/1000+B20 -> 2.8714286 | B20: =B19 -> 0.62857143 | C20: =C5 -> 5 | D20: =D5-1 -> 24 | E20: =E19 -> 70 | F20: =F19 -> 12 | G20: 5 | H20: 10 | I20: =D20-C20-G20 -> 14 | J20: =(E20-2*H20-F20)/2 -> 19 | K20: =E20*C20+(D20-C20)*F20+G20*H20 -> 628 | L20: =L19+1 -> 18 | M20: =A20 -> 2.8714286 | N20: =N19 -> 2.9147087 | O20: =M20-N20 -> -0.043280177 | P20: =O20*O20 -> 0.0018731737 | Q20: 2.725
A21: =(K21/10000*2500)/(E21/100)*10/1000+B21 -> 2.975 | B21: =B20 -> 0.62857143 | C21: =C6 -> 5.5 | D21: =D6-1 -> 24 | E21: =E20 -> 70 | F21: =F20 -> 12 | G21: 5 | H21: 10 | I21: =D21-C21-G21 -> 13.5 | J21: =(E21-2*H21-F21)/2 -> 19 | K21: =E21*C21+(D21-C21)*F21+G21*H21 -> 657 | L21: =L20+1 -> 19 | M21: =A21 -> 2.975 | N21: =N20 -> 2.9147087 | O21: =M21-N21 -> 0.060291252 | P21: =O21*O21 -> 0.003635035 | Q21: 2.7342052
A22: =(K22/10000*2500)/(E22/100)*10/1000+B22 -> 3.0785714 | B22: =B21 -> 0.62857143 | C22: =C7 -> 6 | D22: =D7-1 -> 24 | E22: =E21 -> 70 | F22: =F21 -> 12 | G22: 5 | H22: 10 | I22: =D22-C22-G22 -> 13 | J22: =(E22-2*H22-F22)/2 -> 19 | K22: =E22*C22+(D22-C22)*F22+G22*H22 -> 686 | L22: =L21+1 -> 20 | M22: =A22 -> 3.0785714 | N22: =N21 -> 2.9147087 | O22: =M22-N22 -> 0.16386268 | P22: =O22*O22 -> 0.026850978 | Q22: 2.7388655
A23: =(K23/10000*2500)/(E23/100)*10/1000+B23 -> 2.6214286 | B23: =B22 -> 0.62857143 | C23: =C3 -> 4 | D23: =D3-2 -> 23 | E23: =E22 -> 70 | F23: =F22 -> 12 | G23: 5 | H23: 10 | I23: =D23-C23-G23 -> 14 | J23: =(E23-2*H23-F23)/2 -> 19 | K23: =E23*C23+(D23-C23)*F23+G23*H23 -> 558 | L23: =L22+1 -> 21 | M23: =A23 -> 2.6214286 | N23: =N22 -> 2.9147087 | O23: =M23-N23 -> -0.29328018 | P23: =O23*O23 -> 0.086013262 | Q23: 2.7390787
A24: =(K24/10000*2500)/(E24/100)*10/1000+B24 -> 2.725 | B24: =B23 -> 0.62857143 | C24: =C4 -> 4.5 | D24: =D4-2 -> 23 | E24: =E23 -> 70 | F24: =F23 -> 12 | G24: 5 | H24: 10 | I24: =D24-C24-G24 -> 13.5 | J24: =(E24-2*H24-F24)/2 -> 19 | K24: =E24*C24+(D24-C24)*F24+G24*H24 -> 587 | L24: =L23+1 -> 22 | M24: =A24 -> 2.725 | N24: =N23 -> 2.9147087 | O24: =M24-N24 -> -0.18970875 | P24: =O24*O24 -> 0.035989409 | Q24: 2.7396825
A25: =(K25/10000*2500)/(E25/100)*10/1000+B25 -> 2.8285714 | B25: =B24 -> 0.62857143 | C25: =C5 -> 5 | D25: =D5-2 -> 23 | E25: =E24 -> 70 | F25: =F24 -> 12 | G25: 5 | H25: 10 | I25: =D25-C25-G25 -> 13 | J25: =(E25-2*H25-F25)/2 -> 19 | K25: =E25*C25+(D25-C25)*F25+G25*H25 -> 616 | L25: =L24+1 -> 23 | M25: =A25 -> 2.8285714 | N25: =N24 -> 2.9147087 | O25: =M25-N25 -> -0.08613732 | P25: =O25*O25 -> 0.0074196379 | Q25: 2.75
A26: =(K26/10000*2500)/(E26/100)*10/1000+B26 -> 2.9321429 | B26: =B25 -> 0.62857143 | C26: =C6 -> 5.5 | D26: =D6-2 -> 23 | E26: =E25 -> 70 | F26: =F25 -> 12 | G26: 5 | H26: 10 | I26: =D26-C26-G26 -> 12.5 | J26: =(E26-2*H26-F26)/2 -> 19 | K26: =E26*C26+(D26-C26)*F26+G26*H26 -> 645 | L26: =L25+1 -> 24 | M26: =A26 -> 2.9321429 | N26: =N25 -> 2.9147087 | O26: =M26-N26 -> 0.017434109 | P26: =O26*O26 -> 0.00030394815 | Q26: 2.7535714
A27: =(K27/10000*2500)/(E27/100)*10/1000+B27 -> 3.0357143 | B27: =B26 -> 0.62857143 | C27: =C7 -> 6 | D27: =D7-2 -> 23 | E27: =E26 -> 70 | F27: =F26 -> 12 | G27: 5 | H27: 10 | I27: =D27-C27-G27 -> 12 | J27: =(E27-2*H27-F27)/2 -> 19 | K27: =E27*C27+(D27-C27)*F27+G27*H27 -> 674 | L27: =L26+1 -> 25 | M27: =A27 -> 3.0357143 | N27: =N26 -> 2.9147087 | O27: =M27-N27 -> 0.12100554 | P27: =O27*O27 -> 0.01464234 | Q27: 2.7535714
L28: =L27+1 -> 26 | M28: =A31 -> 2.6919517 | N28: =N27 -> 2.9147087 | O28: =M28-N28 -> -0.22275704 | P28: =O28*O28 -> 0.049620698 | Q28: 2.7605159
A29: P. Forjado | B29: Aligeramiento | C29: h0 | D29: h | E29: b | F29: b0 | G29: h1 | H29: b1 | I29: h2 | J29: b2 | K29: Area | L29: =L28+1 -> 27 | M29: =A32 -> 2.7958249 | N29: =N28 -> 2.9147087 | O29: =M29-N29 -> -0.1188838 | P29: =O29*O29 -> 0.014133358 | Q29: 2.7662526 | R29: 25
A30: kN/m2 | B30: kN/m2 | C30: cm | D30: cm | E30: cm | F30: cm | G30: cm | H30: cm | I30: cm | J30: cm | K30: cm2 | L30: =L29+1 -> 28 | M30: =A33 -> 2.8996982 | N30: =N29 -> 2.9147087 | O30: =M30-N30 -> -0.015010559 | P30: =O30*O30 -> 0.00022531689 | Q30: 2.7678571
A31: =(K31/10000*2500)/(E31/100)*10/1000+B31 -> 2.6919517 | B31: =I145 -> 0.62857143 | C31: =C3 -> 4 | D31: =D3 -> 25 | E31: =E3+1 -> 71 | F31: =F3 -> 12 | G31: 5 | H31: 10 | I31: =D31-C31-G31 -> 16 | J31: =(E31-2*H31-F31)/2 -> 19.5 | K31: =E31*C31+(D31-C31)*F31+G31*H31 -> 586 | L31: =L30+1 -> 29 | M31: =A34 -> 3.0035714 | N31: =N30 -> 2.9147087 | O31: =M31-N31 -> 0.08886268 | P31: =O31*O31 -> 0.0078965759 | Q31: 2.7764588
A32: =(K32/10000*2500)/(E32/100)*10/1000+B32 -> 2.7958249 | B32: =B31 -> 0.62857143 | C32: =C4 -> 4.5 | D32: =D4 -> 25 | E32: =E31 -> 71 | F32: =F4 -> 12 | G32: 5 | H32: 10 | I32: =D32-C32-G32 -> 15.5 | J32: =(E32-2*H32-F32)/2 -> 19.5 | K32: =E32*C32+(D32-C32)*F32+G32*H32 -> 615.5 | L32: =L31+1 -> 30 | M32: =A35 -> 3.1074447 | N32: =N31 -> 2.9147087 | O32: =M32-N32 -> 0.19273592 | P32: =O32*O32 -> 0.037147135 | Q32: 2.7813492
A33: =(K33/10000*2500)/(E33/100)*10/1000+B33 -> 2.8996982 | B33: =B32 -> 0.62857143 | C33: =C5 -> 5 | D33: =D5 -> 25 | E33: =E32 -> 71 | F33: =F5 -> 12 | G33: 5 | H33: 10 | I33: =D33-C33-G33 -> 15 | J33: =(E33-2*H33-F33)/2 -> 19.5 | K33: =E33*C33+(D33-C33)*F33+G33*H33 -> 645 | L33: =L32+1 -> 31 | M33: =A36 -> 2.7342052 | N33: =N32 -> 2.9147087 | O33: =M33-N33 -> -0.18050352 | P33: =O33*O33 -> 0.03258152 | Q33: 2.7825569
A34: =(K34/10000*2500)/(E34/100)*10/1000+B34 -> 3.0035714 | B34: =B33 -> 0.62857143 | C34: =C6 -> 5.5 | D34: =D6 -> 25 | E34: =E33 -> 71 | F34: =F6 -> 12 | G34: 5 | H34: 10 | I34: =D34-C34-G34 -> 14.5 | J34: =(E34-2*H34-F34)/2 -> 19.5 | K34: =E34*C34+(D34-C34)*F34+G34*H34 -> 674.5 | L34: =L33+1 -> 32 | M34: =A37 -> 2.8380785 | N34: =N33 -> 2.9147087 | O34: =M34-N34 -> -0.076630278 | P34: =O34*O34 -> 0.0058721994 | Q34: 2.7829832
A35: =(K35/10000*2500)/(E35/100)*10/1000+B35 -> 3.1074447 | B35: =B34 -> 0.62857143 | C35: =C7 -> 6 | D35: =D7 -> 25 | E35: =E34 -> 71 | F35: =F7 -> 12 | G35: 5 | H35: 10 | I35: =D35-C35-G35 -> 14 | J35: =(E35-2*H35-F35)/2 -> 19.5 | K35: =E35*C35+(D35-C35)*F35+G35*H35 -> 704 | L35: =L34+1 -> 33 | M35: =A38 -> 2.9419517 | N35: =N34 -> 2.9147087 | O35: =M35-N35 -> 0.027242962 | P35: =O35*O35 -> 0.00074217897 | Q35: 2.7928571
A36: =(K36/10000*2500)/(E36/100)*10/1000+B36 -> 2.7342052 | B36: =B35 -> 0.62857143 | C36: =C8 -> 4 | D36: =D8 -> 26 | E36: =E35 -> 71 | F36: =F8 -> 12 | G36: 5 | H36: 10 | I36: =D36-C36-G36 -> 17 | J36: =(E36-2*H36-F36)/2 -> 19.5 | K36: =E36*C36+(D36-C36)*F36+G36*H36 -> 598 | L36: =L35+1 -> 34 | M36: =A39 -> 3.0458249 | N36: =N35 -> 2.9147087 | O36: =M36-N36 -> 0.1311162 | P36: =O36*O36 -> 0.017191458 | Q36: 2.7958249
A37: =(K37/10000*2500)/(E37/100)*10/1000+B37 -> 2.8380785 | B37: =B36 -> 0.62857143 | C37: =C9 -> 4.5 | D37: =D9 -> 26 | E37: =E36 -> 71 | F37: =F9 -> 12 | G37: 5 | H37: 10 | I37: =D37-C37-G37 -> 16.5 | J37: =(E37-2*H37-F37)/2 -> 19.5 | K37: =E37*C37+(D37-C37)*F37+G37*H37 -> 627.5 | L37: =L36+1 -> 35 | M37: =A40 -> 3.1496982 | N37: =N36 -> 2.9147087 | O37: =M37-N37 -> 0.23498944 | P37: =O37*O37 -> 0.055220037 | Q37: 2.7976891
A38: =(K38/10000*2500)/(E38/100)*10/1000+B38 -> 2.9419517 | B38: =B37 -> 0.62857143 | C38: =C10 -> 5 | D38: =D10 -> 26 | E38: =E37 -> 71 | F38: =F10 -> 12 | G38: 5 | H38: 10 | I38: =D38-C38-G38 -> 16 | J38: =(E38-2*H38-F38)/2 -> 19.5 | K38: =E38*C38+(D38-C38)*F38+G38*H38 -> 657 | L38: =L37+1 -> 36 | M38: =A41 -> 2.7764588 | N38: =N37 -> 2.9147087 | O38: =M38-N38 -> -0.13825 | P38: =O38*O38 -> 0.019113061 | Q38: 2.8021825
A39: =(K39/10000*2500)/(E39/100)*10/1000+B39 -> 3.0458249 | B39: =B38 -> 0.62857143 | C39: =C11 -> 5.5 | D39: =D11 -> 26 | E39: =E38 -> 71 | F39: =F11 -> 12 | G39: 5 | H39: 10 | I39: =D39-C39-G39 -> 15.5 | J39: =(E39-2*H39-F39)/2 -> 19.5 | K39: =E39*C39+(D39-C39)*F39+G39*H39 -> 686.5 | L39: =L38+1 -> 37 | M39: =A42 -> 2.880332 | N39: =N38 -> 2.9147087 | O39: =M39-N39 -> -0.034376756 | P39: =O39*O39 -> 0.0011817614 | Q39: 2.8097308
A40: =(K40/10000*2500)/(E40/100)*10/1000+B40 -> 3.1496982 | B40: =B39 -> 0.62857143 | C40: =C12 -> 6 | D40: =D12 -> 26 | E40: =E39 -> 71 | F40: =F12 -> 12 | G40: 5 | H40: 10 | I40: =D40-C40-G40 -> 15 | J40: =(E40-2*H40-F40)/2 -> 19.5 | K40: =E40*C40+(D40-C40)*F40+G40*H40 -> 716 | L40: =L39+1 -> 38 | M40: =A43 -> 2.9842052 | N40: =N39 -> 2.9147087 | O40: =M40-N40 -> 0.069496483 | P40: =O40*O40 -> 0.0048297612 | Q40: 2.8107143
...

Sheet Canto 20
A1: P. Forjado | B1: Aligeramiento | C1: h0 | D1: h | E1: b | F1: b0 | G1: h1 | H1: b1 | I1: h2 | J1: b2 | K1: Area | L1: Nº de Orden | M1: Valores | N1: Media | O1: Desv. | P1: Des2 | Q1: Valores
A2: kN/m2 | B2: kN/m2 | C2: cm | D2: cm | E2: cm | F2: cm | G2: cm | H2: cm | I2: cm | J2: cm | K2: cm2 | L2: - | M2: kN/m2 | N2: kN/m2 | O2: kN/m2 | P2: - | Q2: kN/m2
A3: =(K3/10000*2500)/(E3/100)*10/1000+B3 -> 2.4357143 | B3: =I145 -> 0.57142857 | C3: =C4-0.5 -> 4 | D3: =C144 -> 20 | E3: =D144 -> 70 | F3: =E144 -> 12 | G3: 5 | H3: 10 | I3: =D3-C3-G3 -> 11 | J3: =(E3-2*H3-F3)/2 -> 19 | K3: =E3*C3+(D3-C3)*F3+G3*H3 -> 522 | L3: =1 -> 1 | M3: =A3 -> 2.4357143 | N3: =M129 -> 2.6431927 | O3: =M3-N3 -> -0.20747837 | P3: =O3*O3 -> 0.043047273 | Q3: 2.328373
A4: =(K4/10000*2500)/(E4/100)*10/1000+B4 -> 2.5392857 | B4: =B3 -> 0.57142857 | C4: =C5-0.5 -> 4.5 | D4: =D3 -> 20 | E4: =E3 -> 70 | F4: =F3 -> 12 | G4: 5 | H4: 10 | I4: =D4-C4-G4 -> 10.5 | J4: =(E4-2*H4-F4)/2 -> 19 | K4: =E4*C4+(D4-C4)*F4+G4*H4 -> 551 | L4: =L3+1 -> 2 | M4: =A4 -> 2.5392857 | N4: =N3 -> 2.6431927 | O4: =M4-N4 -> -0.10390694 | P4: =O4*O4 -> 0.010796652 | Q4: 2.3390342
A5: =(K5/10000*2500)/(E5/100)*10/1000+B5 -> 2.6428571 | B5: =B4 -> 0.57142857 | C5: =B144 -> 5 | D5: =D4 -> 20 | E5: =E4 -> 70 | F5: =F4 -> 12 | G5: 5 | H5: 10 | I5: =D5-C5-G5 -> 10 | J5: =(E5-2*H5-F5)/2 -> 19 | K5: =E5*C5+(D5-C5)*F5+G5*H5 -> 580 | L5: =L4+1 -> 3 | M5: =A5 -> 2.6428571 | N5: =N4 -> 2.6431927 | O5: =M5-N5 -> -0.00033550979 | P5: =O5*O5 -> 1.1256682e-07 | Q5: 2.35
A6: =(K6/10000*2500)/(E6/100)*10/1000+B6 -> 2.7464286 | B6: =B5 -> 0.57142857 | C6: =C5+0.5 -> 5.5 | D6: =D5 -> 20 | E6: =E5 -> 70 | F6: =F5 -> 12 | G6: 5 | H6: 10 | I6: =D6-C6-G6 -> 9.5 | J6: =(E6-2*H6-F6)/2 -> 19 | K6: =E6*C6+(D6-C6)*F6+G6*H6 -> 609 | L6: =L5+1 -> 4 | M6: =A6 -> 2.7464286 | N6: =N5 -> 2.6431927 | O6: =M6-N6 -> 0.10323592 | P6: =O6*O6 -> 0.010657655 | Q6: 2.3612836
A7: =(K7/10000*2500)/(E7/100)*10/1000+B7 -> 2.85 | B7: =B6 -> 0.57142857 | C7: =C6+0.5 -> 6 | D7: =D6 -> 20 | E7: =E6 -> 70 | F7: =F6 -> 12 | G7: 5 | H7: 10 | I7: =D7-C7-G7 -> 9 | J7: =(E7-2*H7-F7)/2 -> 19 | K7: =E7*C7+(D7-C7)*F7+G7*H7 -> 638 | L7: =L6+1 -> 5 | M7: =A7 -> 2.85 | N7: =N6 -> 2.6431927 | O7: =M7-N7 -> 0.20680735 | P7: =O7*O7 -> 0.042769279 | Q7: 2.3700397
A8: =(K8/10000*2500)/(E8/100)*10/1000+B8 -> 2.4785714 | B8: =B7 -> 0.57142857 | C8: =C3 -> 4 | D8: =D3+1 -> 21 | E8: =E7 -> 70 | F8: =F7 -> 12 | G8: 5 | H8: 10 | I8: =D8-C8-G8 -> 12 | J8: =(E8-2*H8-F8)/2 -> 19 | K8: =E8*C8+(D8-C8)*F8+G8*H8 -> 534 | L8: =L7+1 -> 6 | M8: =A8 -> 2.4785714 | N8: =N7 -> 2.6431927 | O8: =M8-N8 -> -0.16462122 | P8: =O8*O8 -> 0.027100147 | Q8: 2.3728992
A9: =(K9/10000*2500)/(E9/100)*10/1000+B9 -> 2.5821429 | B9: =B8 -> 0.57142857 | C9: =C4 -> 4.5 | D9: =D4+1 -> 21 | E9: =E8 -> 70 | F9: =F8 -> 12 | G9: 5 | H9: 10 | I9: =D9-C9-G9 -> 11.5 | J9: =(E9-2*H9-F9)/2 -> 19 | K9: =E9*C9+(D9-C9)*F9+G9*H9 -> 563 | L9: =L8+1 -> 7 | M9: =A9 -> 2.5821429 | N9: =N8 -> 2.6431927 | O9: =M9-N9 -> -0.061049796 | P9: =O9*O9 -> 0.0037270775 | Q9: 2.3812877
A10: =(K10/10000*2500)/(E10/100)*10/1000+B10 -> 2.6857143 | B10: =B9 -> 0.57142857 | C10: =C5 -> 5 | D10: =D5+1 -> 21 | E10: =E9 -> 70 | F10: =F9 -> 12 | G10: 5 | H10: 10 | I10: =D10-C10-G10 -> 11 | J10: =(E10-2*H10-F10)/2 -> 19 | K10: =E10*C10+(D10-C10)*F10+G10*H10 -> 592 | L10: =L9+1 -> 8 | M10: =A10 -> 2.6857143 | N10: =N9 -> 2.6431927 | O10: =M10-N10 -> 0.042521633 | P10: =O10*O10 -> 0.0018080893 | Q10: 2.3928571
A11: =(K11/10000*2500)/(E11/100)*10/1000+B11 -> 2.7892857 | B11: =B10 -> 0.57142857 | C11: =C6 -> 5.5 | D11: =D6+1 -> 21 | E11: =E10 -> 70 | F11: =F10 -> 12 | G11: 5 | H11: 10 | I11: =D11-C11-G11 -> 10.5 | J11: =(E11-2*H11-F11)/2 -> 19 | K11: =E11*C11+(D11-C11)*F11+G11*H11 -> 621 | L11: =L10+1 -> 9 | M11: =A11 -> 2.7892857 | N11: =N10 -> 2.6431927 | O11: =M11-N11 -> 0.14609306 | P11: =O11*O11 -> 0.021343183 | Q11: 2.4047619
A12: =(K12/10000*2500)/(E12/100)*10/1000+B12 -> 2.8928571 | B12: =B11 -> 0.57142857 | C12: =C7 -> 6 | D12: =D7+1 -> 21 | E12: =E11 -> 70 | F12: =F11 -> 12 | G12: 5 | H12: 10 | I12: =D12-C12-G12 -> 10 | J12: =(E12-2*H12-F12)/2 -> 19 | K12: =E12*C12+(D12-C12)*F12+G12*H12 -> 650 | L12: =L11+1 -> 10 | M12: =A12 -> 2.8928571 | N12: =N11 -> 2.6431927 | O12: =M12-N12 -> 0.24966449 | P12: =O12*O12 -> 0.062332358 | Q12: 2.4117063
A13: =(K13/10000*2500)/(E13/100)*10/1000+B13 -> 2.5214286 | B13: =B12 -> 0.57142857 | C13: =C3 -> 4 | D13: =D3+2 -> 22 | E13: =E12 -> 70 | F13: =F12 -> 12 | G13: 5 | H13: 10 | I13: =D13-C13-G13 -> 13 | J13: =(E13-2*H13-F13)/2 -> 19 | K13: =E13*C13+(D13-C13)*F13+G13*H13 -> 546 | L13: =L12+1 -> 11 | M13: =A13 -> 2.5214286 | N13: =N12 -> 2.6431927 | O13: =M13-N13 -> -0.12176408 | P13: =O13*O13 -> 0.014826491 | Q13: 2.4170168
A14: =(K14/10000*2500)/(E14/100)*10/1000+B14 -> 2.625 | B14: =B13 -> 0.57142857 | C14: =C4 -> 4.5 | D14: =D4+2 -> 22 | E14: =E13 -> 70 | F14: =F13 -> 12 | G14: 5 | H14: 10 | I14: =D14-C14-G14 -> 12.5 | J14: =(E14-2*H14-F14)/2 -> 19 | K14: =E14*C14+(D14-C14)*F14+G14*H14 -> 575 | L14: =L13+1 -> 12 | M14: =A14 -> 2.625 | N14: =N13 -> 2.6431927 | O14: =M14-N14 -> -0.018192653 | P14: =O14*O14 -> 0.00033097261 | Q14: 2.4235412
A15: =(K15/10000*2500)/(E15/100)*10/1000+B15 -> 2.7285714 | B15: =B14 -> 0.57142857 | C15: =C5 -> 5 | D15: =D5+2 -> 22 | E15: =E14 -> 70 | F15: =F14 -> 12 | G15: 5 | H15: 10 | I15: =D15-C15-G15 -> 12 | J15: =(E15-2*H15-F15)/2 -> 19 | K15: =E15*C15+(D15-C15)*F15+G15*H15 -> 604 | L15: =L14+1 -> 13 | M15: =A15 -> 2.7285714 | N15: =N14 -> 2.6431927 | O15: =M15-N15 -> 0.085378776 | P15: =O15*O15 -> 0.0072895354 | Q15: 2.4325397
A16: =(K16/10000*2500)/(E16/100)*10/1000+B16 -> 2.8321429 | B16: =B15 -> 0.57142857 | C16: =C6 -> 5.5 | D16: =D6+2 -> 22 | E16: =E15 -> 70 | F16: =F15 -> 12 | G16: 5 | H16: 10 | I16: =D16-C16-G16 -> 11.5 | J16: =(E16-2*H16-F16)/2 -> 19 | K16: =E16*C16+(D16-C16)*F16+G16*H16 -> 633 | L16: =L15+1 -> 14 | M16: =A16 -> 2.8321429 | N16: =N15 -> 2.6431927 | O16: =M16-N16 -> 0.1889502 | P16: =O16*O16 -> 0.03570218 | Q16: 2.4357143
A17: =(K17/10000*2500)/(E17/100)*10/1000+B17 -> 2.9357143 | B17: =B16 -> 0.57142857 | C17: =C7 -> 6 | D17: =D7+2 -> 22 | E17: =E16 -> 70 | F17: =F16 -> 12 | G17: 5 | H17: 10 | I17: =D17-C17-G17 -> 11 | J17: =(E17-2*H17-F17)/2 -> 19 | K17: =E17*C17+(D17-C17)*F17+G17*H17 -> 662 | L17: =L16+1 -> 15 | M17: =A17 -> 2.9357143 | N17: =N16 -> 2.6431927 | O17: =M17-N17 -> 0.29252163 | P17: =O17*O17 -> 0.085568906 | Q17: 2.4429074
A18: =(K18/10000*2500)/(E18/100)*10/1000+B18 -> 2.3928571 | B18: =B17 -> 0.57142857 | C18: =C3 -> 4 | D18: =D3-1 -> 19 | E18: =E17 -> 70 | F18: =F17 -> 12 | G18: 5 | H18: 10 | I18: =D18-C18-G18 -> 10 | J18: =(E18-2*H18-F18)/2 -> 19 | K18: =E18*C18+(D18-C18)*F18+G18*H18 -> 510 | L18: =L17+1 -> 16 | M18: =A18 -> 2.3928571 | N18: =N17 -> 2.6431927 | O18: =M18-N18 -> -0.25033551 | P18: =O18*O18 -> 0.062667867 | Q18: 2.4482402
A19: =(K19/10000*2500)/(E19/100)*10/1000+B19 -> 2.4964286 | B19: =B18 -> 0.57142857 | C19: =C4 -> 4.5 | D19: =D4-1 -> 19 | E19: =E18 -> 70 | F19: =F18 -> 12 | G19: 5 | H19: 10 | I19: =D19-C19-G19 -> 9.5 | J19: =(E19-2*H19-F19)/2 -> 19 | K19: =E19*C19+(D19-C19)*F19+G19*H19 -> 539 | L19: =L18+1 -> 17 | M19: =A19 -> 2.4964286 | N19: =N18 -> 2.6431927 | O19: =M19-N19 -> -0.14676408 | P19: =O19*O19 -> 0.021539696 | Q19: 2.453373
A20: =(K20/10000*2500)/(E20/100)*10/1000+B20 -> 2.6 | B20: =B19 -> 0.57142857 | C20: =C5 -> 5 | D20: =D5-1 -> 19 | E20: =E19 -> 70 | F20: =F19 -> 12 | G20: 5 | H20: 10 | I20: =D20-C20-G20 -> 9 | J20: =(E20-2*H20-F20)/2 -> 19 | K20: =E20*C20+(D20-C20)*F20+G20*H20 -> 568 | L20: =L19+1 -> 18 | M20: =A20 -> 2.6 | N20: =N19 -> 2.6431927 | O20: =M20-N20 -> -0.043192653 | P20: =O20*O20 -> 0.0018656052 | Q20: 2.4535714
A21: =(K21/10000*2500)/(E21/100)*10/1000+B21 -> 2.7035714 | B21: =B20 -> 0.57142857 | C21: =C6 -> 5.5 | D21: =D6-1 -> 19 | E21: =E20 -> 70 | F21: =F20 -> 12 | G21: 5 | H21: 10 | I21: =D21-C21-G21 -> 8.5 | J21: =(E21-2*H21-F21)/2 -> 19 | K21: =E21*C21+(D21-C21)*F21+G21*H21 -> 597 | L21: =L20+1 -> 19 | M21: =A21 -> 2.7035714 | N21: =N20 -> 2.6431927 | O21: =M21-N21 -> 0.060378776 | P21: =O21*O21 -> 0.0036455966 | Q21: 2.4611345
A22: =(K22/10000*2500)/(E22/100)*10/1000+B22 -> 2.8071429 | B22: =B21 -> 0.57142857 | C22: =C7 -> 6 | D22: =D7-1 -> 19 | E22: =E21 -> 70 | F22: =F21 -> 12 | G22: 5 | H22: 10 | I22: =D22-C22-G22 -> 8 | J22: =(E22-2*H22-F22)/2 -> 19 | K22: =E22*C22+(D22-C22)*F22+G22*H22 -> 626 | L22: =L21+1 -> 20 | M22: =A22 -> 2.8071429 | N22: =N21 -> 2.6431927 | O22: =M22-N22 -> 0.1639502 | P22: =O22*O22 -> 0.02687967 | Q22: 2.4645445
A23: =(K23/10000*2500)/(E23/100)*10/1000+B23 -> 2.35 | B23: =B22 -> 0.57142857 | C23: =C3 -> 4 | D23: =D3-2 -> 18 | E23: =E22 -> 70 | F23: =F22 -> 12 | G23: 5 | H23: 10 | I23: =D23-C23-G23 -> 9 | J23: =(E23-2*H23-F23)/2 -> 19 | K23: =E23*C23+(D23-C23)*F23+G23*H23 -> 498 | L23: =L22+1 -> 21 | M23: =A23 -> 2.35 | N23: =N22 -> 2.6431927 | O23: =M23-N23 -> -0.29319265 | P23: =O23*O23 -> 0.085961932 | Q23: 2.4657948
A24: =(K24/10000*2500)/(E24/100)*10/1000+B24 -> 2.4535714 | B24: =B23 -> 0.57142857 | C24: =C4 -> 4.5 | D24: =D4-2 -> 18 | E24: =E23 -> 70 | F24: =F23 -> 12 | G24: 5 | H24: 10 | I24: =D24-C24-G24 -> 8.5 | J24: =(E24-2*H24-F24)/2 -> 19 | K24: =E24*C24+(D24-C24)*F24+G24*H24 -> 527 | L24: =L23+1 -> 22 | M24: =A24 -> 2.4535714 | N24: =N23 -> 2.6431927 | O24: =M24-N24 -> -0.18962122 | P24: =O24*O24 -> 0.035956209 | Q24: 2.4742063
A25: =(K25/10000*2500)/(E25/100)*10/1000+B25 -> 2.5571429 | B25: =B24 -> 0.57142857 | C25: =C5 -> 5 | D25: =D5-2 -> 18 | E25: =E24 -> 70 | F25: =F24 -> 12 | G25: 5 | H25: 10 | I25: =D25-C25-G25 -> 8 | J25: =(E25-2*H25-F25)/2 -> 19 | K25: =E25*C25+(D25-C25)*F25+G25*H25 -> 556 | L25: =L24+1 -> 23 | M25: =A25 -> 2.5571429 | N25: =N24 -> 2.6431927 | O25: =M25-N25 -> -0.086049796 | P25: =O25*O25 -> 0.0074045673 | Q25: 2.4758403
A26: =(K26/10000*2500)/(E26/100)*10/1000+B26 -> 2.6607143 | B26: =B25 -> 0.57142857 | C26: =C6 -> 5.5 | D26: =D6-2 -> 18 | E26: =E25 -> 70 | F26: =F25 -> 12 | G26: 5 | H26: 10 | I26: =D26-C26-G26 -> 7.5 | J26: =(E26-2*H26-F26)/2 -> 19 | K26: =E26*C26+(D26-C26)*F26+G26*H26 -> 585 | L26: =L25+1 -> 24 | M26: =A26 -> 2.6607143 | N26: =N25 -> 2.6431927 | O26: =M26-N26 -> 0.017521633 | P26: =O26*O26 -> 0.00030700763 | Q26: 2.4785714
A27: =(K27/10000*2500)/(E27/100)*10/1000+B27 -> 2.7642857 | B27: =B26 -> 0.57142857 | C27: =C7 -> 6 | D27: =D7-2 -> 18 | E27: =E26 -> 70 | F27: =F26 -> 12 | G27: 5 | H27: 10 | I27: =D27-C27-G27 -> 7 | J27: =(E27-2*H27-F27)/2 -> 19 | K27: =E27*C27+(D27-C27)*F27+G27*H27 -> 614 | L27: =L26+1 -> 25 | M27: =A27 -> 2.7642857 | N27: =N26 -> 2.6431927 | O27: =M27-N27 -> 0.12109306 | P27: =O27*O27 -> 0.01466353 | Q27: 2.485161
L28: =L27+1 -> 26 | M28: =A31 -> 2.4235412 | N28: =N27 -> 2.6431927 | O28: =M28-N28 -> -0.21965141 | P28: =O28*O28 -> 0.04824674 | Q28: 2.4917184
A29: P. Forjado | B29: Aligeramiento | C29: h0 | D29: h | E29: b | F29: b0 | G29: h1 | H29: b1 | I29: h2 | J29: b2 | K29: Area | L29: =L28+1 -> 27 | M29: =A32 -> 2.5274145 | N29: =N28 -> 2.6431927 | O29: =M29-N29 -> -0.11577817 | P29: =O29*O29 -> 0.013404584 | Q29: 2.4950397
A30: kN/m2 | B30: kN/m2 | C30: cm | D30: cm | E30: cm | F30: cm | G30: cm | H30: cm | I30: cm | J30: cm | K30: cm2 | L30: =L29+1 -> 28 | M30: =A33 -> 2.6312877 | N30: =N29 -> 2.6431927 | O30: =M30-N30 -> -0.011904926 | P30: =O30*O30 -> 0.00014172727 | Q30: 2.4964286
A31: =(K31/10000*2500)/(E31/100)*10/1000+B31 -> 2.4235412 | B31: =I145 -> 0.57142857 | C31: =C3 -> 4 | D31: =D3 -> 20 | E31: =E3+1 -> 71 | F31: =F3 -> 12 | G31: 5 | H31: 10 | I31: =D31-C31-G31 -> 11 | J31: =(E31-2*H31-F31)/2 -> 19.5 | K31: =E31*C31+(D31-C31)*F31+G31*H31 -> 526 | L31: =L30+1 -> 29 | M31: =A34 -> 2.735161 | N31: =N30 -> 2.6431927 | O31: =M31-N31 -> 0.091968313 | P31: =O31*O31 -> 0.0084581706 | Q31: 2.5052521
A32: =(K32/10000*2500)/(E32/100)*10/1000+B32 -> 2.5274145 | B32: =B31 -> 0.57142857 | C32: =C4 -> 4.5 | D32: =D4 -> 20 | E32: =E31 -> 71 | F32: =F4 -> 12 | G32: 5 | H32: 10 | I32: =D32-C32-G32 -> 10.5 | J32: =(E32-2*H32-F32)/2 -> 19.5 | K32: =E32*C32+(D32-C32)*F32+G32*H32 -> 555.5 | L32: =L31+1 -> 30 | M32: =A35 -> 2.8390342 | N32: =N31 -> 2.6431927 | O32: =M32-N32 -> 0.19584155 | P32: =O32*O32 -> 0.038353914 | Q32: 2.5080228
A33: =(K33/10000*2500)/(E33/100)*10/1000+B33 -> 2.6312877 | B33: =B32 -> 0.57142857 | C33: =C5 -> 5 | D33: =D5 -> 20 | E33: =E32 -> 71 | F33: =F5 -> 12 | G33: 5 | H33: 10 | I33: =D33-C33-G33 -> 10 | J33: =(E33-2*H33-F33)/2 -> 19.5 | K33: =E33*C33+(D33-C33)*F33+G33*H33 -> 585 | L33: =L32+1 -> 31 | M33: =A36 -> 2.4657948 | N33: =N32 -> 2.6431927 | O33: =M33-N33 -> -0.17739788 | P33: =O33*O33 -> 0.031470009 | Q33: 2.5080483
